BEGIN:VCALENDAR
VERSION:2.0
PRODID:-//jEvents 2.0 for Joomla//EN
CALSCALE:GREGORIAN
METHOD:PUBLISH
BEGIN:VTIMEZONE
TZID:Europe/Paris
BEGIN:STANDARD
DTSTART:20101216T000000
RDATE:20110327T030000
TZOFFSETFROM:+0200
TZOFFSETTO:+0100
TZNAME:Europe/Paris CET
END:STANDARD
BEGIN:STANDARD
DTSTART:20111030T020000
RDATE:20120325T030000
TZOFFSETFROM:+0200
TZOFFSETTO:+0100
TZNAME:Europe/Paris CET
END:STANDARD
BEGIN:STANDARD
DTSTART:20121028T020000
RDATE:20130331T030000
TZOFFSETFROM:+0200
TZOFFSETTO:+0100
TZNAME:Europe/Paris CET
END:STANDARD
BEGIN:STANDARD
DTSTART:20131027T020000
RDATE:20140330T030000
TZOFFSETFROM:+0200
TZOFFSETTO:+0100
TZNAME:Europe/Paris CET
END:STANDARD
BEGIN:STANDARD
DTSTART:20141026T020000
RDATE:20150329T030000
TZOFFSETFROM:+0200
TZOFFSETTO:+0100
TZNAME:Europe/Paris CET
END:STANDARD
BEGIN:STANDARD
DTSTART:20151025T020000
RDATE:20160327T030000
TZOFFSETFROM:+0200
TZOFFSETTO:+0100
TZNAME:Europe/Paris CET
END:STANDARD
BEGIN:STANDARD
DTSTART:20161030T020000
RDATE:20170326T030000
TZOFFSETFROM:+0200
TZOFFSETTO:+0100
TZNAME:Europe/Paris CET
END:STANDARD
BEGIN:STANDARD
DTSTART:20171029T020000
RDATE:20180325T030000
TZOFFSETFROM:+0200
TZOFFSETTO:+0100
TZNAME:Europe/Paris CET
END:STANDARD
BEGIN:STANDARD
DTSTART:20181028T020000
RDATE:20190331T030000
TZOFFSETFROM:+0200
TZOFFSETTO:+0100
TZNAME:Europe/Paris CET
END:STANDARD
BEGIN:STANDARD
DTSTART:20191027T020000
RDATE:20200329T030000
TZOFFSETFROM:+0200
TZOFFSETTO:+0100
TZNAME:Europe/Paris CET
END:STANDARD
BEGIN:STANDARD
DTSTART:20201025T020000
RDATE:20210328T030000
TZOFFSETFROM:+0200
TZOFFSETTO:+0100
TZNAME:Europe/Paris CET
END:STANDARD
BEGIN:STANDARD
DTSTART:20211031T020000
RDATE:20220327T030000
TZOFFSETFROM:+0200
TZOFFSETTO:+0100
TZNAME:Europe/Paris CET
END:STANDARD
BEGIN:STANDARD
DTSTART:20221030T020000
RDATE:20230326T030000
TZOFFSETFROM:+0200
TZOFFSETTO:+0100
TZNAME:Europe/Paris CET
END:STANDARD
BEGIN:STANDARD
DTSTART:20231029T020000
RDATE:20240331T030000
TZOFFSETFROM:+0200
TZOFFSETTO:+0100
TZNAME:Europe/Paris CET
END:STANDARD
BEGIN:STANDARD
DTSTART:20241027T020000
RDATE:20250330T030000
TZOFFSETFROM:+0200
TZOFFSETTO:+0100
TZNAME:Europe/Paris CET
END:STANDARD
BEGIN:STANDARD
DTSTART:20251026T020000
RDATE:20260329T030000
TZOFFSETFROM:+0200
TZOFFSETTO:+0100
TZNAME:Europe/Paris CET
END:STANDARD
BEGIN:STANDARD
DTSTART:20261025T020000
RDATE:20270328T030000
TZOFFSETFROM:+0200
TZOFFSETTO:+0100
TZNAME:Europe/Paris CET
END:STANDARD
BEGIN:DAYLIGHT
DTSTART:20110327T030000
RDATE:20111030T020000
TZOFFSETFROM:+0100
TZOFFSETTO:+0200
TZNAME:Europe/Paris CEST
END:DAYLIGHT
BEGIN:DAYLIGHT
DTSTART:20120325T030000
RDATE:20121028T020000
TZOFFSETFROM:+0100
TZOFFSETTO:+0200
TZNAME:Europe/Paris CEST
END:DAYLIGHT
BEGIN:DAYLIGHT
DTSTART:20130331T030000
RDATE:20131027T020000
TZOFFSETFROM:+0100
TZOFFSETTO:+0200
TZNAME:Europe/Paris CEST
END:DAYLIGHT
BEGIN:DAYLIGHT
DTSTART:20140330T030000
RDATE:20141026T020000
TZOFFSETFROM:+0100
TZOFFSETTO:+0200
TZNAME:Europe/Paris CEST
END:DAYLIGHT
BEGIN:DAYLIGHT
DTSTART:20150329T030000
RDATE:20151025T020000
TZOFFSETFROM:+0100
TZOFFSETTO:+0200
TZNAME:Europe/Paris CEST
END:DAYLIGHT
BEGIN:DAYLIGHT
DTSTART:20160327T030000
RDATE:20161030T020000
TZOFFSETFROM:+0100
TZOFFSETTO:+0200
TZNAME:Europe/Paris CEST
END:DAYLIGHT
BEGIN:DAYLIGHT
DTSTART:20170326T030000
RDATE:20171029T020000
TZOFFSETFROM:+0100
TZOFFSETTO:+0200
TZNAME:Europe/Paris CEST
END:DAYLIGHT
BEGIN:DAYLIGHT
DTSTART:20180325T030000
RDATE:20181028T020000
TZOFFSETFROM:+0100
TZOFFSETTO:+0200
TZNAME:Europe/Paris CEST
END:DAYLIGHT
BEGIN:DAYLIGHT
DTSTART:20190331T030000
RDATE:20191027T020000
TZOFFSETFROM:+0100
TZOFFSETTO:+0200
TZNAME:Europe/Paris CEST
END:DAYLIGHT
BEGIN:DAYLIGHT
DTSTART:20200329T030000
RDATE:20201025T020000
TZOFFSETFROM:+0100
TZOFFSETTO:+0200
TZNAME:Europe/Paris CEST
END:DAYLIGHT
BEGIN:DAYLIGHT
DTSTART:20210328T030000
RDATE:20211031T020000
TZOFFSETFROM:+0100
TZOFFSETTO:+0200
TZNAME:Europe/Paris CEST
END:DAYLIGHT
BEGIN:DAYLIGHT
DTSTART:20220327T030000
RDATE:20221030T020000
TZOFFSETFROM:+0100
TZOFFSETTO:+0200
TZNAME:Europe/Paris CEST
END:DAYLIGHT
BEGIN:DAYLIGHT
DTSTART:20230326T030000
RDATE:20231029T020000
TZOFFSETFROM:+0100
TZOFFSETTO:+0200
TZNAME:Europe/Paris CEST
END:DAYLIGHT
BEGIN:DAYLIGHT
DTSTART:20240331T030000
RDATE:20241027T020000
TZOFFSETFROM:+0100
TZOFFSETTO:+0200
TZNAME:Europe/Paris CEST
END:DAYLIGHT
BEGIN:DAYLIGHT
DTSTART:20250330T030000
RDATE:20251026T020000
TZOFFSETFROM:+0100
TZOFFSETTO:+0200
TZNAME:Europe/Paris CEST
END:DAYLIGHT
BEGIN:DAYLIGHT
DTSTART:20260329T030000
RDATE:20261025T020000
TZOFFSETFROM:+0100
TZOFFSETTO:+0200
TZNAME:Europe/Paris CEST
END:DAYLIGHT
END:VTIMEZONE
BEGIN:VEVENT
UID:6c5782020eb99211dd0496c4aa09582e
CATEGORIES:Ski Loisir - Sorties CRMVS
CREATED:20111102T171313
SUMMARY:Coupe du Monde de Biathlon **ANNULE**
URL;VALUE=URI:https://skivosges.net/agenda/a-venir/detailevenement/1/-/coupe-du-monde-de-
 biathlon-annule?tmpl=component
DESCRIPTION:<p> Le 06/12/2011 : <span class="observation attention">** </span><span><sp
 an> </span></span><span class="observation attention"><strong>Epreuve ANNUL
 EE</strong> - Déplacement ANNULE **</span></p><p>La Commission Régionale Sk
 i Loisirs/ Développement a décidé d’organiser un déplacement à l’occasion d
 e la Coupe du Monde de Biathlon au GRAND BORNAND.</p><p>Ce déplacement sera
  réservé <b>prioritairement</b> aux licenciés.</p><p> Vous troverez toutes 
 les informations dans le document : <a class="jcepopup" target="_blank" hre
 f="documents/2012/secretariat/Manifestations_Sorties/111217-18_Gd_Bornand/p
 rogramme.pdf">Programme et informations sur la sortie...</a></p><p> <strong
 >Pré-Inscription obligatoire en complétant le formulaire ci-dessous</strong
 >.<br />Après validation vous recevrez un courriel avec un lien de validati
 on sur lequel il faudra impérativement cliquer pour reserver votre place.</
 p><p>Il faudra ensuite retourner au siège du CRMVS <strong>avant le 05/12/2
 011 imperativement</strong> :</p><ul><li>Le <a class="jcepopup" target="_bl
 ank" href="documents/2012/secretariat/Manifestations_Sorties/111217-18_Gd_B
 ornand/inscription.pdf">formulaire d'inscription rempli...</a></li><li>L'<a
  class="jcepopup" target="_blank" href="documents/2012/secretariat/Manifest
 ations_Sorties/111217-18_Gd_Bornand/decharge.pdf">engagement / décharge rem
 pli et signé...</a></li><li>La <a class="jcepopup" target="_blank" href="do
 cuments/2012/secretariat/Manifestations_Sorties/fiche_sanitaire.pdf">Fiche 
 sanitaire de liaison dûment remplie...</a></li><li>Photocopie de la carte d
 'identité (orignal à avoir sur soi lors de déplacement)</li><li>Photocopie 
 de l'autorisation de sortie du territoire (original à presenter lors du dép
 lacement)</li><li>Chèque de 80euros à l'ordre du CRMVS</li></ul><p>Le 06/12
 /2011 :<span class="attention"><span><span> </span></span>** Epreuve ANNULE
 E - Déplacement ANNULE **</span></p> <a href="https://skivosges.net/agenda/
 a-venir/detailevenement/1/-/coupe-du-monde-de-biathlon-annule?tmpl=componen
 t">Cet évènement a été importé depuis :https://skivosges.net/agenda/a-venir
 /detailevenement/1/-/coupe-du-monde-de-biathlon-annule?tmpl=component</a>
X-ALT-DESC;FMTTYPE=text/html:<p> Le 06/12/2011 : <span class="observation attention">** </span><span><sp
 an> </span></span><span class="observation attention"><strong>Epreuve ANNUL
 EE</strong> - Déplacement ANNULE **</span></p><p>La Commission Régionale Sk
 i Loisirs/ Développement a décidé d’organiser un déplacement à l’occasion d
 e la Coupe du Monde de Biathlon au GRAND BORNAND.</p><p>Ce déplacement sera
  réservé <b>prioritairement</b> aux licenciés.</p><p> Vous troverez toutes 
 les informations dans le document : <a class="jcepopup" target="_blank" hre
 f="https://skivosges.net/documents/2012/secretariat/Manifestations_Sorties/
 111217-18_Gd_Bornand/programme.pdf">Programme et informations sur la sortie
 ...</a></p><p> <strong>Pré-Inscription obligatoire en complétant le formula
 ire ci-dessous</strong>.<br />Après validation vous recevrez un courriel av
 ec un lien de validation sur lequel il faudra impérativement cliquer pour r
 eserver votre place.</p><p>Il faudra ensuite retourner au siège du CRMVS <s
 trong>avant le 05/12/2011 imperativement</strong> :</p><ul><li>Le <a class=
 "jcepopup" target="_blank" href="https://skivosges.net/documents/2012/secre
 tariat/Manifestations_Sorties/111217-18_Gd_Bornand/inscription.pdf">formula
 ire d'inscription rempli...</a></li><li>L'<a class="jcepopup" target="_blan
 k" href="https://skivosges.net/documents/2012/secretariat/Manifestations_So
 rties/111217-18_Gd_Bornand/decharge.pdf">engagement / décharge rempli et si
 gné...</a></li><li>La <a class="jcepopup" target="_blank" href="https://ski
 vosges.net/documents/2012/secretariat/Manifestations_Sorties/fiche_sanitair
 e.pdf">Fiche sanitaire de liaison dûment remplie...</a></li><li>Photocopie 
 de la carte d'identité (orignal à avoir sur soi lors de déplacement)</li><l
 i>Photocopie de l'autorisation de sortie du territoire (original à presente
 r lors du déplacement)</li><li>Chèque de 80euros à l'ordre du CRMVS</li></u
 l><p>Le 06/12/2011 :<span class="attention"><span><span> </span></span>** E
 preuve ANNULEE - Déplacement ANNULE **</span></p> <a href="https://skivosge
 s.net/agenda/a-venir/detailevenement/1/-/coupe-du-monde-de-biathlon-annule?
 tmpl=component">Cet évènement a été importé depuis :https://skivosges.net/a
 genda/a-venir/detailevenement/1/-/coupe-du-monde-de-biathlon-annule?tmpl=co
 mponent</a>DTSTAMP:20260424T012609
DTSTART;TZID=Europe/Paris;VALUE=DATE:20111217
DTEND;TZID=Europe/Paris;VALUE=DATE:20111219
SEQUENCE:0
TRANSP:OPAQUE
END:VEVENT
END:VCALENDAR