BEGIN:VCALENDAR
VERSION:2.0
PRODID:-//jEvents 2.0 for Joomla//EN
CALSCALE:GREGORIAN
METHOD:PUBLISH
BEGIN:VTIMEZONE
TZID:Europe/Paris
BEGIN:STANDARD
DTSTART:20171029T020000
RDATE:20180325T030000
TZOFFSETFROM:+0200
TZOFFSETTO:+0100
TZNAME:Europe/Paris CET
END:STANDARD
BEGIN:STANDARD
DTSTART:20181028T020000
RDATE:20190331T030000
TZOFFSETFROM:+0200
TZOFFSETTO:+0100
TZNAME:Europe/Paris CET
END:STANDARD
BEGIN:STANDARD
DTSTART:20191027T020000
RDATE:20200329T030000
TZOFFSETFROM:+0200
TZOFFSETTO:+0100
TZNAME:Europe/Paris CET
END:STANDARD
BEGIN:STANDARD
DTSTART:20201025T020000
RDATE:20210328T030000
TZOFFSETFROM:+0200
TZOFFSETTO:+0100
TZNAME:Europe/Paris CET
END:STANDARD
BEGIN:STANDARD
DTSTART:20211031T020000
RDATE:20220327T030000
TZOFFSETFROM:+0200
TZOFFSETTO:+0100
TZNAME:Europe/Paris CET
END:STANDARD
BEGIN:STANDARD
DTSTART:20221030T020000
RDATE:20230326T030000
TZOFFSETFROM:+0200
TZOFFSETTO:+0100
TZNAME:Europe/Paris CET
END:STANDARD
BEGIN:STANDARD
DTSTART:20231029T020000
RDATE:20240331T030000
TZOFFSETFROM:+0200
TZOFFSETTO:+0100
TZNAME:Europe/Paris CET
END:STANDARD
BEGIN:STANDARD
DTSTART:20241027T020000
RDATE:20250330T030000
TZOFFSETFROM:+0200
TZOFFSETTO:+0100
TZNAME:Europe/Paris CET
END:STANDARD
BEGIN:STANDARD
DTSTART:20251026T020000
RDATE:20260329T030000
TZOFFSETFROM:+0200
TZOFFSETTO:+0100
TZNAME:Europe/Paris CET
END:STANDARD
BEGIN:STANDARD
DTSTART:20261025T020000
RDATE:20270328T030000
TZOFFSETFROM:+0200
TZOFFSETTO:+0100
TZNAME:Europe/Paris CET
END:STANDARD
BEGIN:DAYLIGHT
DTSTART:20170330T000000
RDATE:20171029T020000
TZOFFSETFROM:+0100
TZOFFSETTO:+0200
TZNAME:Europe/Paris CEST
END:DAYLIGHT
BEGIN:DAYLIGHT
DTSTART:20180325T030000
RDATE:20181028T020000
TZOFFSETFROM:+0100
TZOFFSETTO:+0200
TZNAME:Europe/Paris CEST
END:DAYLIGHT
BEGIN:DAYLIGHT
DTSTART:20190331T030000
RDATE:20191027T020000
TZOFFSETFROM:+0100
TZOFFSETTO:+0200
TZNAME:Europe/Paris CEST
END:DAYLIGHT
BEGIN:DAYLIGHT
DTSTART:20200329T030000
RDATE:20201025T020000
TZOFFSETFROM:+0100
TZOFFSETTO:+0200
TZNAME:Europe/Paris CEST
END:DAYLIGHT
BEGIN:DAYLIGHT
DTSTART:20210328T030000
RDATE:20211031T020000
TZOFFSETFROM:+0100
TZOFFSETTO:+0200
TZNAME:Europe/Paris CEST
END:DAYLIGHT
BEGIN:DAYLIGHT
DTSTART:20220327T030000
RDATE:20221030T020000
TZOFFSETFROM:+0100
TZOFFSETTO:+0200
TZNAME:Europe/Paris CEST
END:DAYLIGHT
BEGIN:DAYLIGHT
DTSTART:20230326T030000
RDATE:20231029T020000
TZOFFSETFROM:+0100
TZOFFSETTO:+0200
TZNAME:Europe/Paris CEST
END:DAYLIGHT
BEGIN:DAYLIGHT
DTSTART:20240331T030000
RDATE:20241027T020000
TZOFFSETFROM:+0100
TZOFFSETTO:+0200
TZNAME:Europe/Paris CEST
END:DAYLIGHT
BEGIN:DAYLIGHT
DTSTART:20250330T030000
RDATE:20251026T020000
TZOFFSETFROM:+0100
TZOFFSETTO:+0200
TZNAME:Europe/Paris CEST
END:DAYLIGHT
BEGIN:DAYLIGHT
DTSTART:20260329T030000
RDATE:20261025T020000
TZOFFSETFROM:+0100
TZOFFSETTO:+0200
TZNAME:Europe/Paris CEST
END:DAYLIGHT
END:VTIMEZONE
BEGIN:VEVENT
UID:3f8560c7d858995e8894122fc7e30ab7
CATEGORIES:Opens et Promos (alpin)
CREATED:20171121T093310
SUMMARY:OPEN MELLAU 32 ème Journée Française
URL;VALUE=URI:https://skivosges.net/agenda/a-venir/detailevenement/1016/-/open-mellau-32-
 eme-journee-francaise?tmpl=component
DESCRIPTION:OPEN MELLAU 32 ème Journée Française\n - Codex évenement AMVT0900\n - Lieu 
 : Mellau (AUT)\n - Station : BERGBAHN MELLAU\n - Piste : WILDGUNTE\n - Orga
 nisateur : 14434 ALSACE SKI PLUS COLMAR\n - Courriel : RegularLabs.EmailPro
 tector.unCloak("ep_668f9784");\n - Téléphone : 03 89 27 22 34\n - Délégué T
 echnique : VONTHRON JEAN MARIEPériode d'inscription à l'evènement du dimanc
 he 04 mars 2018 à 00:00 au dimanche 25 mars 2018 à 12:00 (Inscriptions impo
 ssibles).Inscriptions ouvertes aux detenteurs des titres Fédéraux valides s
 uivants : Licenciés CompétiteursEpreuves :\n - Le samedi 31 mars 2018 à 10:
 00\n - Codex épreuve AMVM0901\n - Slalom Geant\n - Catégorie(s) : U14 (Garç
 ons)\n - Le samedi 31 mars 2018 à 10:00\n - Codex épreuve AMVF0901\n - Slal
 om Geant\n - Catégorie(s) : U14 (Filles)\n - Le samedi 31 mars 2018 à 10:00
 \n - Codex épreuve AMVM0902\n - Slalom Geant\n - Catégorie(s) : U16 (Garçon
 s)\n - Le samedi 31 mars 2018 à 10:00\n - Codex épreuve AMVF0902\n - Slalom
  Geant\n - Catégorie(s) : U16 (Filles)\n - Le samedi 31 mars 2018 à 10:00\n
  - Codex épreuve AMVF0903\n - Slalom Geant\n - Catégorie(s) : U18 a Masters
  (Dames)\n - Le samedi 31 mars 2018 à 10:00\n - Codex épreuve AMVM0903\n - 
 Slalom Geant\n - Catégorie(s) : U18 a Masters (Hommes)\n - Voir les informa
 tions dans l'agenda... (/index.php?option=com_jevents&amp;task=icalevent.de
 tail&amp;evid=1011&amp;Itemid=6289) Cet évènement a été importé depuis :htt
 ps://skivosges.net/agenda/a-venir/detailevenement/1016/-/open-mellau-32-eme
 -journee-francaise?tmpl=component
X-ALT-DESC;FMTTYPE=text/html:<!-- #gskiepreuve code généré par le plugin jevents pour GskiEpreuves. Ne p
 as modifier cette ligne, ni tout le contenu suivant  #gskiepreuve --><div c
 lass="gski-evenement_infos"><div class="gski-evenement-nom">OPEN MELLAU 32 
 ème Journée Française</div><div class="gski-evenement-report"></div><ul cla
 ss="gski-evenement-liste-infos"><li>Codex évenement AMVT0900</li><li>Lieu :
  Mellau (AUT)</li><li>Station : BERGBAHN MELLAU</li><li>Piste : WILDGUNTE</
 li><li>Organisateur : 14434 ALSACE SKI PLUS COLMAR</li><li>Courriel : <!-- 
 Cette adresse électronique est protégée contre les robots spammeurs. --><sp
 an class="cloaked_email ep_668f9784"><span data-ep-a="&#118;&#116;n" data-e
 p-b=""><span data-ep-a="&#64;w&#97;" data-ep-b="&#102;&#114;"><span data-ep
 -a="&#110;a&#100;" data-ep-b="o&#111;&#46;"></span></span></span></span><sc
 ript>RegularLabs.EmailProtector.unCloak("ep_668f9784");</script></li><li>Té
 léphone : 03 89 27 22 34</li><li><span class="gski-evenement-obs">Délégué T
 echnique : VONTHRON JEAN MARIE</span></li></ul><div class="gski-evenement-i
 nfos-2"><div class="gski-evenement-info-inscriptions"><div class="gski-even
 ement-inscriptions-periodes">Période d'inscription à l'evènement du dimanch
 e 04 mars 2018 à 00:00 au dimanche 25 mars 2018 à 12:00 <span class="gski-e
 venement-inscriptions-impossibles">(Inscriptions impossibles).</span><div c
 lass="gski-evenement-inscriptions-types-titres">Inscriptions ouvertes aux d
 etenteurs des titres Fédéraux valides suivants : Licenciés Compétiteurs</di
 v></div></div><div class="gski-evenement-epreuves"><div class="gski-eveneme
 nt-epreuves-titres">Epreuves :</div><ul class="gski-evenement-epreuves-list
 "><li><div class="gski-epreuve-date">Le samedi 31 mars 2018 à 10:00</div><u
 l class="gski-epreuve-liste-infos"><li>Codex épreuve AMVM0901</li><li>Slalo
 m Geant</li><li>Catégorie(s) : U14 (Garçons)</li></ul></li><li><div class="
 gski-epreuve-date">Le samedi 31 mars 2018 à 10:00</div><ul class="gski-epre
 uve-liste-infos"><li>Codex épreuve AMVF0901</li><li>Slalom Geant</li><li>Ca
 tégorie(s) : U14 (Filles)</li></ul></li><li><div class="gski-epreuve-date">
 Le samedi 31 mars 2018 à 10:00</div><ul class="gski-epreuve-liste-infos"><l
 i>Codex épreuve AMVM0902</li><li>Slalom Geant</li><li>Catégorie(s) : U16 (G
 arçons)</li></ul></li><li><div class="gski-epreuve-date">Le samedi 31 mars 
 2018 à 10:00</div><ul class="gski-epreuve-liste-infos"><li>Codex épreuve AM
 VF0902</li><li>Slalom Geant</li><li>Catégorie(s) : U16 (Filles)</li></ul></
 li><li><div class="gski-epreuve-date">Le samedi 31 mars 2018 à 10:00</div><
 ul class="gski-epreuve-liste-infos"><li>Codex épreuve AMVF0903</li><li>Slal
 om Geant</li><li>Catégorie(s) : U18 a Masters (Dames)</li></ul></li><li><di
 v class="gski-epreuve-date">Le samedi 31 mars 2018 à 10:00</div><ul class="
 gski-epreuve-liste-infos"><li>Codex épreuve AMVM0903</li><li>Slalom Geant</
 li><li>Catégorie(s) : U18 a Masters (Hommes)</li></ul></li></ul></div><div 
 class="gskiepreuves-links"><ul><li><a href="https://skivosges.net/index.php
 ?option=com_jevents&task=icalevent.detail&evid=1011&Itemid=6289">Voir les i
 nformations dans l'agenda...</a></li></ul></div></div"><!-- #/gskiepreuve f
 in du dode généré par le plugin jevents pour GskiEpreuves. . Ne pas modifie
 r cette ligne, ni tout le contenu précedant.  #/gskiepreuve --> <a href="ht
 tps://skivosges.net/agenda/a-venir/detailevenement/1016/-/open-mellau-32-em
 e-journee-francaise?tmpl=component">Cet évènement a été importé depuis :htt
 ps://skivosges.net/agenda/a-venir/detailevenement/1016/-/open-mellau-32-eme
 -journee-francaise?tmpl=component</a>DTSTAMP:20260424T012445
DTSTART;TZID=Europe/Paris;VALUE=DATE:20180331
DTEND;TZID=Europe/Paris;VALUE=DATE:20180401
SEQUENCE:0
TRANSP:OPAQUE
END:VEVENT
END:VCALENDAR