BEGIN:VCALENDAR
VERSION:2.0
PRODID:-//jEvents 2.0 for Joomla//EN
CALSCALE:GREGORIAN
METHOD:PUBLISH
BEGIN:VTIMEZONE
TZID:Europe/Paris
BEGIN:STANDARD
DTSTART:20130124T080000
RDATE:20130331T030000
TZOFFSETFROM:+0200
TZOFFSETTO:+0100
TZNAME:Europe/Paris CET
END:STANDARD
BEGIN:STANDARD
DTSTART:20131027T020000
RDATE:20140330T030000
TZOFFSETFROM:+0200
TZOFFSETTO:+0100
TZNAME:Europe/Paris CET
END:STANDARD
BEGIN:STANDARD
DTSTART:20141026T020000
RDATE:20150329T030000
TZOFFSETFROM:+0200
TZOFFSETTO:+0100
TZNAME:Europe/Paris CET
END:STANDARD
BEGIN:STANDARD
DTSTART:20151025T020000
RDATE:20160327T030000
TZOFFSETFROM:+0200
TZOFFSETTO:+0100
TZNAME:Europe/Paris CET
END:STANDARD
BEGIN:STANDARD
DTSTART:20161030T020000
RDATE:20170326T030000
TZOFFSETFROM:+0200
TZOFFSETTO:+0100
TZNAME:Europe/Paris CET
END:STANDARD
BEGIN:STANDARD
DTSTART:20171029T020000
RDATE:20180325T030000
TZOFFSETFROM:+0200
TZOFFSETTO:+0100
TZNAME:Europe/Paris CET
END:STANDARD
BEGIN:STANDARD
DTSTART:20181028T020000
RDATE:20190331T030000
TZOFFSETFROM:+0200
TZOFFSETTO:+0100
TZNAME:Europe/Paris CET
END:STANDARD
BEGIN:STANDARD
DTSTART:20191027T020000
RDATE:20200329T030000
TZOFFSETFROM:+0200
TZOFFSETTO:+0100
TZNAME:Europe/Paris CET
END:STANDARD
BEGIN:STANDARD
DTSTART:20201025T020000
RDATE:20210328T030000
TZOFFSETFROM:+0200
TZOFFSETTO:+0100
TZNAME:Europe/Paris CET
END:STANDARD
BEGIN:STANDARD
DTSTART:20211031T020000
RDATE:20220327T030000
TZOFFSETFROM:+0200
TZOFFSETTO:+0100
TZNAME:Europe/Paris CET
END:STANDARD
BEGIN:STANDARD
DTSTART:20221030T020000
RDATE:20230326T030000
TZOFFSETFROM:+0200
TZOFFSETTO:+0100
TZNAME:Europe/Paris CET
END:STANDARD
BEGIN:STANDARD
DTSTART:20231029T020000
RDATE:20240331T030000
TZOFFSETFROM:+0200
TZOFFSETTO:+0100
TZNAME:Europe/Paris CET
END:STANDARD
BEGIN:STANDARD
DTSTART:20241027T020000
RDATE:20250330T030000
TZOFFSETFROM:+0200
TZOFFSETTO:+0100
TZNAME:Europe/Paris CET
END:STANDARD
BEGIN:STANDARD
DTSTART:20251026T020000
RDATE:20260329T030000
TZOFFSETFROM:+0200
TZOFFSETTO:+0100
TZNAME:Europe/Paris CET
END:STANDARD
BEGIN:STANDARD
DTSTART:20261025T020000
RDATE:20270328T030000
TZOFFSETFROM:+0200
TZOFFSETTO:+0100
TZNAME:Europe/Paris CET
END:STANDARD
BEGIN:DAYLIGHT
DTSTART:20130331T030000
RDATE:20131027T020000
TZOFFSETFROM:+0100
TZOFFSETTO:+0200
TZNAME:Europe/Paris CEST
END:DAYLIGHT
BEGIN:DAYLIGHT
DTSTART:20140330T030000
RDATE:20141026T020000
TZOFFSETFROM:+0100
TZOFFSETTO:+0200
TZNAME:Europe/Paris CEST
END:DAYLIGHT
BEGIN:DAYLIGHT
DTSTART:20150329T030000
RDATE:20151025T020000
TZOFFSETFROM:+0100
TZOFFSETTO:+0200
TZNAME:Europe/Paris CEST
END:DAYLIGHT
BEGIN:DAYLIGHT
DTSTART:20160327T030000
RDATE:20161030T020000
TZOFFSETFROM:+0100
TZOFFSETTO:+0200
TZNAME:Europe/Paris CEST
END:DAYLIGHT
BEGIN:DAYLIGHT
DTSTART:20170326T030000
RDATE:20171029T020000
TZOFFSETFROM:+0100
TZOFFSETTO:+0200
TZNAME:Europe/Paris CEST
END:DAYLIGHT
BEGIN:DAYLIGHT
DTSTART:20180325T030000
RDATE:20181028T020000
TZOFFSETFROM:+0100
TZOFFSETTO:+0200
TZNAME:Europe/Paris CEST
END:DAYLIGHT
BEGIN:DAYLIGHT
DTSTART:20190331T030000
RDATE:20191027T020000
TZOFFSETFROM:+0100
TZOFFSETTO:+0200
TZNAME:Europe/Paris CEST
END:DAYLIGHT
BEGIN:DAYLIGHT
DTSTART:20200329T030000
RDATE:20201025T020000
TZOFFSETFROM:+0100
TZOFFSETTO:+0200
TZNAME:Europe/Paris CEST
END:DAYLIGHT
BEGIN:DAYLIGHT
DTSTART:20210328T030000
RDATE:20211031T020000
TZOFFSETFROM:+0100
TZOFFSETTO:+0200
TZNAME:Europe/Paris CEST
END:DAYLIGHT
BEGIN:DAYLIGHT
DTSTART:20220327T030000
RDATE:20221030T020000
TZOFFSETFROM:+0100
TZOFFSETTO:+0200
TZNAME:Europe/Paris CEST
END:DAYLIGHT
BEGIN:DAYLIGHT
DTSTART:20230326T030000
RDATE:20231029T020000
TZOFFSETFROM:+0100
TZOFFSETTO:+0200
TZNAME:Europe/Paris CEST
END:DAYLIGHT
BEGIN:DAYLIGHT
DTSTART:20240331T030000
RDATE:20241027T020000
TZOFFSETFROM:+0100
TZOFFSETTO:+0200
TZNAME:Europe/Paris CEST
END:DAYLIGHT
BEGIN:DAYLIGHT
DTSTART:20250330T030000
RDATE:20251026T020000
TZOFFSETFROM:+0100
TZOFFSETTO:+0200
TZNAME:Europe/Paris CEST
END:DAYLIGHT
BEGIN:DAYLIGHT
DTSTART:20260329T030000
RDATE:20261025T020000
TZOFFSETFROM:+0100
TZOFFSETTO:+0200
TZNAME:Europe/Paris CEST
END:DAYLIGHT
END:VTIMEZONE
BEGIN:VEVENT
UID:875b84bc1c96f0da653e69324b47b834
CATEGORIES:Compétition Saut
CREATED:20131203T122100
SUMMARY:Jeux du Saut n°2 Credit Mutuel  K12m
URL;VALUE=URI:https://skivosges.net/agenda/a-venir/detailevenement/102/-/jeux-du-saut-n-2
 -credit-mutuel-k12m?tmpl=component
DESCRIPTION:Jeux du Saut n°2 Credit Mutuel  K12m\n\nLieu : MARKSTEIN \nOrganisateur : S
 KI CLUB KRUTH  (14145 SKI CLUB KRUTH)\n - TMVF0041 épreuve Dames\n  Jeux du
  Saut n°2 Credit Mutuel  K12m\n - TMVF0042 épreuve Dames\n  Jeux du Saut n°
 2 Credit Mutuel  K12m\n - TMVF0043 épreuve Dames\n  Jeux du Saut n°2 Credit
  Mutuel  K12m\n - TMVM0041 épreuve Hommes\n  Jeux du Saut n°2 Credit Mutuel
   K12m\n - TMVM0042 épreuve Hommes\n  Jeux du Saut n°2 Credit Mutuel  K12m\
 n - TMVM0043 épreuve Hommes\n  Jeux du Saut n°2 Credit Mutuel  K12m Cet évè
 nement a été importé depuis :https://skivosges.net/agenda/a-venir/detaileve
 nement/102/-/jeux-du-saut-n-2-credit-mutuel-k12m?tmpl=component
X-ALT-DESC;FMTTYPE=text/html:<strong>Jeux du Saut n°2 Credit Mutuel  K12m</strong><br /><br />Lieu : MAR
 KSTEIN <br />Organisateur : SKI CLUB KRUTH  <small>(14145 SKI CLUB KRUTH)</
 small><ul type="disc"><li>TMVF0041 épreuve Dames<br />&nbsp;&nbsp;Jeux du S
 aut n°2 Credit Mutuel  K12m</li><li>TMVF0042 épreuve Dames<br />&nbsp;&nbsp
 ;Jeux du Saut n°2 Credit Mutuel  K12m</li><li>TMVF0043 épreuve Dames<br />&
 nbsp;&nbsp;Jeux du Saut n°2 Credit Mutuel  K12m</li><li>TMVM0041 épreuve Ho
 mmes<br />&nbsp;&nbsp;Jeux du Saut n°2 Credit Mutuel  K12m</li><li>TMVM0042
  épreuve Hommes<br />&nbsp;&nbsp;Jeux du Saut n°2 Credit Mutuel  K12m</li><
 li>TMVM0043 épreuve Hommes<br />&nbsp;&nbsp;Jeux du Saut n°2 Credit Mutuel 
  K12m</li></ul> <a href="https://skivosges.net/agenda/a-venir/detaileveneme
 nt/102/-/jeux-du-saut-n-2-credit-mutuel-k12m?tmpl=component">Cet évènement 
 a été importé depuis :https://skivosges.net/agenda/a-venir/detailevenement/
 102/-/jeux-du-saut-n-2-credit-mutuel-k12m?tmpl=component</a>DTSTAMP:20260424T030427
DTSTART;TZID=Europe/Paris:20140125T080000
DTEND;TZID=Europe/Paris:20140125T170000
SEQUENCE:0
TRANSP:OPAQUE
END:VEVENT
END:VCALENDAR