BEGIN:VCALENDAR
VERSION:2.0
PRODID:-//jEvents 2.0 for Joomla//EN
CALSCALE:GREGORIAN
METHOD:PUBLISH
BEGIN:VTIMEZONE
TZID:Europe/Paris
BEGIN:STANDARD
DTSTART:20161219T190000
RDATE:20170326T030000
TZOFFSETFROM:+0200
TZOFFSETTO:+0100
TZNAME:Europe/Paris CET
END:STANDARD
BEGIN:STANDARD
DTSTART:20171029T020000
RDATE:20180325T030000
TZOFFSETFROM:+0200
TZOFFSETTO:+0100
TZNAME:Europe/Paris CET
END:STANDARD
BEGIN:STANDARD
DTSTART:20181028T020000
RDATE:20190331T030000
TZOFFSETFROM:+0200
TZOFFSETTO:+0100
TZNAME:Europe/Paris CET
END:STANDARD
BEGIN:STANDARD
DTSTART:20191027T020000
RDATE:20200329T030000
TZOFFSETFROM:+0200
TZOFFSETTO:+0100
TZNAME:Europe/Paris CET
END:STANDARD
BEGIN:STANDARD
DTSTART:20201025T020000
RDATE:20210328T030000
TZOFFSETFROM:+0200
TZOFFSETTO:+0100
TZNAME:Europe/Paris CET
END:STANDARD
BEGIN:STANDARD
DTSTART:20211031T020000
RDATE:20220327T030000
TZOFFSETFROM:+0200
TZOFFSETTO:+0100
TZNAME:Europe/Paris CET
END:STANDARD
BEGIN:STANDARD
DTSTART:20221030T020000
RDATE:20230326T030000
TZOFFSETFROM:+0200
TZOFFSETTO:+0100
TZNAME:Europe/Paris CET
END:STANDARD
BEGIN:STANDARD
DTSTART:20231029T020000
RDATE:20240331T030000
TZOFFSETFROM:+0200
TZOFFSETTO:+0100
TZNAME:Europe/Paris CET
END:STANDARD
BEGIN:STANDARD
DTSTART:20241027T020000
RDATE:20250330T030000
TZOFFSETFROM:+0200
TZOFFSETTO:+0100
TZNAME:Europe/Paris CET
END:STANDARD
BEGIN:STANDARD
DTSTART:20251026T020000
RDATE:20260329T030000
TZOFFSETFROM:+0200
TZOFFSETTO:+0100
TZNAME:Europe/Paris CET
END:STANDARD
BEGIN:STANDARD
DTSTART:20261025T020000
RDATE:20270328T030000
TZOFFSETFROM:+0200
TZOFFSETTO:+0100
TZNAME:Europe/Paris CET
END:STANDARD
BEGIN:DAYLIGHT
DTSTART:20170326T030000
RDATE:20171029T020000
TZOFFSETFROM:+0100
TZOFFSETTO:+0200
TZNAME:Europe/Paris CEST
END:DAYLIGHT
BEGIN:DAYLIGHT
DTSTART:20180325T030000
RDATE:20181028T020000
TZOFFSETFROM:+0100
TZOFFSETTO:+0200
TZNAME:Europe/Paris CEST
END:DAYLIGHT
BEGIN:DAYLIGHT
DTSTART:20190331T030000
RDATE:20191027T020000
TZOFFSETFROM:+0100
TZOFFSETTO:+0200
TZNAME:Europe/Paris CEST
END:DAYLIGHT
BEGIN:DAYLIGHT
DTSTART:20200329T030000
RDATE:20201025T020000
TZOFFSETFROM:+0100
TZOFFSETTO:+0200
TZNAME:Europe/Paris CEST
END:DAYLIGHT
BEGIN:DAYLIGHT
DTSTART:20210328T030000
RDATE:20211031T020000
TZOFFSETFROM:+0100
TZOFFSETTO:+0200
TZNAME:Europe/Paris CEST
END:DAYLIGHT
BEGIN:DAYLIGHT
DTSTART:20220327T030000
RDATE:20221030T020000
TZOFFSETFROM:+0100
TZOFFSETTO:+0200
TZNAME:Europe/Paris CEST
END:DAYLIGHT
BEGIN:DAYLIGHT
DTSTART:20230326T030000
RDATE:20231029T020000
TZOFFSETFROM:+0100
TZOFFSETTO:+0200
TZNAME:Europe/Paris CEST
END:DAYLIGHT
BEGIN:DAYLIGHT
DTSTART:20240331T030000
RDATE:20241027T020000
TZOFFSETFROM:+0100
TZOFFSETTO:+0200
TZNAME:Europe/Paris CEST
END:DAYLIGHT
BEGIN:DAYLIGHT
DTSTART:20250330T030000
RDATE:20251026T020000
TZOFFSETFROM:+0100
TZOFFSETTO:+0200
TZNAME:Europe/Paris CEST
END:DAYLIGHT
BEGIN:DAYLIGHT
DTSTART:20260329T030000
RDATE:20261025T020000
TZOFFSETFROM:+0100
TZOFFSETTO:+0200
TZNAME:Europe/Paris CEST
END:DAYLIGHT
END:VTIMEZONE
BEGIN:VEVENT
UID:507c4897fe270ac8a3c5e459f78c97a9
CATEGORIES:Formation Officiels - Chronos - Gestionnaires
CREATED:20171129T215026
SUMMARY:Gérardmer : Formation/Recyclage Gestionnaire Saut **ANNULEE**
LOCATION:Gérardmer / Maison de la Montagne
URL;VALUE=URI:https://skivosges.net/agenda/a-venir/detailevenement/1025/-/gerardmer-forma
 tion-recyclage-gestionnaire-saut-annulee?tmpl=component
DESCRIPTION:<p class="attention">*** Le 20/12/2017 : vu le très faible nombre d'inscrip
 tion, la formation est annulée ***</p><p>Session de formation et de recycla
 ge pour les Gestionnaires Informatiques d'épreuves de Saut.</p><p>Dans cett
 e session, la plupart des points de base nécessaires à la gestion d'une épr
 euve sont repris.</p><p>Quelques points particuliers à l'attention des plus
  expérimentés seront approfondit.</p><p>Le repas pris sur place sera à régl
 er au restaurateur.</p><p><a href="index.php?option=com_content&amp;view=ar
 ticle&amp;id=5946:formation-gestionnaires-competitions-decembre-2017&amp;ca
 tid=8">Voir la circulaire d'information...</a></p> <a href="https://skivosg
 es.net/agenda/a-venir/detailevenement/1025/-/gerardmer-formation-recyclage-
 gestionnaire-saut-annulee?tmpl=component">Cet évènement a été importé depui
 s :https://skivosges.net/agenda/a-venir/detailevenement/1025/-/gerardmer-fo
 rmation-recyclage-gestionnaire-saut-annulee?tmpl=component</a>
X-ALT-DESC;FMTTYPE=text/html:<p class="attention">*** Le 20/12/2017 : vu le très faible nombre d'inscrip
 tion, la formation est annulée ***</p><p>Session de formation et de recycla
 ge pour les Gestionnaires Informatiques d'épreuves de Saut.</p><p>Dans cett
 e session, la plupart des points de base nécessaires à la gestion d'une épr
 euve sont repris.</p><p>Quelques points particuliers à l'attention des plus
  expérimentés seront approfondit.</p><p>Le repas pris sur place sera à régl
 er au restaurateur.</p><p><a href="https://skivosges.net/index.php?option=c
 om_content&amp;view=article&amp;id=5946:formation-gestionnaires-competition
 s-decembre-2017&amp;catid=8">Voir la circulaire d'information...</a></p> <a
  href="https://skivosges.net/agenda/a-venir/detailevenement/1025/-/gerardme
 r-formation-recyclage-gestionnaire-saut-annulee?tmpl=component">Cet évèneme
 nt a été importé depuis :https://skivosges.net/agenda/a-venir/detaileveneme
 nt/1025/-/gerardmer-formation-recyclage-gestionnaire-saut-annulee?tmpl=comp
 onent</a>DTSTAMP:20260424T060812
DTSTART;TZID=Europe/Paris:20171220T190000
SEQUENCE:0
TRANSP:OPAQUE
END:VEVENT
END:VCALENDAR