BEGIN:VCALENDAR
VERSION:2.0
PRODID:-//jEvents 2.0 for Joomla//EN
CALSCALE:GREGORIAN
METHOD:PUBLISH
BEGIN:VTIMEZONE
TZID:Europe/Paris
BEGIN:STANDARD
DTSTART:20161110T000000
RDATE:20170326T030000
TZOFFSETFROM:+0200
TZOFFSETTO:+0100
TZNAME:Europe/Paris CET
END:STANDARD
BEGIN:STANDARD
DTSTART:20171029T020000
RDATE:20180325T030000
TZOFFSETFROM:+0200
TZOFFSETTO:+0100
TZNAME:Europe/Paris CET
END:STANDARD
BEGIN:STANDARD
DTSTART:20181028T020000
RDATE:20190331T030000
TZOFFSETFROM:+0200
TZOFFSETTO:+0100
TZNAME:Europe/Paris CET
END:STANDARD
BEGIN:STANDARD
DTSTART:20191027T020000
RDATE:20200329T030000
TZOFFSETFROM:+0200
TZOFFSETTO:+0100
TZNAME:Europe/Paris CET
END:STANDARD
BEGIN:STANDARD
DTSTART:20201025T020000
RDATE:20210328T030000
TZOFFSETFROM:+0200
TZOFFSETTO:+0100
TZNAME:Europe/Paris CET
END:STANDARD
BEGIN:STANDARD
DTSTART:20211031T020000
RDATE:20220327T030000
TZOFFSETFROM:+0200
TZOFFSETTO:+0100
TZNAME:Europe/Paris CET
END:STANDARD
BEGIN:STANDARD
DTSTART:20221030T020000
RDATE:20230326T030000
TZOFFSETFROM:+0200
TZOFFSETTO:+0100
TZNAME:Europe/Paris CET
END:STANDARD
BEGIN:STANDARD
DTSTART:20231029T020000
RDATE:20240331T030000
TZOFFSETFROM:+0200
TZOFFSETTO:+0100
TZNAME:Europe/Paris CET
END:STANDARD
BEGIN:STANDARD
DTSTART:20241027T020000
RDATE:20250330T030000
TZOFFSETFROM:+0200
TZOFFSETTO:+0100
TZNAME:Europe/Paris CET
END:STANDARD
BEGIN:STANDARD
DTSTART:20251026T020000
RDATE:20260329T030000
TZOFFSETFROM:+0200
TZOFFSETTO:+0100
TZNAME:Europe/Paris CET
END:STANDARD
BEGIN:STANDARD
DTSTART:20261025T020000
RDATE:20270328T030000
TZOFFSETFROM:+0200
TZOFFSETTO:+0100
TZNAME:Europe/Paris CET
END:STANDARD
BEGIN:DAYLIGHT
DTSTART:20170326T030000
RDATE:20171029T020000
TZOFFSETFROM:+0100
TZOFFSETTO:+0200
TZNAME:Europe/Paris CEST
END:DAYLIGHT
BEGIN:DAYLIGHT
DTSTART:20180325T030000
RDATE:20181028T020000
TZOFFSETFROM:+0100
TZOFFSETTO:+0200
TZNAME:Europe/Paris CEST
END:DAYLIGHT
BEGIN:DAYLIGHT
DTSTART:20190331T030000
RDATE:20191027T020000
TZOFFSETFROM:+0100
TZOFFSETTO:+0200
TZNAME:Europe/Paris CEST
END:DAYLIGHT
BEGIN:DAYLIGHT
DTSTART:20200329T030000
RDATE:20201025T020000
TZOFFSETFROM:+0100
TZOFFSETTO:+0200
TZNAME:Europe/Paris CEST
END:DAYLIGHT
BEGIN:DAYLIGHT
DTSTART:20210328T030000
RDATE:20211031T020000
TZOFFSETFROM:+0100
TZOFFSETTO:+0200
TZNAME:Europe/Paris CEST
END:DAYLIGHT
BEGIN:DAYLIGHT
DTSTART:20220327T030000
RDATE:20221030T020000
TZOFFSETFROM:+0100
TZOFFSETTO:+0200
TZNAME:Europe/Paris CEST
END:DAYLIGHT
BEGIN:DAYLIGHT
DTSTART:20230326T030000
RDATE:20231029T020000
TZOFFSETFROM:+0100
TZOFFSETTO:+0200
TZNAME:Europe/Paris CEST
END:DAYLIGHT
BEGIN:DAYLIGHT
DTSTART:20240331T030000
RDATE:20241027T020000
TZOFFSETFROM:+0100
TZOFFSETTO:+0200
TZNAME:Europe/Paris CEST
END:DAYLIGHT
BEGIN:DAYLIGHT
DTSTART:20250330T030000
RDATE:20251026T020000
TZOFFSETFROM:+0100
TZOFFSETTO:+0200
TZNAME:Europe/Paris CEST
END:DAYLIGHT
BEGIN:DAYLIGHT
DTSTART:20260329T030000
RDATE:20261025T020000
TZOFFSETFROM:+0100
TZOFFSETTO:+0200
TZNAME:Europe/Paris CEST
END:DAYLIGHT
END:VTIMEZONE
BEGIN:VEVENT
UID:37c296df25d039a7a99a4772e275e182
CATEGORIES:Compétition Ski Alpin
CREATED:20180122T113900
SUMMARY:FIS MASTERS AMNEVILLE
URL;VALUE=URI:https://skivosges.net/agenda/a-venir/detailevenement/1031/-/fis-masters-amn
 eville?tmpl=component
DESCRIPTION:FIS MASTERS AMNEVILLE\n - Codex évenement FRA9344\n - Lieu : Amnéville\n - 
 Organisateur : 14482 SKI CLUB D'AMNEVILLE\n - Courriel : RegularLabs.EmailP
 rotector.unCloak("ep_4233ecef");Période d'inscription à l'evènement du same
 di 04 novembre 2017 à 00:00 au jeudi 09 novembre 2017 à 12:00 (Inscriptions
  impossibles).Inscriptions ouvertes aux detenteurs des titres Fédéraux vali
 des suivants : Licenciés CompétiteursEpreuves :\n - Le samedi 11 novembre 2
 017\n - Codex épreuve 9344\n - Slalom\n - Le samedi 11 novembre 2017\n - Co
 dex épreuve 9345\n - Slalom\n - Le samedi 11 novembre 2017\n - Codex épreuv
 e 9346\n - Slalom\n - Le dimanche 12 novembre 2017\n - Codex épreuve 9347\n
  - Slalom\n - Le dimanche 12 novembre 2017\n - Codex épreuve 9348\n - Slalo
 m\n - Le dimanche 12 novembre 2017\n - Codex épreuve 9349\n - Slalom\n - Vo
 ir les informations dans l'agenda... (/index.php?option=com_jevents&amp;tas
 k=icalevent.detail&amp;evid=1026&amp;Itemid=6289) Cet évènement a été impor
 té depuis :https://skivosges.net/agenda/a-venir/detailevenement/1031/-/fis-
 masters-amneville?tmpl=component
X-ALT-DESC;FMTTYPE=text/html:<!-- #gskiepreuve code généré par le plugin jevents pour GskiEpreuves. Ne p
 as modifier cette ligne, ni tout le contenu suivant  #gskiepreuve --><div c
 lass="gski-evenement_infos"><div class="gski-evenement-nom">FIS MASTERS AMN
 EVILLE</div><div class="gski-evenement-report"></div><ul class="gski-evenem
 ent-liste-infos"><li>Codex évenement FRA9344</li><li>Lieu : Amn&eacute;vill
 e</li><li>Organisateur : 14482 SKI CLUB D'AMNEVILLE</li><li>Courriel : <!--
  Cette adresse électronique est protégée contre les robots spammeurs. --><s
 pan class="cloaked_email ep_4233ecef"><span data-ep-b="&#111;&#114;g" data-
 ep-a="sg&#64;s"><span data-ep-b="&#108;&#108;e." data-ep-a="&#107;&#105;&#9
 9;l"><span data-ep-a="u&#98;&#97;&#109;" data-ep-b="&#110;&#101;&#118;i"></
 span></span></span></span><script>RegularLabs.EmailProtector.unCloak("ep_42
 33ecef");</script></li></ul><div class="gski-evenement-infos-2"><div class=
 "gski-evenement-info-inscriptions"><div class="gski-evenement-inscriptions-
 periodes">Période d'inscription à l'evènement du samedi 04 novembre 2017 à 
 00:00 au jeudi 09 novembre 2017 à 12:00 <span class="gski-evenement-inscrip
 tions-impossibles">(Inscriptions impossibles).</span><div class="gski-evene
 ment-inscriptions-types-titres">Inscriptions ouvertes aux detenteurs des ti
 tres Fédéraux valides suivants : Licenciés Compétiteurs</div></div></div><d
 iv class="gski-evenement-epreuves"><div class="gski-evenement-epreuves-titr
 es">Epreuves :</div><ul class="gski-evenement-epreuves-list"><li><div class
 ="gski-epreuve-date">Le samedi 11 novembre 2017</div><ul class="gski-epreuv
 e-liste-infos"><li>Codex épreuve 9344</li><li>Slalom</li></ul></li><li><div
  class="gski-epreuve-date">Le samedi 11 novembre 2017</div><ul class="gski-
 epreuve-liste-infos"><li>Codex épreuve 9345</li><li>Slalom</li></ul></li><l
 i><div class="gski-epreuve-date">Le samedi 11 novembre 2017</div><ul class=
 "gski-epreuve-liste-infos"><li>Codex épreuve 9346</li><li>Slalom</li></ul><
 /li><li><div class="gski-epreuve-date">Le dimanche 12 novembre 2017</div><u
 l class="gski-epreuve-liste-infos"><li>Codex épreuve 9347</li><li>Slalom</l
 i></ul></li><li><div class="gski-epreuve-date">Le dimanche 12 novembre 2017
 </div><ul class="gski-epreuve-liste-infos"><li>Codex épreuve 9348</li><li>S
 lalom</li></ul></li><li><div class="gski-epreuve-date">Le dimanche 12 novem
 bre 2017</div><ul class="gski-epreuve-liste-infos"><li>Codex épreuve 9349</
 li><li>Slalom</li></ul></li></ul></div><div class="gskiepreuves-links"><ul>
 <li><a href="https://skivosges.net/index.php?option=com_jevents&task=icalev
 ent.detail&evid=1026&Itemid=6289">Voir les informations dans l'agenda...</a
 ></li></ul></div></div"><!-- #/gskiepreuve fin du dode généré par le plugin
  jevents pour GskiEpreuves. . Ne pas modifier cette ligne, ni tout le conte
 nu précedant.  #/gskiepreuve --> <a href="https://skivosges.net/agenda/a-ve
 nir/detailevenement/1031/-/fis-masters-amneville?tmpl=component">Cet évènem
 ent a été importé depuis :https://skivosges.net/agenda/a-venir/detailevenem
 ent/1031/-/fis-masters-amneville?tmpl=component</a>DTSTAMP:20260424T060817
DTSTART;TZID=Europe/Paris;VALUE=DATE:20171111
DTEND;TZID=Europe/Paris;VALUE=DATE:20171113
SEQUENCE:0
TRANSP:OPAQUE
END:VEVENT
END:VCALENDAR