BEGIN:VCALENDAR
VERSION:2.0
PRODID:-//jEvents 2.0 for Joomla//EN
CALSCALE:GREGORIAN
METHOD:PUBLISH
BEGIN:VTIMEZONE
TZID:Europe/Paris
BEGIN:STANDARD
DTSTART:20170302T000000
RDATE:20170326T030000
TZOFFSETFROM:+0200
TZOFFSETTO:+0100
TZNAME:Europe/Paris CET
END:STANDARD
BEGIN:STANDARD
DTSTART:20171029T020000
RDATE:20180325T030000
TZOFFSETFROM:+0200
TZOFFSETTO:+0100
TZNAME:Europe/Paris CET
END:STANDARD
BEGIN:STANDARD
DTSTART:20181028T020000
RDATE:20190331T030000
TZOFFSETFROM:+0200
TZOFFSETTO:+0100
TZNAME:Europe/Paris CET
END:STANDARD
BEGIN:STANDARD
DTSTART:20191027T020000
RDATE:20200329T030000
TZOFFSETFROM:+0200
TZOFFSETTO:+0100
TZNAME:Europe/Paris CET
END:STANDARD
BEGIN:STANDARD
DTSTART:20201025T020000
RDATE:20210328T030000
TZOFFSETFROM:+0200
TZOFFSETTO:+0100
TZNAME:Europe/Paris CET
END:STANDARD
BEGIN:STANDARD
DTSTART:20211031T020000
RDATE:20220327T030000
TZOFFSETFROM:+0200
TZOFFSETTO:+0100
TZNAME:Europe/Paris CET
END:STANDARD
BEGIN:STANDARD
DTSTART:20221030T020000
RDATE:20230326T030000
TZOFFSETFROM:+0200
TZOFFSETTO:+0100
TZNAME:Europe/Paris CET
END:STANDARD
BEGIN:STANDARD
DTSTART:20231029T020000
RDATE:20240331T030000
TZOFFSETFROM:+0200
TZOFFSETTO:+0100
TZNAME:Europe/Paris CET
END:STANDARD
BEGIN:STANDARD
DTSTART:20241027T020000
RDATE:20250330T030000
TZOFFSETFROM:+0200
TZOFFSETTO:+0100
TZNAME:Europe/Paris CET
END:STANDARD
BEGIN:STANDARD
DTSTART:20251026T020000
RDATE:20260329T030000
TZOFFSETFROM:+0200
TZOFFSETTO:+0100
TZNAME:Europe/Paris CET
END:STANDARD
BEGIN:STANDARD
DTSTART:20261025T020000
RDATE:20270328T030000
TZOFFSETFROM:+0200
TZOFFSETTO:+0100
TZNAME:Europe/Paris CET
END:STANDARD
BEGIN:DAYLIGHT
DTSTART:20170326T030000
RDATE:20171029T020000
TZOFFSETFROM:+0100
TZOFFSETTO:+0200
TZNAME:Europe/Paris CEST
END:DAYLIGHT
BEGIN:DAYLIGHT
DTSTART:20180325T030000
RDATE:20181028T020000
TZOFFSETFROM:+0100
TZOFFSETTO:+0200
TZNAME:Europe/Paris CEST
END:DAYLIGHT
BEGIN:DAYLIGHT
DTSTART:20190331T030000
RDATE:20191027T020000
TZOFFSETFROM:+0100
TZOFFSETTO:+0200
TZNAME:Europe/Paris CEST
END:DAYLIGHT
BEGIN:DAYLIGHT
DTSTART:20200329T030000
RDATE:20201025T020000
TZOFFSETFROM:+0100
TZOFFSETTO:+0200
TZNAME:Europe/Paris CEST
END:DAYLIGHT
BEGIN:DAYLIGHT
DTSTART:20210328T030000
RDATE:20211031T020000
TZOFFSETFROM:+0100
TZOFFSETTO:+0200
TZNAME:Europe/Paris CEST
END:DAYLIGHT
BEGIN:DAYLIGHT
DTSTART:20220327T030000
RDATE:20221030T020000
TZOFFSETFROM:+0100
TZOFFSETTO:+0200
TZNAME:Europe/Paris CEST
END:DAYLIGHT
BEGIN:DAYLIGHT
DTSTART:20230326T030000
RDATE:20231029T020000
TZOFFSETFROM:+0100
TZOFFSETTO:+0200
TZNAME:Europe/Paris CEST
END:DAYLIGHT
BEGIN:DAYLIGHT
DTSTART:20240331T030000
RDATE:20241027T020000
TZOFFSETFROM:+0100
TZOFFSETTO:+0200
TZNAME:Europe/Paris CEST
END:DAYLIGHT
BEGIN:DAYLIGHT
DTSTART:20250330T030000
RDATE:20251026T020000
TZOFFSETFROM:+0100
TZOFFSETTO:+0200
TZNAME:Europe/Paris CEST
END:DAYLIGHT
BEGIN:DAYLIGHT
DTSTART:20260329T030000
RDATE:20261025T020000
TZOFFSETFROM:+0100
TZOFFSETTO:+0200
TZNAME:Europe/Paris CEST
END:DAYLIGHT
END:VTIMEZONE
BEGIN:VEVENT
UID:72847966c912e4720c0d17ca8db0d47f
CATEGORIES:Compétitions Snowboard
CREATED:20180202T174251
SUMMARY:SKI1SNOWBOARD Freestyle 2018
URL;VALUE=URI:https://skivosges.net/agenda/a-venir/detailevenement/1035/-/ski1snowboard-f
 reestyle-2018?tmpl=component
DESCRIPTION:<!-- #gskiepreuve code généré par le plugin jevents pour GskiEpreuves. Ne p
 as modifier cette ligne, ni tout le contenu suivant  #gskiepreuve --><div c
 lass="gski-evenement_infos"><div class="gski-evenement-nom">SKI1SNOWBOARD F
 reestyle 2018</div><div class="gski-evenement-report"> <font class="gskiatt
 ention">(Report de l'épreuve initialement prévue le 03/02/2018)</font></div
 ><ul class="gski-evenement-liste-infos"><li>Codex évenement NMVT0010</li><l
 i>Station : BALLON D'ALSACE</li><li>Organisateur : 14494 RDOWN</li></ul><di
 v class="gski-evenement-infos-2"><div class="gski-evenement-info-inscriptio
 ns"><div class="gski-evenement-inscriptions-periodes">Période d'inscription
  à l'evènement du samedi 24 février 2018 à 00:00 au jeudi 01 mars 2018 à 12
 :00 <span class="gski-evenement-inscriptions-impossibles">(Inscriptions imp
 ossibles).</span><div class="gski-evenement-inscriptions-types-titres">Insc
 riptions ouvertes aux detenteurs des titres Fédéraux valides suivants : Lic
 enciés Compétiteurs et Titres Loisirs et Dirigeants</div></div></div><div c
 lass="gski-evenement-epreuves"><div class="gski-evenement-epreuves-titres">
 Epreuves :</div><ul class="gski-evenement-epreuves-list"><li><div class="gs
 ki-epreuve-date">Le samedi 03 mars 2018</div><ul class="gski-epreuve-liste-
 infos"><li>Codex épreuve NMVF0011</li><li>Slope Style</li><li>Catégorie(s) 
 : Toutes les Categories (Filles)</li></ul></li><li><div class="gski-epreuve
 -date">Le samedi 03 mars 2018</div><ul class="gski-epreuve-liste-infos"><li
 >Codex épreuve NMVM0011</li><li>Slope Style</li><li>Catégorie(s) : Toutes l
 es Categories (Garçons)</li></ul></li></ul></div><div class="gskiepreuves-l
 inks"><ul><li><a href="/index.php?option=com_jevents&task=icalevent.detail&
 evid=1030&Itemid=6289">Voir les informations dans l'agenda...</a></li></ul>
 </div></div"><!-- #/gskiepreuve fin du dode généré par le plugin jevents po
 ur GskiEpreuves. . Ne pas modifier cette ligne, ni tout le contenu précedan
 t.  #/gskiepreuve --> <a href="https://skivosges.net/agenda/a-venir/detaile
 venement/1035/-/ski1snowboard-freestyle-2018?tmpl=component">Cet évènement 
 a été importé depuis :https://skivosges.net/agenda/a-venir/detailevenement/
 1035/-/ski1snowboard-freestyle-2018?tmpl=component</a>
X-ALT-DESC;FMTTYPE=text/html:<!-- #gskiepreuve code généré par le plugin jevents pour GskiEpreuves. Ne p
 as modifier cette ligne, ni tout le contenu suivant  #gskiepreuve --><div c
 lass="gski-evenement_infos"><div class="gski-evenement-nom">SKI1SNOWBOARD F
 reestyle 2018</div><div class="gski-evenement-report"> <font class="gskiatt
 ention">(Report de l'épreuve initialement prévue le 03/02/2018)</font></div
 ><ul class="gski-evenement-liste-infos"><li>Codex évenement NMVT0010</li><l
 i>Station : BALLON D'ALSACE</li><li>Organisateur : 14494 RDOWN</li></ul><di
 v class="gski-evenement-infos-2"><div class="gski-evenement-info-inscriptio
 ns"><div class="gski-evenement-inscriptions-periodes">Période d'inscription
  à l'evènement du samedi 24 février 2018 à 00:00 au jeudi 01 mars 2018 à 12
 :00 <span class="gski-evenement-inscriptions-impossibles">(Inscriptions imp
 ossibles).</span><div class="gski-evenement-inscriptions-types-titres">Insc
 riptions ouvertes aux detenteurs des titres Fédéraux valides suivants : Lic
 enciés Compétiteurs et Titres Loisirs et Dirigeants</div></div></div><div c
 lass="gski-evenement-epreuves"><div class="gski-evenement-epreuves-titres">
 Epreuves :</div><ul class="gski-evenement-epreuves-list"><li><div class="gs
 ki-epreuve-date">Le samedi 03 mars 2018</div><ul class="gski-epreuve-liste-
 infos"><li>Codex épreuve NMVF0011</li><li>Slope Style</li><li>Catégorie(s) 
 : Toutes les Categories (Filles)</li></ul></li><li><div class="gski-epreuve
 -date">Le samedi 03 mars 2018</div><ul class="gski-epreuve-liste-infos"><li
 >Codex épreuve NMVM0011</li><li>Slope Style</li><li>Catégorie(s) : Toutes l
 es Categories (Garçons)</li></ul></li></ul></div><div class="gskiepreuves-l
 inks"><ul><li><a href="https://skivosges.net/index.php?option=com_jevents&t
 ask=icalevent.detail&evid=1030&Itemid=6289">Voir les informations dans l'ag
 enda...</a></li></ul></div></div"><!-- #/gskiepreuve fin du dode généré par
  le plugin jevents pour GskiEpreuves. . Ne pas modifier cette ligne, ni tou
 t le contenu précedant.  #/gskiepreuve --> <a href="https://skivosges.net/a
 genda/a-venir/detailevenement/1035/-/ski1snowboard-freestyle-2018?tmpl=comp
 onent">Cet évènement a été importé depuis :https://skivosges.net/agenda/a-v
 enir/detailevenement/1035/-/ski1snowboard-freestyle-2018?tmpl=component</a>DTSTAMP:20260424T012600
DTSTART;TZID=Europe/Paris;VALUE=DATE:20180303
DTEND;TZID=Europe/Paris;VALUE=DATE:20180304
SEQUENCE:0
TRANSP:OPAQUE
END:VEVENT
END:VCALENDAR