BEGIN:VCALENDAR
VERSION:2.0
PRODID:-//jEvents 2.0 for Joomla//EN
CALSCALE:GREGORIAN
METHOD:PUBLISH
BEGIN:VTIMEZONE
TZID:Europe/Paris
BEGIN:STANDARD
DTSTART:20170210T000000
RDATE:20170326T030000
TZOFFSETFROM:+0200
TZOFFSETTO:+0100
TZNAME:Europe/Paris CET
END:STANDARD
BEGIN:STANDARD
DTSTART:20171029T020000
RDATE:20180325T030000
TZOFFSETFROM:+0200
TZOFFSETTO:+0100
TZNAME:Europe/Paris CET
END:STANDARD
BEGIN:STANDARD
DTSTART:20181028T020000
RDATE:20190331T030000
TZOFFSETFROM:+0200
TZOFFSETTO:+0100
TZNAME:Europe/Paris CET
END:STANDARD
BEGIN:STANDARD
DTSTART:20191027T020000
RDATE:20200329T030000
TZOFFSETFROM:+0200
TZOFFSETTO:+0100
TZNAME:Europe/Paris CET
END:STANDARD
BEGIN:STANDARD
DTSTART:20201025T020000
RDATE:20210328T030000
TZOFFSETFROM:+0200
TZOFFSETTO:+0100
TZNAME:Europe/Paris CET
END:STANDARD
BEGIN:STANDARD
DTSTART:20211031T020000
RDATE:20220327T030000
TZOFFSETFROM:+0200
TZOFFSETTO:+0100
TZNAME:Europe/Paris CET
END:STANDARD
BEGIN:STANDARD
DTSTART:20221030T020000
RDATE:20230326T030000
TZOFFSETFROM:+0200
TZOFFSETTO:+0100
TZNAME:Europe/Paris CET
END:STANDARD
BEGIN:STANDARD
DTSTART:20231029T020000
RDATE:20240331T030000
TZOFFSETFROM:+0200
TZOFFSETTO:+0100
TZNAME:Europe/Paris CET
END:STANDARD
BEGIN:STANDARD
DTSTART:20241027T020000
RDATE:20250330T030000
TZOFFSETFROM:+0200
TZOFFSETTO:+0100
TZNAME:Europe/Paris CET
END:STANDARD
BEGIN:STANDARD
DTSTART:20251026T020000
RDATE:20260329T030000
TZOFFSETFROM:+0200
TZOFFSETTO:+0100
TZNAME:Europe/Paris CET
END:STANDARD
BEGIN:STANDARD
DTSTART:20261025T020000
RDATE:20270328T030000
TZOFFSETFROM:+0200
TZOFFSETTO:+0100
TZNAME:Europe/Paris CET
END:STANDARD
BEGIN:DAYLIGHT
DTSTART:20170326T030000
RDATE:20171029T020000
TZOFFSETFROM:+0100
TZOFFSETTO:+0200
TZNAME:Europe/Paris CEST
END:DAYLIGHT
BEGIN:DAYLIGHT
DTSTART:20180325T030000
RDATE:20181028T020000
TZOFFSETFROM:+0100
TZOFFSETTO:+0200
TZNAME:Europe/Paris CEST
END:DAYLIGHT
BEGIN:DAYLIGHT
DTSTART:20190331T030000
RDATE:20191027T020000
TZOFFSETFROM:+0100
TZOFFSETTO:+0200
TZNAME:Europe/Paris CEST
END:DAYLIGHT
BEGIN:DAYLIGHT
DTSTART:20200329T030000
RDATE:20201025T020000
TZOFFSETFROM:+0100
TZOFFSETTO:+0200
TZNAME:Europe/Paris CEST
END:DAYLIGHT
BEGIN:DAYLIGHT
DTSTART:20210328T030000
RDATE:20211031T020000
TZOFFSETFROM:+0100
TZOFFSETTO:+0200
TZNAME:Europe/Paris CEST
END:DAYLIGHT
BEGIN:DAYLIGHT
DTSTART:20220327T030000
RDATE:20221030T020000
TZOFFSETFROM:+0100
TZOFFSETTO:+0200
TZNAME:Europe/Paris CEST
END:DAYLIGHT
BEGIN:DAYLIGHT
DTSTART:20230326T030000
RDATE:20231029T020000
TZOFFSETFROM:+0100
TZOFFSETTO:+0200
TZNAME:Europe/Paris CEST
END:DAYLIGHT
BEGIN:DAYLIGHT
DTSTART:20240331T030000
RDATE:20241027T020000
TZOFFSETFROM:+0100
TZOFFSETTO:+0200
TZNAME:Europe/Paris CEST
END:DAYLIGHT
BEGIN:DAYLIGHT
DTSTART:20250330T030000
RDATE:20251026T020000
TZOFFSETFROM:+0100
TZOFFSETTO:+0200
TZNAME:Europe/Paris CEST
END:DAYLIGHT
BEGIN:DAYLIGHT
DTSTART:20260329T030000
RDATE:20261025T020000
TZOFFSETFROM:+0100
TZOFFSETTO:+0200
TZNAME:Europe/Paris CEST
END:DAYLIGHT
END:VTIMEZONE
BEGIN:VEVENT
UID:aa6da5a7dd7c4510459c061a2e269b58
CATEGORIES:Opens et Promos (alpin)
CREATED:20180205T235612
SUMMARY:PROMO Haribo Snow Kids Cup 2018 Epreuve 3
URL;VALUE=URI:https://skivosges.net/agenda/a-venir/detailevenement/1039/-/promo-haribo-sn
 ow-kids-cup-2018-epreuve-3?tmpl=component
DESCRIPTION:PROMO Haribo Snow Kids Cup 2018 Epreuve 3 (Report de l'épreuve initialement
  prévue le 07/02/2018)\n - Codex évenement AMVT1000\n - Lieu : STADE DE SLA
 LOM SERGE LANG\n - Station : MARKSTEIN\n - Piste : STADE DE SLALOM\n - Orga
 nisateur : 14186 S.C VALLEE DE WESSERLING\n - Courriel : RegularLabs.EmailP
 rotector.unCloak("ep_38838de8");\n - Téléphone : 03 89 82 78 08\n - Délégué
  Technique : MULLER JEAN CLAUDEPériode d'inscription à l'evènement du diman
 che 04 février 2018 à 00:00 au samedi 10 février 2018 à 15:00 (Inscriptions
  impossibles).Inscriptions ouvertes aux detenteurs des titres Fédéraux vali
 des suivants : Licenciés Compétiteurs et Titres Loisirs et DirigeantsEpreuv
 es :\n - Le mercredi 07 février 2018\n - Codex épreuve AMVM1001\n - Slalom 
 Geant\n - Catégorie(s) : U8/U10 (Garçons)\n - Le mercredi 07 février 2018\n
  - Codex épreuve AMVF1001\n - Slalom Geant\n - Catégorie(s) : U8/U10 (Fille
 s)\n - Le mercredi 07 février 2018\n - Codex épreuve AMVM1002\n - Slalom Ge
 ant\n - Catégorie(s) : U12 a U16 (Garçons)\n - Le mercredi 07 février 2018\
 n - Codex épreuve AMVF1002\n - Slalom Geant\n - Catégorie(s) : U12 a U16 (F
 illes)\n - Voir les informations dans l'agenda... (/index.php?option=com_je
 vents&amp;task=icalevent.detail&amp;evid=1034&amp;Itemid=6289)\n - Vers les
  résultats... (/index.php?option=com_gskiepreuves&amp;view=afficheresultats
 &amp;format_option=tous&amp;filter[search]=AMVT1000&amp;filter[date_debut]=
 11-02-2018&amp;filter[date_fin]=11-02-2018&amp;code_activite=ALP&amp;Itemid
 =6289)\n - Publications concernant cet évènement :\n - Samedi 10 Février 20
 18 à 15:11 : Le 11/02/2018 MARKSTEIN Liste de départs Cet évènement a été i
 mporté depuis :https://skivosges.net/agenda/a-venir/detailevenement/1039/-/
 promo-haribo-snow-kids-cup-2018-epreuve-3?tmpl=component
X-ALT-DESC;FMTTYPE=text/html:<!-- #gskiepreuve code généré par le plugin jevents pour GskiEpreuves. Ne p
 as modifier cette ligne, ni tout le contenu suivant  #gskiepreuve --><div c
 lass="gski-evenement_infos"><div class="gski-evenement-nom">PROMO Haribo Sn
 ow Kids Cup 2018 Epreuve 3</div><div class="gski-evenement-report"> <font c
 lass="gskiattention">(Report de l'épreuve initialement prévue le 07/02/2018
 )</font></div><ul class="gski-evenement-liste-infos"><li>Codex évenement AM
 VT1000</li><li>Lieu : STADE DE SLALOM SERGE LANG</li><li>Station : MARKSTEI
 N</li><li>Piste : STADE DE SLALOM</li><li>Organisateur : 14186 S.C VALLEE D
 E WESSERLING</li><li>Courriel : <!-- Cette adresse électronique est protégé
 e contre les robots spammeurs. --><span class="cloaked_email ep_38838de8"><
 span data-ep-a="s&#99;&#118;&#119;" data-ep-b="&#109;"><span data-ep-a="&#1
 01;&#115;&#115;&#101;" data-ep-b="&#108;.c&#111;"><span data-ep-b="&#103;&#
 64;&#97;&#111;" data-ep-a="&#114;&#108;&#105;&#110;"></span></span></span><
 /span><script>RegularLabs.EmailProtector.unCloak("ep_38838de8");</script></
 li><li>Téléphone : 03 89 82 78 08</li><li><span class="gski-evenement-obs">
 Délégué Technique : MULLER JEAN CLAUDE</span></li></ul><div class="gski-eve
 nement-infos-2"><div class="gski-evenement-info-inscriptions"><div class="g
 ski-evenement-inscriptions-periodes">Période d'inscription à l'evènement du
  dimanche 04 février 2018 à 00:00 au samedi 10 février 2018 à 15:00 <span c
 lass="gski-evenement-inscriptions-impossibles">(Inscriptions impossibles).<
 /span><div class="gski-evenement-inscriptions-types-titres">Inscriptions ou
 vertes aux detenteurs des titres Fédéraux valides suivants : Licenciés Comp
 étiteurs et Titres Loisirs et Dirigeants</div></div></div><div class="gski-
 evenement-epreuves"><div class="gski-evenement-epreuves-titres">Epreuves :<
 /div><ul class="gski-evenement-epreuves-list"><li><div class="gski-epreuve-
 date">Le mercredi 07 février 2018</div><ul class="gski-epreuve-liste-infos"
 ><li>Codex épreuve AMVM1001</li><li>Slalom Geant</li><li>Catégorie(s) : U8/
 U10 (Garçons)</li></ul></li><li><div class="gski-epreuve-date">Le mercredi 
 07 février 2018</div><ul class="gski-epreuve-liste-infos"><li>Codex épreuve
  AMVF1001</li><li>Slalom Geant</li><li>Catégorie(s) : U8/U10 (Filles)</li><
 /ul></li><li><div class="gski-epreuve-date">Le mercredi 07 février 2018</di
 v><ul class="gski-epreuve-liste-infos"><li>Codex épreuve AMVM1002</li><li>S
 lalom Geant</li><li>Catégorie(s) : U12 a U16 (Garçons)</li></ul></li><li><d
 iv class="gski-epreuve-date">Le mercredi 07 février 2018</div><ul class="gs
 ki-epreuve-liste-infos"><li>Codex épreuve AMVF1002</li><li>Slalom Geant</li
 ><li>Catégorie(s) : U12 a U16 (Filles)</li></ul></li></ul></div><div class=
 "gskiepreuves-links"><ul><li><a href="https://skivosges.net/index.php?optio
 n=com_jevents&task=icalevent.detail&evid=1034&Itemid=6289">Voir les informa
 tions dans l'agenda...</a></li><li><a href="https://skivosges.net/index.php
 ?option=com_gskiepreuves&view=afficheresultats&format_option=tous&filter[se
 arch]=AMVT1000&filter[date_debut]=11-02-2018&filter[date_fin]=11-02-2018&co
 de_activite=ALP&Itemid=6289">Vers les résultats...</a></li><li>Publications
  concernant cet évènement :<ul><li><a href="https://skivosges.net/index.php
 ?option=com_content&view=article&id=6129&Itemid=6289">Samedi 10 Février 201
 8 à 15:11 : Le 11/02/2018 MARKSTEIN Liste de départs</a></li></ul></li></ul
 ></div></div"><!-- #/gskiepreuve fin du dode généré par le plugin jevents p
 our GskiEpreuves. . Ne pas modifier cette ligne, ni tout le contenu préceda
 nt.  #/gskiepreuve --> <a href="https://skivosges.net/agenda/a-venir/detail
 evenement/1039/-/promo-haribo-snow-kids-cup-2018-epreuve-3?tmpl=component">
 Cet évènement a été importé depuis :https://skivosges.net/agenda/a-venir/de
 tailevenement/1039/-/promo-haribo-snow-kids-cup-2018-epreuve-3?tmpl=compone
 nt</a>DTSTAMP:20260424T074017
DTSTART;TZID=Europe/Paris;VALUE=DATE:20180211
DTEND;TZID=Europe/Paris;VALUE=DATE:20180212
SEQUENCE:0
TRANSP:OPAQUE
END:VEVENT
END:VCALENDAR