BEGIN:VCALENDAR
VERSION:2.0
PRODID:-//jEvents 2.0 for Joomla//EN
CALSCALE:GREGORIAN
METHOD:PUBLISH
BEGIN:VTIMEZONE
TZID:Europe/Paris
BEGIN:STANDARD
DTSTART:20130125T080000
RDATE:20130331T030000
TZOFFSETFROM:+0200
TZOFFSETTO:+0100
TZNAME:Europe/Paris CET
END:STANDARD
BEGIN:STANDARD
DTSTART:20131027T020000
RDATE:20140330T030000
TZOFFSETFROM:+0200
TZOFFSETTO:+0100
TZNAME:Europe/Paris CET
END:STANDARD
BEGIN:STANDARD
DTSTART:20141026T020000
RDATE:20150329T030000
TZOFFSETFROM:+0200
TZOFFSETTO:+0100
TZNAME:Europe/Paris CET
END:STANDARD
BEGIN:STANDARD
DTSTART:20151025T020000
RDATE:20160327T030000
TZOFFSETFROM:+0200
TZOFFSETTO:+0100
TZNAME:Europe/Paris CET
END:STANDARD
BEGIN:STANDARD
DTSTART:20161030T020000
RDATE:20170326T030000
TZOFFSETFROM:+0200
TZOFFSETTO:+0100
TZNAME:Europe/Paris CET
END:STANDARD
BEGIN:STANDARD
DTSTART:20171029T020000
RDATE:20180325T030000
TZOFFSETFROM:+0200
TZOFFSETTO:+0100
TZNAME:Europe/Paris CET
END:STANDARD
BEGIN:STANDARD
DTSTART:20181028T020000
RDATE:20190331T030000
TZOFFSETFROM:+0200
TZOFFSETTO:+0100
TZNAME:Europe/Paris CET
END:STANDARD
BEGIN:STANDARD
DTSTART:20191027T020000
RDATE:20200329T030000
TZOFFSETFROM:+0200
TZOFFSETTO:+0100
TZNAME:Europe/Paris CET
END:STANDARD
BEGIN:STANDARD
DTSTART:20201025T020000
RDATE:20210328T030000
TZOFFSETFROM:+0200
TZOFFSETTO:+0100
TZNAME:Europe/Paris CET
END:STANDARD
BEGIN:STANDARD
DTSTART:20211031T020000
RDATE:20220327T030000
TZOFFSETFROM:+0200
TZOFFSETTO:+0100
TZNAME:Europe/Paris CET
END:STANDARD
BEGIN:STANDARD
DTSTART:20221030T020000
RDATE:20230326T030000
TZOFFSETFROM:+0200
TZOFFSETTO:+0100
TZNAME:Europe/Paris CET
END:STANDARD
BEGIN:STANDARD
DTSTART:20231029T020000
RDATE:20240331T030000
TZOFFSETFROM:+0200
TZOFFSETTO:+0100
TZNAME:Europe/Paris CET
END:STANDARD
BEGIN:STANDARD
DTSTART:20241027T020000
RDATE:20250330T030000
TZOFFSETFROM:+0200
TZOFFSETTO:+0100
TZNAME:Europe/Paris CET
END:STANDARD
BEGIN:STANDARD
DTSTART:20251026T020000
RDATE:20260329T030000
TZOFFSETFROM:+0200
TZOFFSETTO:+0100
TZNAME:Europe/Paris CET
END:STANDARD
BEGIN:STANDARD
DTSTART:20261025T020000
RDATE:20270328T030000
TZOFFSETFROM:+0200
TZOFFSETTO:+0100
TZNAME:Europe/Paris CET
END:STANDARD
BEGIN:DAYLIGHT
DTSTART:20130331T030000
RDATE:20131027T020000
TZOFFSETFROM:+0100
TZOFFSETTO:+0200
TZNAME:Europe/Paris CEST
END:DAYLIGHT
BEGIN:DAYLIGHT
DTSTART:20140330T030000
RDATE:20141026T020000
TZOFFSETFROM:+0100
TZOFFSETTO:+0200
TZNAME:Europe/Paris CEST
END:DAYLIGHT
BEGIN:DAYLIGHT
DTSTART:20150329T030000
RDATE:20151025T020000
TZOFFSETFROM:+0100
TZOFFSETTO:+0200
TZNAME:Europe/Paris CEST
END:DAYLIGHT
BEGIN:DAYLIGHT
DTSTART:20160327T030000
RDATE:20161030T020000
TZOFFSETFROM:+0100
TZOFFSETTO:+0200
TZNAME:Europe/Paris CEST
END:DAYLIGHT
BEGIN:DAYLIGHT
DTSTART:20170326T030000
RDATE:20171029T020000
TZOFFSETFROM:+0100
TZOFFSETTO:+0200
TZNAME:Europe/Paris CEST
END:DAYLIGHT
BEGIN:DAYLIGHT
DTSTART:20180325T030000
RDATE:20181028T020000
TZOFFSETFROM:+0100
TZOFFSETTO:+0200
TZNAME:Europe/Paris CEST
END:DAYLIGHT
BEGIN:DAYLIGHT
DTSTART:20190331T030000
RDATE:20191027T020000
TZOFFSETFROM:+0100
TZOFFSETTO:+0200
TZNAME:Europe/Paris CEST
END:DAYLIGHT
BEGIN:DAYLIGHT
DTSTART:20200329T030000
RDATE:20201025T020000
TZOFFSETFROM:+0100
TZOFFSETTO:+0200
TZNAME:Europe/Paris CEST
END:DAYLIGHT
BEGIN:DAYLIGHT
DTSTART:20210328T030000
RDATE:20211031T020000
TZOFFSETFROM:+0100
TZOFFSETTO:+0200
TZNAME:Europe/Paris CEST
END:DAYLIGHT
BEGIN:DAYLIGHT
DTSTART:20220327T030000
RDATE:20221030T020000
TZOFFSETFROM:+0100
TZOFFSETTO:+0200
TZNAME:Europe/Paris CEST
END:DAYLIGHT
BEGIN:DAYLIGHT
DTSTART:20230326T030000
RDATE:20231029T020000
TZOFFSETFROM:+0100
TZOFFSETTO:+0200
TZNAME:Europe/Paris CEST
END:DAYLIGHT
BEGIN:DAYLIGHT
DTSTART:20240331T030000
RDATE:20241027T020000
TZOFFSETFROM:+0100
TZOFFSETTO:+0200
TZNAME:Europe/Paris CEST
END:DAYLIGHT
BEGIN:DAYLIGHT
DTSTART:20250330T030000
RDATE:20251026T020000
TZOFFSETFROM:+0100
TZOFFSETTO:+0200
TZNAME:Europe/Paris CEST
END:DAYLIGHT
BEGIN:DAYLIGHT
DTSTART:20260329T030000
RDATE:20261025T020000
TZOFFSETFROM:+0100
TZOFFSETTO:+0200
TZNAME:Europe/Paris CEST
END:DAYLIGHT
END:VTIMEZONE
BEGIN:VEVENT
UID:bc448d0105eebe0bf0688be71be97b31
CATEGORIES:Circuit Massif Jeunes (alpin)
CREATED:20131203T122100
SUMMARY:GPJ U12 et U14 GP de la Ville de Strasbourg / Cpe d´Argent **REPORTE**
URL;VALUE=URI:https://skivosges.net/agenda/a-venir/detailevenement/104/-/gpj-u12-et-u14-g
 p-de-la-ville-de-strasbourg-cpe-dargent-reporte?tmpl=component
DESCRIPTION:GPJ U12 et U14 GP de la Ville de Strasbourg / Cpe d´Argent (Epreuve reporté
 e, date à determiner) \n(Grand Prix Jeunes)\n\nLieu : LAC BLANC \nOrganisat
 eur : SKIEURS DE STRASBOURG  (14077 SKIEURS DE STRASBOURG)\nEmail : Regular
 Labs.EmailProtector.unCloak("ep_a883bbe9");\nTelecopie : 03 88 57 61 39\n\n
 Inscriptions en cours sur ce site\n - AMVF0301  Slalom Geant (Coupe d'Argen
 t) de 10 a 13ans au 31/12/2012 (Pou/Ben) Filles\n  GPJ U12 et U14 GP de la 
 Ville de Strasbourg / Cpe d'Argent\n - AMVM0301  Slalom Geant (Coupe d'Arge
 nt) de 10 a 13ans au 31/12/2012 (Pou/Ben) Garçons\n  GPJ U12 et U14 GP de l
 a Ville de Strasbourg / Cpe d'Argent Cet évènement a été importé depuis :ht
 tps://skivosges.net/agenda/a-venir/detailevenement/104/-/gpj-u12-et-u14-gp-
 de-la-ville-de-strasbourg-cpe-dargent-reporte?tmpl=component
X-ALT-DESC;FMTTYPE=text/html:<strong>GPJ U12 et U14 GP de la Ville de Strasbourg / Cpe d´Argent</strong>
  <font class="attention4">(Epreuve reportée, date à determiner)</font> <br 
 /><i>(Grand Prix Jeunes)</i><br /><br />Lieu : LAC BLANC <br />Organisateur
  : SKIEURS DE STRASBOURG  <small>(14077 SKIEURS DE STRASBOURG)</small><br /
 >Email : <!-- Cette adresse électronique est protégée contre les robots spa
 mmeurs. --><span class="cloaked_email ep_a883bbe9"><span data-ep-b="&#102;r
 " data-ep-a="&#106;&#45;&#112;&#104;"><span data-ep-b="d&#111;&#111;&#46;" 
 data-ep-a="&#46;&#104;&#111;&#108;"><span data-ep-a="&#119;e&#103;&#64;" da
 ta-ep-b="&#119;&#97;n&#97;"></span></span></span></span><script>RegularLabs
 .EmailProtector.unCloak("ep_a883bbe9");</script><br />Telecopie : 03 88 57 
 61 39<br /><br />Inscriptions en cours sur ce site<ul type="disc"><li>AMVF0
 301  Slalom Geant <nobr><i>(Coupe d'Argent)</i></nobr> <nobr>de 10 a 13ans 
 au 31/12/2012 (Pou/Ben)</nobr> Filles<br />&nbsp;&nbsp;GPJ U12 et U14 GP de
  la Ville de Strasbourg / Cpe d'Argent</li><li>AMVM0301  Slalom Geant <nobr
 ><i>(Coupe d'Argent)</i></nobr> <nobr>de 10 a 13ans au 31/12/2012 (Pou/Ben)
 </nobr> Garçons<br />&nbsp;&nbsp;GPJ U12 et U14 GP de la Ville de Strasbour
 g / Cpe d'Argent</li></ul> <a href="https://skivosges.net/agenda/a-venir/de
 tailevenement/104/-/gpj-u12-et-u14-gp-de-la-ville-de-strasbourg-cpe-dargent
 -reporte?tmpl=component">Cet évènement a été importé depuis :https://skivos
 ges.net/agenda/a-venir/detailevenement/104/-/gpj-u12-et-u14-gp-de-la-ville-
 de-strasbourg-cpe-dargent-reporte?tmpl=component</a>DTSTAMP:20260424T015208
DTSTART;TZID=Europe/Paris:20140126T080000
DTEND;TZID=Europe/Paris:20140126T170000
SEQUENCE:0
TRANSP:OPAQUE
END:VEVENT
END:VCALENDAR