BEGIN:VCALENDAR
VERSION:2.0
PRODID:-//jEvents 2.0 for Joomla//EN
CALSCALE:GREGORIAN
METHOD:PUBLISH
BEGIN:VTIMEZONE
TZID:Europe/Paris
BEGIN:STANDARD
DTSTART:20130125T080000
RDATE:20130331T030000
TZOFFSETFROM:+0200
TZOFFSETTO:+0100
TZNAME:Europe/Paris CET
END:STANDARD
BEGIN:STANDARD
DTSTART:20131027T020000
RDATE:20140330T030000
TZOFFSETFROM:+0200
TZOFFSETTO:+0100
TZNAME:Europe/Paris CET
END:STANDARD
BEGIN:STANDARD
DTSTART:20141026T020000
RDATE:20150329T030000
TZOFFSETFROM:+0200
TZOFFSETTO:+0100
TZNAME:Europe/Paris CET
END:STANDARD
BEGIN:STANDARD
DTSTART:20151025T020000
RDATE:20160327T030000
TZOFFSETFROM:+0200
TZOFFSETTO:+0100
TZNAME:Europe/Paris CET
END:STANDARD
BEGIN:STANDARD
DTSTART:20161030T020000
RDATE:20170326T030000
TZOFFSETFROM:+0200
TZOFFSETTO:+0100
TZNAME:Europe/Paris CET
END:STANDARD
BEGIN:STANDARD
DTSTART:20171029T020000
RDATE:20180325T030000
TZOFFSETFROM:+0200
TZOFFSETTO:+0100
TZNAME:Europe/Paris CET
END:STANDARD
BEGIN:STANDARD
DTSTART:20181028T020000
RDATE:20190331T030000
TZOFFSETFROM:+0200
TZOFFSETTO:+0100
TZNAME:Europe/Paris CET
END:STANDARD
BEGIN:STANDARD
DTSTART:20191027T020000
RDATE:20200329T030000
TZOFFSETFROM:+0200
TZOFFSETTO:+0100
TZNAME:Europe/Paris CET
END:STANDARD
BEGIN:STANDARD
DTSTART:20201025T020000
RDATE:20210328T030000
TZOFFSETFROM:+0200
TZOFFSETTO:+0100
TZNAME:Europe/Paris CET
END:STANDARD
BEGIN:STANDARD
DTSTART:20211031T020000
RDATE:20220327T030000
TZOFFSETFROM:+0200
TZOFFSETTO:+0100
TZNAME:Europe/Paris CET
END:STANDARD
BEGIN:STANDARD
DTSTART:20221030T020000
RDATE:20230326T030000
TZOFFSETFROM:+0200
TZOFFSETTO:+0100
TZNAME:Europe/Paris CET
END:STANDARD
BEGIN:STANDARD
DTSTART:20231029T020000
RDATE:20240331T030000
TZOFFSETFROM:+0200
TZOFFSETTO:+0100
TZNAME:Europe/Paris CET
END:STANDARD
BEGIN:STANDARD
DTSTART:20241027T020000
RDATE:20250330T030000
TZOFFSETFROM:+0200
TZOFFSETTO:+0100
TZNAME:Europe/Paris CET
END:STANDARD
BEGIN:STANDARD
DTSTART:20251026T020000
RDATE:20260329T030000
TZOFFSETFROM:+0200
TZOFFSETTO:+0100
TZNAME:Europe/Paris CET
END:STANDARD
BEGIN:STANDARD
DTSTART:20261025T020000
RDATE:20270328T030000
TZOFFSETFROM:+0200
TZOFFSETTO:+0100
TZNAME:Europe/Paris CET
END:STANDARD
BEGIN:DAYLIGHT
DTSTART:20130331T030000
RDATE:20131027T020000
TZOFFSETFROM:+0100
TZOFFSETTO:+0200
TZNAME:Europe/Paris CEST
END:DAYLIGHT
BEGIN:DAYLIGHT
DTSTART:20140330T030000
RDATE:20141026T020000
TZOFFSETFROM:+0100
TZOFFSETTO:+0200
TZNAME:Europe/Paris CEST
END:DAYLIGHT
BEGIN:DAYLIGHT
DTSTART:20150329T030000
RDATE:20151025T020000
TZOFFSETFROM:+0100
TZOFFSETTO:+0200
TZNAME:Europe/Paris CEST
END:DAYLIGHT
BEGIN:DAYLIGHT
DTSTART:20160327T030000
RDATE:20161030T020000
TZOFFSETFROM:+0100
TZOFFSETTO:+0200
TZNAME:Europe/Paris CEST
END:DAYLIGHT
BEGIN:DAYLIGHT
DTSTART:20170326T030000
RDATE:20171029T020000
TZOFFSETFROM:+0100
TZOFFSETTO:+0200
TZNAME:Europe/Paris CEST
END:DAYLIGHT
BEGIN:DAYLIGHT
DTSTART:20180325T030000
RDATE:20181028T020000
TZOFFSETFROM:+0100
TZOFFSETTO:+0200
TZNAME:Europe/Paris CEST
END:DAYLIGHT
BEGIN:DAYLIGHT
DTSTART:20190331T030000
RDATE:20191027T020000
TZOFFSETFROM:+0100
TZOFFSETTO:+0200
TZNAME:Europe/Paris CEST
END:DAYLIGHT
BEGIN:DAYLIGHT
DTSTART:20200329T030000
RDATE:20201025T020000
TZOFFSETFROM:+0100
TZOFFSETTO:+0200
TZNAME:Europe/Paris CEST
END:DAYLIGHT
BEGIN:DAYLIGHT
DTSTART:20210328T030000
RDATE:20211031T020000
TZOFFSETFROM:+0100
TZOFFSETTO:+0200
TZNAME:Europe/Paris CEST
END:DAYLIGHT
BEGIN:DAYLIGHT
DTSTART:20220327T030000
RDATE:20221030T020000
TZOFFSETFROM:+0100
TZOFFSETTO:+0200
TZNAME:Europe/Paris CEST
END:DAYLIGHT
BEGIN:DAYLIGHT
DTSTART:20230326T030000
RDATE:20231029T020000
TZOFFSETFROM:+0100
TZOFFSETTO:+0200
TZNAME:Europe/Paris CEST
END:DAYLIGHT
BEGIN:DAYLIGHT
DTSTART:20240331T030000
RDATE:20241027T020000
TZOFFSETFROM:+0100
TZOFFSETTO:+0200
TZNAME:Europe/Paris CEST
END:DAYLIGHT
BEGIN:DAYLIGHT
DTSTART:20250330T030000
RDATE:20251026T020000
TZOFFSETFROM:+0100
TZOFFSETTO:+0200
TZNAME:Europe/Paris CEST
END:DAYLIGHT
BEGIN:DAYLIGHT
DTSTART:20260329T030000
RDATE:20261025T020000
TZOFFSETFROM:+0100
TZOFFSETTO:+0200
TZNAME:Europe/Paris CEST
END:DAYLIGHT
END:VTIMEZONE
BEGIN:VEVENT
UID:ef328bfc2e57f14c9837adad3d2b2283
CATEGORIES:Circuit Lorraine Adultes (alpin)
CREATED:20131203T122100
SUMMARY:CLA        Prix Azureva
URL;VALUE=URI:https://skivosges.net/agenda/a-venir/detailevenement/105/-/cla-prix-azureva
 ?tmpl=component
DESCRIPTION:CLA        Prix Azureva \n(Coupe de Lorraine Adultes)\n\nLieu : BUSSANG LAR
 CENAIRE \nOrganisateur : UNION SPORTIVE BUSSANG  (14007 UNION SPORTIVE BUSS
 ANG)\nEmail : RegularLabs.EmailProtector.unCloak("ep_657d1b79");\nTelecopie
  : 03 29 61 54 57\n\nInscriptions prévues sur le site (dès début de période
  d´inscription)\n - AMVF0321  Slalom (Courses FFS) U16-&gt;Mas (Min à Mast/
 Vet) Dames\n  CLA        Prix Azureva\n - AMVM0321  Slalom (Courses FFS) U1
 6-&gt;Mas (Min à Mast/Vet) Hommes\n  CLA        Prix Azureva Cet évènement 
 a été importé depuis :https://skivosges.net/agenda/a-venir/detailevenement/
 105/-/cla-prix-azureva?tmpl=component
X-ALT-DESC;FMTTYPE=text/html:<strong>CLA        Prix Azureva</strong> <br /><i>(Coupe de Lorraine Adulte
 s)</i><br /><br />Lieu : BUSSANG LARCENAIRE <br />Organisateur : UNION SPOR
 TIVE BUSSANG  <small>(14007 UNION SPORTIVE BUSSANG)</small><br />Email : <!
 -- Cette adresse électronique est protégée contre les robots spammeurs. -->
 <span class="cloaked_email ep_657d1b79"><span data-ep-b="" data-ep-a="&#100
 ;&#97;&#110;&#105;&#101;"><span data-ep-a="&#108;&#46;&#109;&#111;&#114;" d
 ata-ep-b="o&#111;.&#102;&#114;"><span data-ep-a="&#101;&#108;&#50;&#53;&#64
 ;" data-ep-b="&#119;&#97;&#110;&#97;d"></span></span></span></span><script>
 RegularLabs.EmailProtector.unCloak("ep_657d1b79");</script><br />Telecopie 
 : 03 29 61 54 57<br /><br />Inscriptions prévues sur le site <small>(dès dé
 but de période d´inscription)</small><ul type="disc"><li>AMVF0321  Slalom <
 nobr><i>(Courses FFS)</i></nobr> <nobr>U16->Mas (Min à Mast/Vet)</nobr> Dam
 es<br />&nbsp;&nbsp;CLA        Prix Azureva</li><li>AMVM0321  Slalom <nobr>
 <i>(Courses FFS)</i></nobr> <nobr>U16->Mas (Min à Mast/Vet)</nobr> Hommes<b
 r />&nbsp;&nbsp;CLA        Prix Azureva</li></ul> <a href="https://skivosge
 s.net/agenda/a-venir/detailevenement/105/-/cla-prix-azureva?tmpl=component"
 >Cet évènement a été importé depuis :https://skivosges.net/agenda/a-venir/d
 etailevenement/105/-/cla-prix-azureva?tmpl=component</a>DTSTAMP:20260424T030541
DTSTART;TZID=Europe/Paris:20140126T080000
DTEND;TZID=Europe/Paris:20140126T170000
SEQUENCE:0
TRANSP:OPAQUE
END:VEVENT
END:VCALENDAR