BEGIN:VCALENDAR
VERSION:2.0
PRODID:-//jEvents 2.0 for Joomla//EN
CALSCALE:GREGORIAN
METHOD:PUBLISH
BEGIN:VTIMEZONE
TZID:Europe/Paris
BEGIN:STANDARD
DTSTART:20170310T000000
RDATE:20170326T030000
TZOFFSETFROM:+0200
TZOFFSETTO:+0100
TZNAME:Europe/Paris CET
END:STANDARD
BEGIN:STANDARD
DTSTART:20171029T020000
RDATE:20180325T030000
TZOFFSETFROM:+0200
TZOFFSETTO:+0100
TZNAME:Europe/Paris CET
END:STANDARD
BEGIN:STANDARD
DTSTART:20181028T020000
RDATE:20190331T030000
TZOFFSETFROM:+0200
TZOFFSETTO:+0100
TZNAME:Europe/Paris CET
END:STANDARD
BEGIN:STANDARD
DTSTART:20191027T020000
RDATE:20200329T030000
TZOFFSETFROM:+0200
TZOFFSETTO:+0100
TZNAME:Europe/Paris CET
END:STANDARD
BEGIN:STANDARD
DTSTART:20201025T020000
RDATE:20210328T030000
TZOFFSETFROM:+0200
TZOFFSETTO:+0100
TZNAME:Europe/Paris CET
END:STANDARD
BEGIN:STANDARD
DTSTART:20211031T020000
RDATE:20220327T030000
TZOFFSETFROM:+0200
TZOFFSETTO:+0100
TZNAME:Europe/Paris CET
END:STANDARD
BEGIN:STANDARD
DTSTART:20221030T020000
RDATE:20230326T030000
TZOFFSETFROM:+0200
TZOFFSETTO:+0100
TZNAME:Europe/Paris CET
END:STANDARD
BEGIN:STANDARD
DTSTART:20231029T020000
RDATE:20240331T030000
TZOFFSETFROM:+0200
TZOFFSETTO:+0100
TZNAME:Europe/Paris CET
END:STANDARD
BEGIN:STANDARD
DTSTART:20241027T020000
RDATE:20250330T030000
TZOFFSETFROM:+0200
TZOFFSETTO:+0100
TZNAME:Europe/Paris CET
END:STANDARD
BEGIN:STANDARD
DTSTART:20251026T020000
RDATE:20260329T030000
TZOFFSETFROM:+0200
TZOFFSETTO:+0100
TZNAME:Europe/Paris CET
END:STANDARD
BEGIN:STANDARD
DTSTART:20261025T020000
RDATE:20270328T030000
TZOFFSETFROM:+0200
TZOFFSETTO:+0100
TZNAME:Europe/Paris CET
END:STANDARD
BEGIN:DAYLIGHT
DTSTART:20170326T030000
RDATE:20171029T020000
TZOFFSETFROM:+0100
TZOFFSETTO:+0200
TZNAME:Europe/Paris CEST
END:DAYLIGHT
BEGIN:DAYLIGHT
DTSTART:20180325T030000
RDATE:20181028T020000
TZOFFSETFROM:+0100
TZOFFSETTO:+0200
TZNAME:Europe/Paris CEST
END:DAYLIGHT
BEGIN:DAYLIGHT
DTSTART:20190331T030000
RDATE:20191027T020000
TZOFFSETFROM:+0100
TZOFFSETTO:+0200
TZNAME:Europe/Paris CEST
END:DAYLIGHT
BEGIN:DAYLIGHT
DTSTART:20200329T030000
RDATE:20201025T020000
TZOFFSETFROM:+0100
TZOFFSETTO:+0200
TZNAME:Europe/Paris CEST
END:DAYLIGHT
BEGIN:DAYLIGHT
DTSTART:20210328T030000
RDATE:20211031T020000
TZOFFSETFROM:+0100
TZOFFSETTO:+0200
TZNAME:Europe/Paris CEST
END:DAYLIGHT
BEGIN:DAYLIGHT
DTSTART:20220327T030000
RDATE:20221030T020000
TZOFFSETFROM:+0100
TZOFFSETTO:+0200
TZNAME:Europe/Paris CEST
END:DAYLIGHT
BEGIN:DAYLIGHT
DTSTART:20230326T030000
RDATE:20231029T020000
TZOFFSETFROM:+0100
TZOFFSETTO:+0200
TZNAME:Europe/Paris CEST
END:DAYLIGHT
BEGIN:DAYLIGHT
DTSTART:20240331T030000
RDATE:20241027T020000
TZOFFSETFROM:+0100
TZOFFSETTO:+0200
TZNAME:Europe/Paris CEST
END:DAYLIGHT
BEGIN:DAYLIGHT
DTSTART:20250330T030000
RDATE:20251026T020000
TZOFFSETFROM:+0100
TZOFFSETTO:+0200
TZNAME:Europe/Paris CEST
END:DAYLIGHT
BEGIN:DAYLIGHT
DTSTART:20260329T030000
RDATE:20261025T020000
TZOFFSETFROM:+0100
TZOFFSETTO:+0200
TZNAME:Europe/Paris CEST
END:DAYLIGHT
END:VTIMEZONE
BEGIN:VEVENT
UID:b3c022950dec345009e1eac23d49cdb1
CATEGORIES:Compétitions Snowboard
CREATED:20180313T145006
SUMMARY:PROMO SNOWBOARD Big Air / Ballon d'Alsace
URL;VALUE=URI:https://skivosges.net/agenda/a-venir/detailevenement/1051/-/promo-snowboard
 -big-air-ballon-dalsace?tmpl=component
DESCRIPTION:<!-- #gskiepreuve code généré par le plugin jevents pour GskiEpreuves. Ne p
 as modifier cette ligne, ni tout le contenu suivant  #gskiepreuve --><div c
 lass="gski-evenement_infos"><div class="gski-evenement-nom">PROMO SNOWBOARD
  Big Air / Ballon d'Alsace</div><div class="gski-evenement-report"></div><u
 l class="gski-evenement-liste-infos"><li>Codex évenement NMVT0040</li><li>S
 tation : BALLON D'ALSACE</li><li>Organisateur : 14494 RDOWN</li><li>Courrie
 l : <!-- Cette adresse électronique est protégée contre les robots spammeur
 s. --><span class="cloaked_email ep_5b2ae711"><span data-ep-b="&#46;&#99;&#
 111;&#109;" data-ep-a="&#114;dow"><span data-ep-a="n&#115;no" data-ep-b="&#
 109;&#97;&#105;&#108;"><span data-ep-b="r&#100;&#64;g" data-ep-a="&#119;&#9
 8;&#111;&#97;"></span></span></span></span><script>RegularLabs.EmailProtect
 or.unCloak("ep_5b2ae711");</script></li></ul><div class="gski-evenement-inf
 os-2"><div class="gski-evenement-info-inscriptions"><div class="gski-evenem
 ent-inscriptions-periodes">Période d'inscription à l'evènement du dimanche 
 04 mars 2018 à 00:00 au vendredi 09 mars 2018 à 12:00 <span class="gski-eve
 nement-inscriptions-impossibles">(Inscriptions impossibles).</span><div cla
 ss="gski-evenement-inscriptions-types-titres">Inscriptions ouvertes aux det
 enteurs des titres Fédéraux valides suivants : Licenciés Compétiteurs et Ti
 tres Loisirs et Dirigeants</div></div></div><div class="gski-evenement-epre
 uves"><div class="gski-evenement-epreuves-titres">Epreuves :</div><ul class
 ="gski-evenement-epreuves-list"><li><div class="gski-epreuve-date">Le diman
 che 11 mars 2018</div><ul class="gski-epreuve-liste-infos"><li>Codex épreuv
 e NMVM0041</li><li>Big Air</li><li>Catégorie(s) : Toutes les Categories (Ga
 rçons)</li></ul></li><li><div class="gski-epreuve-date">Le dimanche 11 mars
  2018</div><ul class="gski-epreuve-liste-infos"><li>Codex épreuve NMVF0041<
 /li><li>Big Air</li><li>Catégorie(s) : Toutes les Categories (Filles)</li><
 /ul></li></ul></div><div class="gskiepreuves-links"><ul><li><a href="/index
 .php?option=com_jevents&task=icalevent.detail&evid=1046&Itemid=6289">Voir l
 es informations dans l'agenda...</a></li></ul></div></div"><!-- #/gskiepreu
 ve fin du dode généré par le plugin jevents pour GskiEpreuves. . Ne pas mod
 ifier cette ligne, ni tout le contenu précedant.  #/gskiepreuve --> <a href
 ="https://skivosges.net/agenda/a-venir/detailevenement/1051/-/promo-snowboa
 rd-big-air-ballon-dalsace?tmpl=component">Cet évènement a été importé depui
 s :https://skivosges.net/agenda/a-venir/detailevenement/1051/-/promo-snowbo
 ard-big-air-ballon-dalsace?tmpl=component</a>
X-ALT-DESC;FMTTYPE=text/html:<!-- #gskiepreuve code généré par le plugin jevents pour GskiEpreuves. Ne p
 as modifier cette ligne, ni tout le contenu suivant  #gskiepreuve --><div c
 lass="gski-evenement_infos"><div class="gski-evenement-nom">PROMO SNOWBOARD
  Big Air / Ballon d'Alsace</div><div class="gski-evenement-report"></div><u
 l class="gski-evenement-liste-infos"><li>Codex évenement NMVT0040</li><li>S
 tation : BALLON D'ALSACE</li><li>Organisateur : 14494 RDOWN</li><li>Courrie
 l : <!-- Cette adresse électronique est protégée contre les robots spammeur
 s. --><span class="cloaked_email ep_5b2ae711"><span data-ep-b="&#46;&#99;&#
 111;&#109;" data-ep-a="&#114;dow"><span data-ep-a="n&#115;no" data-ep-b="&#
 109;&#97;&#105;&#108;"><span data-ep-b="r&#100;&#64;g" data-ep-a="&#119;&#9
 8;&#111;&#97;"></span></span></span></span><script>RegularLabs.EmailProtect
 or.unCloak("ep_5b2ae711");</script></li></ul><div class="gski-evenement-inf
 os-2"><div class="gski-evenement-info-inscriptions"><div class="gski-evenem
 ent-inscriptions-periodes">Période d'inscription à l'evènement du dimanche 
 04 mars 2018 à 00:00 au vendredi 09 mars 2018 à 12:00 <span class="gski-eve
 nement-inscriptions-impossibles">(Inscriptions impossibles).</span><div cla
 ss="gski-evenement-inscriptions-types-titres">Inscriptions ouvertes aux det
 enteurs des titres Fédéraux valides suivants : Licenciés Compétiteurs et Ti
 tres Loisirs et Dirigeants</div></div></div><div class="gski-evenement-epre
 uves"><div class="gski-evenement-epreuves-titres">Epreuves :</div><ul class
 ="gski-evenement-epreuves-list"><li><div class="gski-epreuve-date">Le diman
 che 11 mars 2018</div><ul class="gski-epreuve-liste-infos"><li>Codex épreuv
 e NMVM0041</li><li>Big Air</li><li>Catégorie(s) : Toutes les Categories (Ga
 rçons)</li></ul></li><li><div class="gski-epreuve-date">Le dimanche 11 mars
  2018</div><ul class="gski-epreuve-liste-infos"><li>Codex épreuve NMVF0041<
 /li><li>Big Air</li><li>Catégorie(s) : Toutes les Categories (Filles)</li><
 /ul></li></ul></div><div class="gskiepreuves-links"><ul><li><a href="https:
 //skivosges.net/index.php?option=com_jevents&task=icalevent.detail&evid=104
 6&Itemid=6289">Voir les informations dans l'agenda...</a></li></ul></div></
 div"><!-- #/gskiepreuve fin du dode généré par le plugin jevents pour GskiE
 preuves. . Ne pas modifier cette ligne, ni tout le contenu précedant.  #/gs
 kiepreuve --> <a href="https://skivosges.net/agenda/a-venir/detailevenement
 /1051/-/promo-snowboard-big-air-ballon-dalsace?tmpl=component">Cet évènemen
 t a été importé depuis :https://skivosges.net/agenda/a-venir/detailevenemen
 t/1051/-/promo-snowboard-big-air-ballon-dalsace?tmpl=component</a>DTSTAMP:20260424T012652
DTSTART;TZID=Europe/Paris;VALUE=DATE:20180311
DTEND;TZID=Europe/Paris;VALUE=DATE:20180312
SEQUENCE:0
TRANSP:OPAQUE
END:VEVENT
END:VCALENDAR