BEGIN:VCALENDAR
VERSION:2.0
PRODID:-//jEvents 2.0 for Joomla//EN
CALSCALE:GREGORIAN
METHOD:PUBLISH
BEGIN:VTIMEZONE
TZID:Europe/Paris
BEGIN:STANDARD
DTSTART:20170315T000000
RDATE:20170326T030000
TZOFFSETFROM:+0200
TZOFFSETTO:+0100
TZNAME:Europe/Paris CET
END:STANDARD
BEGIN:STANDARD
DTSTART:20171029T020000
RDATE:20180325T030000
TZOFFSETFROM:+0200
TZOFFSETTO:+0100
TZNAME:Europe/Paris CET
END:STANDARD
BEGIN:STANDARD
DTSTART:20181028T020000
RDATE:20190331T030000
TZOFFSETFROM:+0200
TZOFFSETTO:+0100
TZNAME:Europe/Paris CET
END:STANDARD
BEGIN:STANDARD
DTSTART:20191027T020000
RDATE:20200329T030000
TZOFFSETFROM:+0200
TZOFFSETTO:+0100
TZNAME:Europe/Paris CET
END:STANDARD
BEGIN:STANDARD
DTSTART:20201025T020000
RDATE:20210328T030000
TZOFFSETFROM:+0200
TZOFFSETTO:+0100
TZNAME:Europe/Paris CET
END:STANDARD
BEGIN:STANDARD
DTSTART:20211031T020000
RDATE:20220327T030000
TZOFFSETFROM:+0200
TZOFFSETTO:+0100
TZNAME:Europe/Paris CET
END:STANDARD
BEGIN:STANDARD
DTSTART:20221030T020000
RDATE:20230326T030000
TZOFFSETFROM:+0200
TZOFFSETTO:+0100
TZNAME:Europe/Paris CET
END:STANDARD
BEGIN:STANDARD
DTSTART:20231029T020000
RDATE:20240331T030000
TZOFFSETFROM:+0200
TZOFFSETTO:+0100
TZNAME:Europe/Paris CET
END:STANDARD
BEGIN:STANDARD
DTSTART:20241027T020000
RDATE:20250330T030000
TZOFFSETFROM:+0200
TZOFFSETTO:+0100
TZNAME:Europe/Paris CET
END:STANDARD
BEGIN:STANDARD
DTSTART:20251026T020000
RDATE:20260329T030000
TZOFFSETFROM:+0200
TZOFFSETTO:+0100
TZNAME:Europe/Paris CET
END:STANDARD
BEGIN:STANDARD
DTSTART:20261025T020000
RDATE:20270328T030000
TZOFFSETFROM:+0200
TZOFFSETTO:+0100
TZNAME:Europe/Paris CET
END:STANDARD
BEGIN:DAYLIGHT
DTSTART:20170326T030000
RDATE:20171029T020000
TZOFFSETFROM:+0100
TZOFFSETTO:+0200
TZNAME:Europe/Paris CEST
END:DAYLIGHT
BEGIN:DAYLIGHT
DTSTART:20180325T030000
RDATE:20181028T020000
TZOFFSETFROM:+0100
TZOFFSETTO:+0200
TZNAME:Europe/Paris CEST
END:DAYLIGHT
BEGIN:DAYLIGHT
DTSTART:20190331T030000
RDATE:20191027T020000
TZOFFSETFROM:+0100
TZOFFSETTO:+0200
TZNAME:Europe/Paris CEST
END:DAYLIGHT
BEGIN:DAYLIGHT
DTSTART:20200329T030000
RDATE:20201025T020000
TZOFFSETFROM:+0100
TZOFFSETTO:+0200
TZNAME:Europe/Paris CEST
END:DAYLIGHT
BEGIN:DAYLIGHT
DTSTART:20210328T030000
RDATE:20211031T020000
TZOFFSETFROM:+0100
TZOFFSETTO:+0200
TZNAME:Europe/Paris CEST
END:DAYLIGHT
BEGIN:DAYLIGHT
DTSTART:20220327T030000
RDATE:20221030T020000
TZOFFSETFROM:+0100
TZOFFSETTO:+0200
TZNAME:Europe/Paris CEST
END:DAYLIGHT
BEGIN:DAYLIGHT
DTSTART:20230326T030000
RDATE:20231029T020000
TZOFFSETFROM:+0100
TZOFFSETTO:+0200
TZNAME:Europe/Paris CEST
END:DAYLIGHT
BEGIN:DAYLIGHT
DTSTART:20240331T030000
RDATE:20241027T020000
TZOFFSETFROM:+0100
TZOFFSETTO:+0200
TZNAME:Europe/Paris CEST
END:DAYLIGHT
BEGIN:DAYLIGHT
DTSTART:20250330T030000
RDATE:20251026T020000
TZOFFSETFROM:+0100
TZOFFSETTO:+0200
TZNAME:Europe/Paris CEST
END:DAYLIGHT
BEGIN:DAYLIGHT
DTSTART:20260329T030000
RDATE:20261025T020000
TZOFFSETFROM:+0100
TZOFFSETTO:+0200
TZNAME:Europe/Paris CEST
END:DAYLIGHT
END:VTIMEZONE
BEGIN:VEVENT
UID:3acc417101faf26aa07bc89e1f4e3716
CATEGORIES:Compétitions Snowboard
CREATED:20180313T145006
SUMMARY:Big Air Markstein
URL;VALUE=URI:https://skivosges.net/agenda/a-venir/detailevenement/1053/-/big-air-markste
 in?tmpl=component
DESCRIPTION:Big Air Markstein\n - Codex évenement NMVT0050\n - Station : MARKSTEIN\n - 
 Organisateur : 14145 SKI CLUB KRUTH\n - Courriel : RegularLabs.EmailProtect
 or.unCloak("ep_357e2eb4");\n - Téléphone : 06 77 02 43 04Période d'inscript
 ion à l'evènement du vendredi 09 mars 2018 à 00:00 au mercredi 14 mars 2018
  à 12:00 (Inscriptions impossibles).Inscriptions ouvertes aux detenteurs de
 s titres Fédéraux valides suivants : Licenciés Compétiteurs et Titres Loisi
 rs et DirigeantsEpreuves :\n - Le vendredi 16 mars 2018\n - Codex épreuve N
 MVM0051\n - Big Air\n - Catégorie(s) : Toutes les Categories (Garçons)\n - 
 Le vendredi 16 mars 2018\n - Codex épreuve NMVF0051\n - Big Air\n - Catégor
 ie(s) : Toutes les Categories (Filles)\n - Voir les informations dans l'age
 nda... (/index.php?option=com_jevents&amp;task=icalevent.detail&amp;evid=10
 48&amp;Itemid=6289) Cet évènement a été importé depuis :https://skivosges.n
 et/agenda/a-venir/detailevenement/1053/-/big-air-markstein?tmpl=component
X-ALT-DESC;FMTTYPE=text/html:<!-- #gskiepreuve code généré par le plugin jevents pour GskiEpreuves. Ne p
 as modifier cette ligne, ni tout le contenu suivant  #gskiepreuve --><div c
 lass="gski-evenement_infos"><div class="gski-evenement-nom">Big Air Markste
 in</div><div class="gski-evenement-report"></div><ul class="gski-evenement-
 liste-infos"><li>Codex évenement NMVT0050</li><li>Station : MARKSTEIN</li><
 li>Organisateur : 14145 SKI CLUB KRUTH</li><li>Courriel : <!-- Cette adress
 e électronique est protégée contre les robots spammeurs. --><span class="cl
 oaked_email ep_357e2eb4"><span data-ep-a="&#100;av&#105;" data-ep-b="&#111;
 m"><span data-ep-a="&#100;&#99;o&#108;" data-ep-b="&#105;&#108;&#46;&#99;">
 <span data-ep-a="l&#101;6&#56;" data-ep-b="&#64;gm&#97;"></span></span></sp
 an></span><script>RegularLabs.EmailProtector.unCloak("ep_357e2eb4");</scrip
 t></li><li>Téléphone : 06 77 02 43 04</li></ul><div class="gski-evenement-i
 nfos-2"><div class="gski-evenement-info-inscriptions"><div class="gski-even
 ement-inscriptions-periodes">Période d'inscription à l'evènement du vendred
 i 09 mars 2018 à 00:00 au mercredi 14 mars 2018 à 12:00 <span class="gski-e
 venement-inscriptions-impossibles">(Inscriptions impossibles).</span><div c
 lass="gski-evenement-inscriptions-types-titres">Inscriptions ouvertes aux d
 etenteurs des titres Fédéraux valides suivants : Licenciés Compétiteurs et 
 Titres Loisirs et Dirigeants</div></div></div><div class="gski-evenement-ep
 reuves"><div class="gski-evenement-epreuves-titres">Epreuves :</div><ul cla
 ss="gski-evenement-epreuves-list"><li><div class="gski-epreuve-date">Le ven
 dredi 16 mars 2018</div><ul class="gski-epreuve-liste-infos"><li>Codex épre
 uve NMVM0051</li><li>Big Air</li><li>Catégorie(s) : Toutes les Categories (
 Garçons)</li></ul></li><li><div class="gski-epreuve-date">Le vendredi 16 ma
 rs 2018</div><ul class="gski-epreuve-liste-infos"><li>Codex épreuve NMVF005
 1</li><li>Big Air</li><li>Catégorie(s) : Toutes les Categories (Filles)</li
 ></ul></li></ul></div><div class="gskiepreuves-links"><ul><li><a href="http
 s://skivosges.net/index.php?option=com_jevents&task=icalevent.detail&evid=1
 048&Itemid=6289">Voir les informations dans l'agenda...</a></li></ul></div>
 </div"><!-- #/gskiepreuve fin du dode généré par le plugin jevents pour Gsk
 iEpreuves. . Ne pas modifier cette ligne, ni tout le contenu précedant.  #/
 gskiepreuve --> <a href="https://skivosges.net/agenda/a-venir/detaileveneme
 nt/1053/-/big-air-markstein?tmpl=component">Cet évènement a été importé dep
 uis :https://skivosges.net/agenda/a-venir/detailevenement/1053/-/big-air-ma
 rkstein?tmpl=component</a>DTSTAMP:20260424T030350
DTSTART;TZID=Europe/Paris;VALUE=DATE:20180316
DTEND;TZID=Europe/Paris;VALUE=DATE:20180317
SEQUENCE:0
TRANSP:OPAQUE
END:VEVENT
END:VCALENDAR