BEGIN:VCALENDAR
VERSION:2.0
PRODID:-//jEvents 2.0 for Joomla//EN
CALSCALE:GREGORIAN
METHOD:PUBLISH
BEGIN:VTIMEZONE
TZID:Europe/Paris
BEGIN:STANDARD
DTSTART:20170316T000000
RDATE:20170326T030000
TZOFFSETFROM:+0200
TZOFFSETTO:+0100
TZNAME:Europe/Paris CET
END:STANDARD
BEGIN:STANDARD
DTSTART:20171029T020000
RDATE:20180325T030000
TZOFFSETFROM:+0200
TZOFFSETTO:+0100
TZNAME:Europe/Paris CET
END:STANDARD
BEGIN:STANDARD
DTSTART:20181028T020000
RDATE:20190331T030000
TZOFFSETFROM:+0200
TZOFFSETTO:+0100
TZNAME:Europe/Paris CET
END:STANDARD
BEGIN:STANDARD
DTSTART:20191027T020000
RDATE:20200329T030000
TZOFFSETFROM:+0200
TZOFFSETTO:+0100
TZNAME:Europe/Paris CET
END:STANDARD
BEGIN:STANDARD
DTSTART:20201025T020000
RDATE:20210328T030000
TZOFFSETFROM:+0200
TZOFFSETTO:+0100
TZNAME:Europe/Paris CET
END:STANDARD
BEGIN:STANDARD
DTSTART:20211031T020000
RDATE:20220327T030000
TZOFFSETFROM:+0200
TZOFFSETTO:+0100
TZNAME:Europe/Paris CET
END:STANDARD
BEGIN:STANDARD
DTSTART:20221030T020000
RDATE:20230326T030000
TZOFFSETFROM:+0200
TZOFFSETTO:+0100
TZNAME:Europe/Paris CET
END:STANDARD
BEGIN:STANDARD
DTSTART:20231029T020000
RDATE:20240331T030000
TZOFFSETFROM:+0200
TZOFFSETTO:+0100
TZNAME:Europe/Paris CET
END:STANDARD
BEGIN:STANDARD
DTSTART:20241027T020000
RDATE:20250330T030000
TZOFFSETFROM:+0200
TZOFFSETTO:+0100
TZNAME:Europe/Paris CET
END:STANDARD
BEGIN:STANDARD
DTSTART:20251026T020000
RDATE:20260329T030000
TZOFFSETFROM:+0200
TZOFFSETTO:+0100
TZNAME:Europe/Paris CET
END:STANDARD
BEGIN:STANDARD
DTSTART:20261025T020000
RDATE:20270328T030000
TZOFFSETFROM:+0200
TZOFFSETTO:+0100
TZNAME:Europe/Paris CET
END:STANDARD
BEGIN:DAYLIGHT
DTSTART:20170326T030000
RDATE:20171029T020000
TZOFFSETFROM:+0100
TZOFFSETTO:+0200
TZNAME:Europe/Paris CEST
END:DAYLIGHT
BEGIN:DAYLIGHT
DTSTART:20180325T030000
RDATE:20181028T020000
TZOFFSETFROM:+0100
TZOFFSETTO:+0200
TZNAME:Europe/Paris CEST
END:DAYLIGHT
BEGIN:DAYLIGHT
DTSTART:20190331T030000
RDATE:20191027T020000
TZOFFSETFROM:+0100
TZOFFSETTO:+0200
TZNAME:Europe/Paris CEST
END:DAYLIGHT
BEGIN:DAYLIGHT
DTSTART:20200329T030000
RDATE:20201025T020000
TZOFFSETFROM:+0100
TZOFFSETTO:+0200
TZNAME:Europe/Paris CEST
END:DAYLIGHT
BEGIN:DAYLIGHT
DTSTART:20210328T030000
RDATE:20211031T020000
TZOFFSETFROM:+0100
TZOFFSETTO:+0200
TZNAME:Europe/Paris CEST
END:DAYLIGHT
BEGIN:DAYLIGHT
DTSTART:20220327T030000
RDATE:20221030T020000
TZOFFSETFROM:+0100
TZOFFSETTO:+0200
TZNAME:Europe/Paris CEST
END:DAYLIGHT
BEGIN:DAYLIGHT
DTSTART:20230326T030000
RDATE:20231029T020000
TZOFFSETFROM:+0100
TZOFFSETTO:+0200
TZNAME:Europe/Paris CEST
END:DAYLIGHT
BEGIN:DAYLIGHT
DTSTART:20240331T030000
RDATE:20241027T020000
TZOFFSETFROM:+0100
TZOFFSETTO:+0200
TZNAME:Europe/Paris CEST
END:DAYLIGHT
BEGIN:DAYLIGHT
DTSTART:20250330T030000
RDATE:20251026T020000
TZOFFSETFROM:+0100
TZOFFSETTO:+0200
TZNAME:Europe/Paris CEST
END:DAYLIGHT
BEGIN:DAYLIGHT
DTSTART:20260329T030000
RDATE:20261025T020000
TZOFFSETFROM:+0100
TZOFFSETTO:+0200
TZNAME:Europe/Paris CEST
END:DAYLIGHT
END:VTIMEZONE
BEGIN:VEVENT
UID:66ed09b3bfdb38ad644ecf9e9a64ade3
CATEGORIES:Compétition Ski de Fond
CREATED:20180313T145007
SUMMARY:CHALLENGE de MOSELLE
URL;VALUE=URI:https://skivosges.net/agenda/a-venir/detailevenement/1056/-/challenge-de-mo
 selle?tmpl=component
DESCRIPTION:<!-- #gskiepreuve code généré par le plugin jevents pour GskiEpreuves. Ne p
 as modifier cette ligne, ni tout le contenu suivant  #gskiepreuve --><div c
 lass="gski-evenement_infos"><div class="gski-evenement-nom">CHALLENGE de MO
 SELLE</div><div class="gski-evenement-report"></div><ul class="gski-eveneme
 nt-liste-infos"><li>Codex évenement FMVT0280</li><li>Station : LA BRESSE LI
 SPACH</li><li>Organisateur : 14482 SKI CLUB D'AMNEVILLE</li><li><span class
 ="gski-evenement-obs">Délégué Technique : PHILIPPE ALAIN</span></li></ul><d
 iv class="gski-evenement-infos-2"><div class="gski-evenement-info-inscripti
 ons"><div class="gski-evenement-inscriptions-periodes">Période d'inscriptio
 n à l'evènement du samedi 10 mars 2018 à 00:00 au jeudi 15 mars 2018 à 12:0
 0 <span class="gski-evenement-inscriptions-impossibles">(Inscriptions impos
 sibles).</span><div class="gski-evenement-inscriptions-types-titres">Inscri
 ptions ouvertes aux detenteurs des titres Fédéraux valides suivants : Licen
 ciés Compétiteurs et Titres Loisirs et Dirigeants</div></div></div><div cla
 ss="gski-evenement-epreuves"><div class="gski-evenement-epreuves-titres">Ep
 reuves :</div><ul class="gski-evenement-epreuves-list"><li><div class="gski
 -epreuve-date">Le samedi 17 mars 2018</div><ul class="gski-epreuve-liste-in
 fos"><li>Codex épreuve FMVF0281</li><li>Depart Individuel</li><li>Catégorie
 (s) : U14 a SEN (Filles)</li></ul></li><li><div class="gski-epreuve-date">L
 e samedi 17 mars 2018</div><ul class="gski-epreuve-liste-infos"><li>Codex é
 preuve FMVM0281</li><li>Depart Individuel</li><li>Catégorie(s) : U14 a SEN 
 (Garçons)</li></ul></li><li><div class="gski-epreuve-date">Le samedi 17 mar
 s 2018</div><ul class="gski-epreuve-liste-infos"><li>Codex épreuve FMVF0282
 </li><li>Depart Individuel</li><li>Catégorie(s) : U14 a SEN (Filles)</li></
 ul></li><li><div class="gski-epreuve-date">Le samedi 17 mars 2018</div><ul 
 class="gski-epreuve-liste-infos"><li>Codex épreuve FMVM0282</li><li>Depart 
 Individuel</li><li>Catégorie(s) : U14 a SEN (Garçons)</li></ul></li><li><di
 v class="gski-epreuve-date">Le samedi 17 mars 2018</div><ul class="gski-epr
 euve-liste-infos"><li>Codex épreuve FMVF0283</li><li>Depart Individuel</li>
 <li>Catégorie(s) : U10/U12 (Filles)</li></ul></li><li><div class="gski-epre
 uve-date">Le samedi 17 mars 2018</div><ul class="gski-epreuve-liste-infos">
 <li>Codex épreuve FMVM0283</li><li>Depart Individuel</li><li>Catégorie(s) :
  U10/U12 (Garçons)</li></ul></li><li><div class="gski-epreuve-date">Le same
 di 17 mars 2018</div><ul class="gski-epreuve-liste-infos"><li>Codex épreuve
  FMVF0284</li><li>Depart Individuel</li><li>Catégorie(s) : U8 (Filles)</li>
 </ul></li><li><div class="gski-epreuve-date">Le samedi 17 mars 2018</div><u
 l class="gski-epreuve-liste-infos"><li>Codex épreuve FMVM0284</li><li>Depar
 t Individuel</li><li>Catégorie(s) : U8 (Garçons)</li></ul></li><li><div cla
 ss="gski-epreuve-date">Le samedi 17 mars 2018</div><ul class="gski-epreuve-
 liste-infos"><li>Codex épreuve FMVF0285</li><li>Depart Individuel</li><li>C
 atégorie(s) : U10/U12 (Filles)</li></ul></li><li><div class="gski-epreuve-d
 ate">Le samedi 17 mars 2018</div><ul class="gski-epreuve-liste-infos"><li>C
 odex épreuve FMVM0285</li><li>Depart Individuel</li><li>Catégorie(s) : U10/
 U12 (Garçons)</li></ul></li><li><div class="gski-epreuve-date">Le samedi 17
  mars 2018</div><ul class="gski-epreuve-liste-infos"><li>Codex épreuve FMVF
 0286</li><li>Depart Individuel</li><li>Catégorie(s) : U8 (Filles)</li></ul>
 </li><li><div class="gski-epreuve-date">Le samedi 17 mars 2018</div><ul cla
 ss="gski-epreuve-liste-infos"><li>Codex épreuve FMVM0286</li><li>Depart Ind
 ividuel</li><li>Catégorie(s) : U8 (Garçons)</li></ul></li></ul></div><div c
 lass="gskiepreuves-links"><ul><li><a href="/index.php?option=com_jevents&ta
 sk=icalevent.detail&evid=1051&Itemid=6289">Voir les informations dans l'age
 nda...</a></li></ul></div></div"><!-- #/gskiepreuve fin du dode généré par 
 le plugin jevents pour GskiEpreuves. . Ne pas modifier cette ligne, ni tout
  le contenu précedant.  #/gskiepreuve --> <a href="https://skivosges.net/ag
 enda/a-venir/detailevenement/1056/-/challenge-de-moselle?tmpl=component">Ce
 t évènement a été importé depuis :https://skivosges.net/agenda/a-venir/deta
 ilevenement/1056/-/challenge-de-moselle?tmpl=component</a>
X-ALT-DESC;FMTTYPE=text/html:<!-- #gskiepreuve code généré par le plugin jevents pour GskiEpreuves. Ne p
 as modifier cette ligne, ni tout le contenu suivant  #gskiepreuve --><div c
 lass="gski-evenement_infos"><div class="gski-evenement-nom">CHALLENGE de MO
 SELLE</div><div class="gski-evenement-report"></div><ul class="gski-eveneme
 nt-liste-infos"><li>Codex évenement FMVT0280</li><li>Station : LA BRESSE LI
 SPACH</li><li>Organisateur : 14482 SKI CLUB D'AMNEVILLE</li><li><span class
 ="gski-evenement-obs">Délégué Technique : PHILIPPE ALAIN</span></li></ul><d
 iv class="gski-evenement-infos-2"><div class="gski-evenement-info-inscripti
 ons"><div class="gski-evenement-inscriptions-periodes">Période d'inscriptio
 n à l'evènement du samedi 10 mars 2018 à 00:00 au jeudi 15 mars 2018 à 12:0
 0 <span class="gski-evenement-inscriptions-impossibles">(Inscriptions impos
 sibles).</span><div class="gski-evenement-inscriptions-types-titres">Inscri
 ptions ouvertes aux detenteurs des titres Fédéraux valides suivants : Licen
 ciés Compétiteurs et Titres Loisirs et Dirigeants</div></div></div><div cla
 ss="gski-evenement-epreuves"><div class="gski-evenement-epreuves-titres">Ep
 reuves :</div><ul class="gski-evenement-epreuves-list"><li><div class="gski
 -epreuve-date">Le samedi 17 mars 2018</div><ul class="gski-epreuve-liste-in
 fos"><li>Codex épreuve FMVF0281</li><li>Depart Individuel</li><li>Catégorie
 (s) : U14 a SEN (Filles)</li></ul></li><li><div class="gski-epreuve-date">L
 e samedi 17 mars 2018</div><ul class="gski-epreuve-liste-infos"><li>Codex é
 preuve FMVM0281</li><li>Depart Individuel</li><li>Catégorie(s) : U14 a SEN 
 (Garçons)</li></ul></li><li><div class="gski-epreuve-date">Le samedi 17 mar
 s 2018</div><ul class="gski-epreuve-liste-infos"><li>Codex épreuve FMVF0282
 </li><li>Depart Individuel</li><li>Catégorie(s) : U14 a SEN (Filles)</li></
 ul></li><li><div class="gski-epreuve-date">Le samedi 17 mars 2018</div><ul 
 class="gski-epreuve-liste-infos"><li>Codex épreuve FMVM0282</li><li>Depart 
 Individuel</li><li>Catégorie(s) : U14 a SEN (Garçons)</li></ul></li><li><di
 v class="gski-epreuve-date">Le samedi 17 mars 2018</div><ul class="gski-epr
 euve-liste-infos"><li>Codex épreuve FMVF0283</li><li>Depart Individuel</li>
 <li>Catégorie(s) : U10/U12 (Filles)</li></ul></li><li><div class="gski-epre
 uve-date">Le samedi 17 mars 2018</div><ul class="gski-epreuve-liste-infos">
 <li>Codex épreuve FMVM0283</li><li>Depart Individuel</li><li>Catégorie(s) :
  U10/U12 (Garçons)</li></ul></li><li><div class="gski-epreuve-date">Le same
 di 17 mars 2018</div><ul class="gski-epreuve-liste-infos"><li>Codex épreuve
  FMVF0284</li><li>Depart Individuel</li><li>Catégorie(s) : U8 (Filles)</li>
 </ul></li><li><div class="gski-epreuve-date">Le samedi 17 mars 2018</div><u
 l class="gski-epreuve-liste-infos"><li>Codex épreuve FMVM0284</li><li>Depar
 t Individuel</li><li>Catégorie(s) : U8 (Garçons)</li></ul></li><li><div cla
 ss="gski-epreuve-date">Le samedi 17 mars 2018</div><ul class="gski-epreuve-
 liste-infos"><li>Codex épreuve FMVF0285</li><li>Depart Individuel</li><li>C
 atégorie(s) : U10/U12 (Filles)</li></ul></li><li><div class="gski-epreuve-d
 ate">Le samedi 17 mars 2018</div><ul class="gski-epreuve-liste-infos"><li>C
 odex épreuve FMVM0285</li><li>Depart Individuel</li><li>Catégorie(s) : U10/
 U12 (Garçons)</li></ul></li><li><div class="gski-epreuve-date">Le samedi 17
  mars 2018</div><ul class="gski-epreuve-liste-infos"><li>Codex épreuve FMVF
 0286</li><li>Depart Individuel</li><li>Catégorie(s) : U8 (Filles)</li></ul>
 </li><li><div class="gski-epreuve-date">Le samedi 17 mars 2018</div><ul cla
 ss="gski-epreuve-liste-infos"><li>Codex épreuve FMVM0286</li><li>Depart Ind
 ividuel</li><li>Catégorie(s) : U8 (Garçons)</li></ul></li></ul></div><div c
 lass="gskiepreuves-links"><ul><li><a href="https://skivosges.net/index.php?
 option=com_jevents&task=icalevent.detail&evid=1051&Itemid=6289">Voir les in
 formations dans l'agenda...</a></li></ul></div></div"><!-- #/gskiepreuve fi
 n du dode généré par le plugin jevents pour GskiEpreuves. . Ne pas modifier
  cette ligne, ni tout le contenu précedant.  #/gskiepreuve --> <a href="htt
 ps://skivosges.net/agenda/a-venir/detailevenement/1056/-/challenge-de-mosel
 le?tmpl=component">Cet évènement a été importé depuis :https://skivosges.ne
 t/agenda/a-venir/detailevenement/1056/-/challenge-de-moselle?tmpl=component
 </a>DTSTAMP:20260424T060812
DTSTART;TZID=Europe/Paris;VALUE=DATE:20180317
DTEND;TZID=Europe/Paris;VALUE=DATE:20180318
SEQUENCE:0
TRANSP:OPAQUE
END:VEVENT
END:VCALENDAR