BEGIN:VCALENDAR
VERSION:2.0
PRODID:-//jEvents 2.0 for Joomla//EN
CALSCALE:GREGORIAN
METHOD:PUBLISH
BEGIN:VTIMEZONE
TZID:Europe/Paris
BEGIN:STANDARD
DTSTART:20171029T020000
RDATE:20180325T030000
TZOFFSETFROM:+0200
TZOFFSETTO:+0100
TZNAME:Europe/Paris CET
END:STANDARD
BEGIN:STANDARD
DTSTART:20181028T020000
RDATE:20190331T030000
TZOFFSETFROM:+0200
TZOFFSETTO:+0100
TZNAME:Europe/Paris CET
END:STANDARD
BEGIN:STANDARD
DTSTART:20191027T020000
RDATE:20200329T030000
TZOFFSETFROM:+0200
TZOFFSETTO:+0100
TZNAME:Europe/Paris CET
END:STANDARD
BEGIN:STANDARD
DTSTART:20201025T020000
RDATE:20210328T030000
TZOFFSETFROM:+0200
TZOFFSETTO:+0100
TZNAME:Europe/Paris CET
END:STANDARD
BEGIN:STANDARD
DTSTART:20211031T020000
RDATE:20220327T030000
TZOFFSETFROM:+0200
TZOFFSETTO:+0100
TZNAME:Europe/Paris CET
END:STANDARD
BEGIN:STANDARD
DTSTART:20221030T020000
RDATE:20230326T030000
TZOFFSETFROM:+0200
TZOFFSETTO:+0100
TZNAME:Europe/Paris CET
END:STANDARD
BEGIN:STANDARD
DTSTART:20231029T020000
RDATE:20240331T030000
TZOFFSETFROM:+0200
TZOFFSETTO:+0100
TZNAME:Europe/Paris CET
END:STANDARD
BEGIN:STANDARD
DTSTART:20241027T020000
RDATE:20250330T030000
TZOFFSETFROM:+0200
TZOFFSETTO:+0100
TZNAME:Europe/Paris CET
END:STANDARD
BEGIN:STANDARD
DTSTART:20251026T020000
RDATE:20260329T030000
TZOFFSETFROM:+0200
TZOFFSETTO:+0100
TZNAME:Europe/Paris CET
END:STANDARD
BEGIN:STANDARD
DTSTART:20261025T020000
RDATE:20270328T030000
TZOFFSETFROM:+0200
TZOFFSETTO:+0100
TZNAME:Europe/Paris CET
END:STANDARD
BEGIN:DAYLIGHT
DTSTART:20170629T000000
RDATE:20171029T020000
TZOFFSETFROM:+0100
TZOFFSETTO:+0200
TZNAME:Europe/Paris CEST
END:DAYLIGHT
BEGIN:DAYLIGHT
DTSTART:20180325T030000
RDATE:20181028T020000
TZOFFSETFROM:+0100
TZOFFSETTO:+0200
TZNAME:Europe/Paris CEST
END:DAYLIGHT
BEGIN:DAYLIGHT
DTSTART:20190331T030000
RDATE:20191027T020000
TZOFFSETFROM:+0100
TZOFFSETTO:+0200
TZNAME:Europe/Paris CEST
END:DAYLIGHT
BEGIN:DAYLIGHT
DTSTART:20200329T030000
RDATE:20201025T020000
TZOFFSETFROM:+0100
TZOFFSETTO:+0200
TZNAME:Europe/Paris CEST
END:DAYLIGHT
BEGIN:DAYLIGHT
DTSTART:20210328T030000
RDATE:20211031T020000
TZOFFSETFROM:+0100
TZOFFSETTO:+0200
TZNAME:Europe/Paris CEST
END:DAYLIGHT
BEGIN:DAYLIGHT
DTSTART:20220327T030000
RDATE:20221030T020000
TZOFFSETFROM:+0100
TZOFFSETTO:+0200
TZNAME:Europe/Paris CEST
END:DAYLIGHT
BEGIN:DAYLIGHT
DTSTART:20230326T030000
RDATE:20231029T020000
TZOFFSETFROM:+0100
TZOFFSETTO:+0200
TZNAME:Europe/Paris CEST
END:DAYLIGHT
BEGIN:DAYLIGHT
DTSTART:20240331T030000
RDATE:20241027T020000
TZOFFSETFROM:+0100
TZOFFSETTO:+0200
TZNAME:Europe/Paris CEST
END:DAYLIGHT
BEGIN:DAYLIGHT
DTSTART:20250330T030000
RDATE:20251026T020000
TZOFFSETFROM:+0100
TZOFFSETTO:+0200
TZNAME:Europe/Paris CEST
END:DAYLIGHT
BEGIN:DAYLIGHT
DTSTART:20260329T030000
RDATE:20261025T020000
TZOFFSETFROM:+0100
TZOFFSETTO:+0200
TZNAME:Europe/Paris CEST
END:DAYLIGHT
END:VTIMEZONE
BEGIN:VEVENT
UID:52661a6ac67cdbc920b5af09a4859484
CATEGORIES:Compétition Saut
CREATED:20180810T134904
SUMMARY:1 ère Etape COUPE des VOSGES  promo tour Crédit Mutuel
URL;VALUE=URI:https://skivosges.net/agenda/a-venir/detailevenement/1058/-/1-ere-etape-cou
 pe-des-vosges-promo-tour-credit-mutuel?tmpl=component
DESCRIPTION:<!-- #gskiepreuve code généré par le plugin jevents pour GskiEpreuves. Ne p
 as modifier cette ligne, ni tout le contenu suivant  #gskiepreuve --><div c
 lass="gski-evenement_infos"><div class="gski-evenement-nom">1 ère Etape COU
 PE des VOSGES  promo tour Crédit Mutuel</div><div class="gski-evenement-rep
 ort"></div><ul class="gski-evenement-liste-infos"><li>Codex évenement TMVT0
 160</li><li>Station : XONRUPT</li><li>Organisateur : 14102 SKI CLUB XONRUPT
 </li></ul><div class="gski-evenement-infos-2"><div class="gski-evenement-in
 fo-inscriptions"><div class="gski-evenement-inscriptions-periodes">Période 
 d'inscription à l'evènement du samedi 23 juin 2018 à 00:00 au jeudi 28 juin
  2018 à 12:00 <span class="gski-evenement-inscriptions-impossibles">(Inscri
 ptions impossibles).</span><div class="gski-evenement-inscriptions-types-ti
 tres">Inscriptions ouvertes aux detenteurs des titres Fédéraux valides suiv
 ants : Licenciés Compétiteurs et Titres Loisirs et Dirigeants</div></div></
 div><div class="gski-evenement-epreuves"><div class="gski-evenement-epreuve
 s-titres">Epreuves :</div><ul class="gski-evenement-epreuves-list"><li><div
  class="gski-epreuve-date">Le samedi 30 juin 2018</div><ul class="gski-epre
 uve-liste-infos"><li>Codex épreuve TMVF0161</li><li>Saut Special</li><li>Ca
 tégorie(s) : U7 a U20 (Filles)</li></ul></li><li><div class="gski-epreuve-d
 ate">Le samedi 30 juin 2018</div><ul class="gski-epreuve-liste-infos"><li>C
 odex épreuve TMVF0162</li><li>Saut Special</li><li>Catégorie(s) : Senior (D
 ames)</li></ul></li><li><div class="gski-epreuve-date">Le samedi 30 juin 20
 18</div><ul class="gski-epreuve-liste-infos"><li>Codex épreuve TMVM0161</li
 ><li>Saut Special</li><li>Catégorie(s) : U7 a U20 (Garçons)</li></ul></li><
 li><div class="gski-epreuve-date">Le samedi 30 juin 2018</div><ul class="gs
 ki-epreuve-liste-infos"><li>Codex épreuve TMVM0162</li><li>Saut Special</li
 ><li>Catégorie(s) : Senior (Hommes)</li></ul></li></ul></div><div class="gs
 kiepreuves-links"><ul><li><a href="/index.php?option=com_jevents&task=icale
 vent.detail&evid=1053&Itemid=6289">Voir les informations dans l'agenda...</
 a></li></ul></div></div"><!-- #/gskiepreuve fin du dode généré par le plugi
 n jevents pour GskiEpreuves. . Ne pas modifier cette ligne, ni tout le cont
 enu précedant.  #/gskiepreuve --> <a href="https://skivosges.net/agenda/a-v
 enir/detailevenement/1058/-/1-ere-etape-coupe-des-vosges-promo-tour-credit-
 mutuel?tmpl=component">Cet évènement a été importé depuis :https://skivosge
 s.net/agenda/a-venir/detailevenement/1058/-/1-ere-etape-coupe-des-vosges-pr
 omo-tour-credit-mutuel?tmpl=component</a>
X-ALT-DESC;FMTTYPE=text/html:<!-- #gskiepreuve code généré par le plugin jevents pour GskiEpreuves. Ne p
 as modifier cette ligne, ni tout le contenu suivant  #gskiepreuve --><div c
 lass="gski-evenement_infos"><div class="gski-evenement-nom">1 ère Etape COU
 PE des VOSGES  promo tour Crédit Mutuel</div><div class="gski-evenement-rep
 ort"></div><ul class="gski-evenement-liste-infos"><li>Codex évenement TMVT0
 160</li><li>Station : XONRUPT</li><li>Organisateur : 14102 SKI CLUB XONRUPT
 </li></ul><div class="gski-evenement-infos-2"><div class="gski-evenement-in
 fo-inscriptions"><div class="gski-evenement-inscriptions-periodes">Période 
 d'inscription à l'evènement du samedi 23 juin 2018 à 00:00 au jeudi 28 juin
  2018 à 12:00 <span class="gski-evenement-inscriptions-impossibles">(Inscri
 ptions impossibles).</span><div class="gski-evenement-inscriptions-types-ti
 tres">Inscriptions ouvertes aux detenteurs des titres Fédéraux valides suiv
 ants : Licenciés Compétiteurs et Titres Loisirs et Dirigeants</div></div></
 div><div class="gski-evenement-epreuves"><div class="gski-evenement-epreuve
 s-titres">Epreuves :</div><ul class="gski-evenement-epreuves-list"><li><div
  class="gski-epreuve-date">Le samedi 30 juin 2018</div><ul class="gski-epre
 uve-liste-infos"><li>Codex épreuve TMVF0161</li><li>Saut Special</li><li>Ca
 tégorie(s) : U7 a U20 (Filles)</li></ul></li><li><div class="gski-epreuve-d
 ate">Le samedi 30 juin 2018</div><ul class="gski-epreuve-liste-infos"><li>C
 odex épreuve TMVF0162</li><li>Saut Special</li><li>Catégorie(s) : Senior (D
 ames)</li></ul></li><li><div class="gski-epreuve-date">Le samedi 30 juin 20
 18</div><ul class="gski-epreuve-liste-infos"><li>Codex épreuve TMVM0161</li
 ><li>Saut Special</li><li>Catégorie(s) : U7 a U20 (Garçons)</li></ul></li><
 li><div class="gski-epreuve-date">Le samedi 30 juin 2018</div><ul class="gs
 ki-epreuve-liste-infos"><li>Codex épreuve TMVM0162</li><li>Saut Special</li
 ><li>Catégorie(s) : Senior (Hommes)</li></ul></li></ul></div><div class="gs
 kiepreuves-links"><ul><li><a href="https://skivosges.net/index.php?option=c
 om_jevents&task=icalevent.detail&evid=1053&Itemid=6289">Voir les informatio
 ns dans l'agenda...</a></li></ul></div></div"><!-- #/gskiepreuve fin du dod
 e généré par le plugin jevents pour GskiEpreuves. . Ne pas modifier cette l
 igne, ni tout le contenu précedant.  #/gskiepreuve --> <a href="https://ski
 vosges.net/agenda/a-venir/detailevenement/1058/-/1-ere-etape-coupe-des-vosg
 es-promo-tour-credit-mutuel?tmpl=component">Cet évènement a été importé dep
 uis :https://skivosges.net/agenda/a-venir/detailevenement/1058/-/1-ere-etap
 e-coupe-des-vosges-promo-tour-credit-mutuel?tmpl=component</a>DTSTAMP:20260423T175128
DTSTART;TZID=Europe/Paris;VALUE=DATE:20180630
DTEND;TZID=Europe/Paris;VALUE=DATE:20180701
SEQUENCE:0
TRANSP:OPAQUE
END:VEVENT
END:VCALENDAR