BEGIN:VCALENDAR
VERSION:2.0
PRODID:-//jEvents 2.0 for Joomla//EN
CALSCALE:GREGORIAN
METHOD:PUBLISH
BEGIN:VTIMEZONE
TZID:Europe/Paris
BEGIN:STANDARD
DTSTART:20171029T020000
RDATE:20180325T030000
TZOFFSETFROM:+0200
TZOFFSETTO:+0100
TZNAME:Europe/Paris CET
END:STANDARD
BEGIN:STANDARD
DTSTART:20181028T020000
RDATE:20190331T030000
TZOFFSETFROM:+0200
TZOFFSETTO:+0100
TZNAME:Europe/Paris CET
END:STANDARD
BEGIN:STANDARD
DTSTART:20191027T020000
RDATE:20200329T030000
TZOFFSETFROM:+0200
TZOFFSETTO:+0100
TZNAME:Europe/Paris CET
END:STANDARD
BEGIN:STANDARD
DTSTART:20201025T020000
RDATE:20210328T030000
TZOFFSETFROM:+0200
TZOFFSETTO:+0100
TZNAME:Europe/Paris CET
END:STANDARD
BEGIN:STANDARD
DTSTART:20211031T020000
RDATE:20220327T030000
TZOFFSETFROM:+0200
TZOFFSETTO:+0100
TZNAME:Europe/Paris CET
END:STANDARD
BEGIN:STANDARD
DTSTART:20221030T020000
RDATE:20230326T030000
TZOFFSETFROM:+0200
TZOFFSETTO:+0100
TZNAME:Europe/Paris CET
END:STANDARD
BEGIN:STANDARD
DTSTART:20231029T020000
RDATE:20240331T030000
TZOFFSETFROM:+0200
TZOFFSETTO:+0100
TZNAME:Europe/Paris CET
END:STANDARD
BEGIN:STANDARD
DTSTART:20241027T020000
RDATE:20250330T030000
TZOFFSETFROM:+0200
TZOFFSETTO:+0100
TZNAME:Europe/Paris CET
END:STANDARD
BEGIN:STANDARD
DTSTART:20251026T020000
RDATE:20260329T030000
TZOFFSETFROM:+0200
TZOFFSETTO:+0100
TZNAME:Europe/Paris CET
END:STANDARD
BEGIN:STANDARD
DTSTART:20261025T020000
RDATE:20270328T030000
TZOFFSETFROM:+0200
TZOFFSETTO:+0100
TZNAME:Europe/Paris CET
END:STANDARD
BEGIN:DAYLIGHT
DTSTART:20170710T000000
RDATE:20171029T020000
TZOFFSETFROM:+0100
TZOFFSETTO:+0200
TZNAME:Europe/Paris CEST
END:DAYLIGHT
BEGIN:DAYLIGHT
DTSTART:20180325T030000
RDATE:20181028T020000
TZOFFSETFROM:+0100
TZOFFSETTO:+0200
TZNAME:Europe/Paris CEST
END:DAYLIGHT
BEGIN:DAYLIGHT
DTSTART:20190331T030000
RDATE:20191027T020000
TZOFFSETFROM:+0100
TZOFFSETTO:+0200
TZNAME:Europe/Paris CEST
END:DAYLIGHT
BEGIN:DAYLIGHT
DTSTART:20200329T030000
RDATE:20201025T020000
TZOFFSETFROM:+0100
TZOFFSETTO:+0200
TZNAME:Europe/Paris CEST
END:DAYLIGHT
BEGIN:DAYLIGHT
DTSTART:20210328T030000
RDATE:20211031T020000
TZOFFSETFROM:+0100
TZOFFSETTO:+0200
TZNAME:Europe/Paris CEST
END:DAYLIGHT
BEGIN:DAYLIGHT
DTSTART:20220327T030000
RDATE:20221030T020000
TZOFFSETFROM:+0100
TZOFFSETTO:+0200
TZNAME:Europe/Paris CEST
END:DAYLIGHT
BEGIN:DAYLIGHT
DTSTART:20230326T030000
RDATE:20231029T020000
TZOFFSETFROM:+0100
TZOFFSETTO:+0200
TZNAME:Europe/Paris CEST
END:DAYLIGHT
BEGIN:DAYLIGHT
DTSTART:20240331T030000
RDATE:20241027T020000
TZOFFSETFROM:+0100
TZOFFSETTO:+0200
TZNAME:Europe/Paris CEST
END:DAYLIGHT
BEGIN:DAYLIGHT
DTSTART:20250330T030000
RDATE:20251026T020000
TZOFFSETFROM:+0100
TZOFFSETTO:+0200
TZNAME:Europe/Paris CEST
END:DAYLIGHT
BEGIN:DAYLIGHT
DTSTART:20260329T030000
RDATE:20261025T020000
TZOFFSETFROM:+0100
TZOFFSETTO:+0200
TZNAME:Europe/Paris CEST
END:DAYLIGHT
END:VTIMEZONE
BEGIN:VEVENT
UID:6b64be8c1b3f9d53130e725de6491d81
CATEGORIES:Compétition Saut
CREATED:20180810T134904
SUMMARY:2 ème Etape COUPE des VOSGES promo tour Crédit Mutuel
URL;VALUE=URI:https://skivosges.net/agenda/a-venir/detailevenement/1059/-/2-eme-etape-cou
 pe-des-vosges-promo-tour-credit-mutuel?tmpl=component
DESCRIPTION:2 ème Etape COUPE des VOSGES promo tour Crédit Mutuel\n - Codex évenement T
 MVT0170\n - Station : LA BRESSE LISPACH\n - Organisateur : 14024 LA BRESSAU
 DE SECTION SKIPériode d'inscription à l'evènement du mercredi 04 juillet 20
 18 à 00:00 au lundi 09 juillet 2018 à 12:00 (Inscriptions impossibles).Insc
 riptions ouvertes aux detenteurs des titres Fédéraux valides suivants : Lic
 enciés Compétiteurs et Titres Loisirs et DirigeantsEpreuves :\n - Le mercre
 di 11 juillet 2018\n - Codex épreuve TMVF0171\n - Saut Special\n - Catégori
 e(s) : U7 a U20 (Filles)\n - Le mercredi 11 juillet 2018\n - Codex épreuve 
 TMVF0172\n - Saut Special\n - Catégorie(s) : Senior (Dames)\n - Le mercredi
  11 juillet 2018\n - Codex épreuve TMVM0171\n - Saut Special\n - Catégorie(
 s) : U7 a U20 (Garçons)\n - Le mercredi 11 juillet 2018\n - Codex épreuve T
 MVM0172\n - Saut Special\n - Catégorie(s) : Senior (Hommes)\n - Voir les in
 formations dans l'agenda... (/index.php?option=com_jevents&amp;task=icaleve
 nt.detail&amp;evid=1054&amp;Itemid=6289) Cet évènement a été importé depuis
  :https://skivosges.net/agenda/a-venir/detailevenement/1059/-/2-eme-etape-c
 oupe-des-vosges-promo-tour-credit-mutuel?tmpl=component
X-ALT-DESC;FMTTYPE=text/html:<!-- #gskiepreuve code généré par le plugin jevents pour GskiEpreuves. Ne p
 as modifier cette ligne, ni tout le contenu suivant  #gskiepreuve --><div c
 lass="gski-evenement_infos"><div class="gski-evenement-nom">2 ème Etape COU
 PE des VOSGES promo tour Crédit Mutuel</div><div class="gski-evenement-repo
 rt"></div><ul class="gski-evenement-liste-infos"><li>Codex évenement TMVT01
 70</li><li>Station : LA BRESSE LISPACH</li><li>Organisateur : 14024 LA BRES
 SAUDE SECTION SKI</li></ul><div class="gski-evenement-infos-2"><div class="
 gski-evenement-info-inscriptions"><div class="gski-evenement-inscriptions-p
 eriodes">Période d'inscription à l'evènement du mercredi 04 juillet 2018 à 
 00:00 au lundi 09 juillet 2018 à 12:00 <span class="gski-evenement-inscript
 ions-impossibles">(Inscriptions impossibles).</span><div class="gski-evenem
 ent-inscriptions-types-titres">Inscriptions ouvertes aux detenteurs des tit
 res Fédéraux valides suivants : Licenciés Compétiteurs et Titres Loisirs et
  Dirigeants</div></div></div><div class="gski-evenement-epreuves"><div clas
 s="gski-evenement-epreuves-titres">Epreuves :</div><ul class="gski-evenemen
 t-epreuves-list"><li><div class="gski-epreuve-date">Le mercredi 11 juillet 
 2018</div><ul class="gski-epreuve-liste-infos"><li>Codex épreuve TMVF0171</
 li><li>Saut Special</li><li>Catégorie(s) : U7 a U20 (Filles)</li></ul></li>
 <li><div class="gski-epreuve-date">Le mercredi 11 juillet 2018</div><ul cla
 ss="gski-epreuve-liste-infos"><li>Codex épreuve TMVF0172</li><li>Saut Speci
 al</li><li>Catégorie(s) : Senior (Dames)</li></ul></li><li><div class="gski
 -epreuve-date">Le mercredi 11 juillet 2018</div><ul class="gski-epreuve-lis
 te-infos"><li>Codex épreuve TMVM0171</li><li>Saut Special</li><li>Catégorie
 (s) : U7 a U20 (Garçons)</li></ul></li><li><div class="gski-epreuve-date">L
 e mercredi 11 juillet 2018</div><ul class="gski-epreuve-liste-infos"><li>Co
 dex épreuve TMVM0172</li><li>Saut Special</li><li>Catégorie(s) : Senior (Ho
 mmes)</li></ul></li></ul></div><div class="gskiepreuves-links"><ul><li><a h
 ref="https://skivosges.net/index.php?option=com_jevents&task=icalevent.deta
 il&evid=1054&Itemid=6289">Voir les informations dans l'agenda...</a></li></
 ul></div></div"><!-- #/gskiepreuve fin du dode généré par le plugin jevents
  pour GskiEpreuves. . Ne pas modifier cette ligne, ni tout le contenu préce
 dant.  #/gskiepreuve --> <a href="https://skivosges.net/agenda/a-venir/deta
 ilevenement/1059/-/2-eme-etape-coupe-des-vosges-promo-tour-credit-mutuel?tm
 pl=component">Cet évènement a été importé depuis :https://skivosges.net/age
 nda/a-venir/detailevenement/1059/-/2-eme-etape-coupe-des-vosges-promo-tour-
 credit-mutuel?tmpl=component</a>DTSTAMP:20260424T002607
DTSTART;TZID=Europe/Paris;VALUE=DATE:20180711
DTEND;TZID=Europe/Paris;VALUE=DATE:20180712
SEQUENCE:0
TRANSP:OPAQUE
END:VEVENT
END:VCALENDAR