BEGIN:VCALENDAR
VERSION:2.0
PRODID:-//jEvents 2.0 for Joomla//EN
CALSCALE:GREGORIAN
METHOD:PUBLISH
BEGIN:VTIMEZONE
TZID:Europe/Paris
BEGIN:STANDARD
DTSTART:20171029T020000
RDATE:20180325T030000
TZOFFSETFROM:+0200
TZOFFSETTO:+0100
TZNAME:Europe/Paris CET
END:STANDARD
BEGIN:STANDARD
DTSTART:20181028T020000
RDATE:20190331T030000
TZOFFSETFROM:+0200
TZOFFSETTO:+0100
TZNAME:Europe/Paris CET
END:STANDARD
BEGIN:STANDARD
DTSTART:20191027T020000
RDATE:20200329T030000
TZOFFSETFROM:+0200
TZOFFSETTO:+0100
TZNAME:Europe/Paris CET
END:STANDARD
BEGIN:STANDARD
DTSTART:20201025T020000
RDATE:20210328T030000
TZOFFSETFROM:+0200
TZOFFSETTO:+0100
TZNAME:Europe/Paris CET
END:STANDARD
BEGIN:STANDARD
DTSTART:20211031T020000
RDATE:20220327T030000
TZOFFSETFROM:+0200
TZOFFSETTO:+0100
TZNAME:Europe/Paris CET
END:STANDARD
BEGIN:STANDARD
DTSTART:20221030T020000
RDATE:20230326T030000
TZOFFSETFROM:+0200
TZOFFSETTO:+0100
TZNAME:Europe/Paris CET
END:STANDARD
BEGIN:STANDARD
DTSTART:20231029T020000
RDATE:20240331T030000
TZOFFSETFROM:+0200
TZOFFSETTO:+0100
TZNAME:Europe/Paris CET
END:STANDARD
BEGIN:STANDARD
DTSTART:20241027T020000
RDATE:20250330T030000
TZOFFSETFROM:+0200
TZOFFSETTO:+0100
TZNAME:Europe/Paris CET
END:STANDARD
BEGIN:STANDARD
DTSTART:20251026T020000
RDATE:20260329T030000
TZOFFSETFROM:+0200
TZOFFSETTO:+0100
TZNAME:Europe/Paris CET
END:STANDARD
BEGIN:STANDARD
DTSTART:20261025T020000
RDATE:20270328T030000
TZOFFSETFROM:+0200
TZOFFSETTO:+0100
TZNAME:Europe/Paris CET
END:STANDARD
BEGIN:DAYLIGHT
DTSTART:20170714T000000
RDATE:20171029T020000
TZOFFSETFROM:+0100
TZOFFSETTO:+0200
TZNAME:Europe/Paris CEST
END:DAYLIGHT
BEGIN:DAYLIGHT
DTSTART:20180325T030000
RDATE:20181028T020000
TZOFFSETFROM:+0100
TZOFFSETTO:+0200
TZNAME:Europe/Paris CEST
END:DAYLIGHT
BEGIN:DAYLIGHT
DTSTART:20190331T030000
RDATE:20191027T020000
TZOFFSETFROM:+0100
TZOFFSETTO:+0200
TZNAME:Europe/Paris CEST
END:DAYLIGHT
BEGIN:DAYLIGHT
DTSTART:20200329T030000
RDATE:20201025T020000
TZOFFSETFROM:+0100
TZOFFSETTO:+0200
TZNAME:Europe/Paris CEST
END:DAYLIGHT
BEGIN:DAYLIGHT
DTSTART:20210328T030000
RDATE:20211031T020000
TZOFFSETFROM:+0100
TZOFFSETTO:+0200
TZNAME:Europe/Paris CEST
END:DAYLIGHT
BEGIN:DAYLIGHT
DTSTART:20220327T030000
RDATE:20221030T020000
TZOFFSETFROM:+0100
TZOFFSETTO:+0200
TZNAME:Europe/Paris CEST
END:DAYLIGHT
BEGIN:DAYLIGHT
DTSTART:20230326T030000
RDATE:20231029T020000
TZOFFSETFROM:+0100
TZOFFSETTO:+0200
TZNAME:Europe/Paris CEST
END:DAYLIGHT
BEGIN:DAYLIGHT
DTSTART:20240331T030000
RDATE:20241027T020000
TZOFFSETFROM:+0100
TZOFFSETTO:+0200
TZNAME:Europe/Paris CEST
END:DAYLIGHT
BEGIN:DAYLIGHT
DTSTART:20250330T030000
RDATE:20251026T020000
TZOFFSETFROM:+0100
TZOFFSETTO:+0200
TZNAME:Europe/Paris CEST
END:DAYLIGHT
BEGIN:DAYLIGHT
DTSTART:20260329T030000
RDATE:20261025T020000
TZOFFSETFROM:+0100
TZOFFSETTO:+0200
TZNAME:Europe/Paris CEST
END:DAYLIGHT
END:VTIMEZONE
BEGIN:VEVENT
UID:a3648e96299871742ebbf6ad01d21f2b
CATEGORIES:Compétition Saut
CREATED:20180810T134904
SUMMARY:La Bresse 7è Grand Prix d"été Ville de La Bresse National Tour
URL;VALUE=URI:https://skivosges.net/agenda/a-venir/detailevenement/1060/-/la-bresse-7e-gr
 and-prix-d-ete-ville-de-la-bresse-national-tour?tmpl=component
DESCRIPTION:<!-- #gskiepreuve code généré par le plugin jevents pour GskiEpreuves. Ne p
 as modifier cette ligne, ni tout le contenu suivant  #gskiepreuve --><div c
 lass="gski-evenement_infos"><div class="gski-evenement-nom">La Bresse 7è Gr
 and Prix d"été Ville de La Bresse National Tour</div><div class="gski-evene
 ment-report"></div><ul class="gski-evenement-liste-infos"><li>Codex éveneme
 nt TMVT0180</li><li>Station : LA BRESSE LISPACH</li><li>Organisateur : 1402
 4 LA BRESSAUDE SECTION SKI</li></ul><div class="gski-evenement-infos-2"><di
 v class="gski-evenement-info-inscriptions"><div class="gski-evenement-inscr
 iptions-periodes">Période d'inscription à l'evènement du dimanche 08 juille
 t 2018 à 00:00 au vendredi 13 juillet 2018 à 12:00 <span class="gski-evenem
 ent-inscriptions-impossibles">(Inscriptions impossibles).</span><div class=
 "gski-evenement-inscriptions-types-titres">Inscriptions ouvertes aux detent
 eurs des titres Fédéraux valides suivants : Licenciés Compétiteurs</div></d
 iv></div><div class="gski-evenement-epreuves"><div class="gski-evenement-ep
 reuves-titres">Epreuves :</div><ul class="gski-evenement-epreuves-list"><li
 ><div class="gski-epreuve-date">Le dimanche 15 juillet 2018</div><ul class=
 "gski-epreuve-liste-infos"><li>Codex épreuve TMVF0181</li><li>Saut Special<
 /li><li>Catégorie(s) : U7 a U20 (Filles)</li></ul></li><li><div class="gski
 -epreuve-date">Le dimanche 15 juillet 2018</div><ul class="gski-epreuve-lis
 te-infos"><li>Codex épreuve TMVF0182</li><li>Saut Special</li><li>Catégorie
 (s) : Senior (Dames)</li></ul></li><li><div class="gski-epreuve-date">Le di
 manche 15 juillet 2018</div><ul class="gski-epreuve-liste-infos"><li>Codex 
 épreuve TMVM0181</li><li>Saut Special</li><li>Catégorie(s) : U7 a U20 (Garç
 ons)</li></ul></li><li><div class="gski-epreuve-date">Le dimanche 15 juille
 t 2018</div><ul class="gski-epreuve-liste-infos"><li>Codex épreuve TMVM0182
 </li><li>Saut Special</li><li>Catégorie(s) : Senior (Hommes)</li></ul></li>
 </ul></div><div class="gskiepreuves-links"><ul><li><a href="/index.php?opti
 on=com_jevents&task=icalevent.detail&evid=1055&Itemid=6289">Voir les inform
 ations dans l'agenda...</a></li></ul></div></div"><!-- #/gskiepreuve fin du
  dode généré par le plugin jevents pour GskiEpreuves. . Ne pas modifier cet
 te ligne, ni tout le contenu précedant.  #/gskiepreuve --> <a href="https:/
 /skivosges.net/agenda/a-venir/detailevenement/1060/-/la-bresse-7e-grand-pri
 x-d-ete-ville-de-la-bresse-national-tour?tmpl=component">Cet évènement a ét
 é importé depuis :https://skivosges.net/agenda/a-venir/detailevenement/1060
 /-/la-bresse-7e-grand-prix-d-ete-ville-de-la-bresse-national-tour?tmpl=comp
 onent</a>
X-ALT-DESC;FMTTYPE=text/html:<!-- #gskiepreuve code généré par le plugin jevents pour GskiEpreuves. Ne p
 as modifier cette ligne, ni tout le contenu suivant  #gskiepreuve --><div c
 lass="gski-evenement_infos"><div class="gski-evenement-nom">La Bresse 7è Gr
 and Prix d"été Ville de La Bresse National Tour</div><div class="gski-evene
 ment-report"></div><ul class="gski-evenement-liste-infos"><li>Codex éveneme
 nt TMVT0180</li><li>Station : LA BRESSE LISPACH</li><li>Organisateur : 1402
 4 LA BRESSAUDE SECTION SKI</li></ul><div class="gski-evenement-infos-2"><di
 v class="gski-evenement-info-inscriptions"><div class="gski-evenement-inscr
 iptions-periodes">Période d'inscription à l'evènement du dimanche 08 juille
 t 2018 à 00:00 au vendredi 13 juillet 2018 à 12:00 <span class="gski-evenem
 ent-inscriptions-impossibles">(Inscriptions impossibles).</span><div class=
 "gski-evenement-inscriptions-types-titres">Inscriptions ouvertes aux detent
 eurs des titres Fédéraux valides suivants : Licenciés Compétiteurs</div></d
 iv></div><div class="gski-evenement-epreuves"><div class="gski-evenement-ep
 reuves-titres">Epreuves :</div><ul class="gski-evenement-epreuves-list"><li
 ><div class="gski-epreuve-date">Le dimanche 15 juillet 2018</div><ul class=
 "gski-epreuve-liste-infos"><li>Codex épreuve TMVF0181</li><li>Saut Special<
 /li><li>Catégorie(s) : U7 a U20 (Filles)</li></ul></li><li><div class="gski
 -epreuve-date">Le dimanche 15 juillet 2018</div><ul class="gski-epreuve-lis
 te-infos"><li>Codex épreuve TMVF0182</li><li>Saut Special</li><li>Catégorie
 (s) : Senior (Dames)</li></ul></li><li><div class="gski-epreuve-date">Le di
 manche 15 juillet 2018</div><ul class="gski-epreuve-liste-infos"><li>Codex 
 épreuve TMVM0181</li><li>Saut Special</li><li>Catégorie(s) : U7 a U20 (Garç
 ons)</li></ul></li><li><div class="gski-epreuve-date">Le dimanche 15 juille
 t 2018</div><ul class="gski-epreuve-liste-infos"><li>Codex épreuve TMVM0182
 </li><li>Saut Special</li><li>Catégorie(s) : Senior (Hommes)</li></ul></li>
 </ul></div><div class="gskiepreuves-links"><ul><li><a href="https://skivosg
 es.net/index.php?option=com_jevents&task=icalevent.detail&evid=1055&Itemid=
 6289">Voir les informations dans l'agenda...</a></li></ul></div></div"><!--
  #/gskiepreuve fin du dode généré par le plugin jevents pour GskiEpreuves. 
 . Ne pas modifier cette ligne, ni tout le contenu précedant.  #/gskiepreuve
  --> <a href="https://skivosges.net/agenda/a-venir/detailevenement/1060/-/l
 a-bresse-7e-grand-prix-d-ete-ville-de-la-bresse-national-tour?tmpl=componen
 t">Cet évènement a été importé depuis :https://skivosges.net/agenda/a-venir
 /detailevenement/1060/-/la-bresse-7e-grand-prix-d-ete-ville-de-la-bresse-na
 tional-tour?tmpl=component</a>DTSTAMP:20260424T002735
DTSTART;TZID=Europe/Paris;VALUE=DATE:20180715
DTEND;TZID=Europe/Paris;VALUE=DATE:20180716
SEQUENCE:0
TRANSP:OPAQUE
END:VEVENT
END:VCALENDAR