BEGIN:VCALENDAR
VERSION:2.0
PRODID:-//jEvents 2.0 for Joomla//EN
CALSCALE:GREGORIAN
METHOD:PUBLISH
BEGIN:VTIMEZONE
TZID:Europe/Paris
BEGIN:STANDARD
DTSTART:20171029T020000
RDATE:20180325T030000
TZOFFSETFROM:+0200
TZOFFSETTO:+0100
TZNAME:Europe/Paris CET
END:STANDARD
BEGIN:STANDARD
DTSTART:20181028T020000
RDATE:20190331T030000
TZOFFSETFROM:+0200
TZOFFSETTO:+0100
TZNAME:Europe/Paris CET
END:STANDARD
BEGIN:STANDARD
DTSTART:20191027T020000
RDATE:20200329T030000
TZOFFSETFROM:+0200
TZOFFSETTO:+0100
TZNAME:Europe/Paris CET
END:STANDARD
BEGIN:STANDARD
DTSTART:20201025T020000
RDATE:20210328T030000
TZOFFSETFROM:+0200
TZOFFSETTO:+0100
TZNAME:Europe/Paris CET
END:STANDARD
BEGIN:STANDARD
DTSTART:20211031T020000
RDATE:20220327T030000
TZOFFSETFROM:+0200
TZOFFSETTO:+0100
TZNAME:Europe/Paris CET
END:STANDARD
BEGIN:STANDARD
DTSTART:20221030T020000
RDATE:20230326T030000
TZOFFSETFROM:+0200
TZOFFSETTO:+0100
TZNAME:Europe/Paris CET
END:STANDARD
BEGIN:STANDARD
DTSTART:20231029T020000
RDATE:20240331T030000
TZOFFSETFROM:+0200
TZOFFSETTO:+0100
TZNAME:Europe/Paris CET
END:STANDARD
BEGIN:STANDARD
DTSTART:20241027T020000
RDATE:20250330T030000
TZOFFSETFROM:+0200
TZOFFSETTO:+0100
TZNAME:Europe/Paris CET
END:STANDARD
BEGIN:STANDARD
DTSTART:20251026T020000
RDATE:20260329T030000
TZOFFSETFROM:+0200
TZOFFSETTO:+0100
TZNAME:Europe/Paris CET
END:STANDARD
BEGIN:STANDARD
DTSTART:20261025T020000
RDATE:20270328T030000
TZOFFSETFROM:+0200
TZOFFSETTO:+0100
TZNAME:Europe/Paris CET
END:STANDARD
BEGIN:DAYLIGHT
DTSTART:20170714T000000
RDATE:20171029T020000
TZOFFSETFROM:+0100
TZOFFSETTO:+0200
TZNAME:Europe/Paris CEST
END:DAYLIGHT
BEGIN:DAYLIGHT
DTSTART:20180325T030000
RDATE:20181028T020000
TZOFFSETFROM:+0100
TZOFFSETTO:+0200
TZNAME:Europe/Paris CEST
END:DAYLIGHT
BEGIN:DAYLIGHT
DTSTART:20190331T030000
RDATE:20191027T020000
TZOFFSETFROM:+0100
TZOFFSETTO:+0200
TZNAME:Europe/Paris CEST
END:DAYLIGHT
BEGIN:DAYLIGHT
DTSTART:20200329T030000
RDATE:20201025T020000
TZOFFSETFROM:+0100
TZOFFSETTO:+0200
TZNAME:Europe/Paris CEST
END:DAYLIGHT
BEGIN:DAYLIGHT
DTSTART:20210328T030000
RDATE:20211031T020000
TZOFFSETFROM:+0100
TZOFFSETTO:+0200
TZNAME:Europe/Paris CEST
END:DAYLIGHT
BEGIN:DAYLIGHT
DTSTART:20220327T030000
RDATE:20221030T020000
TZOFFSETFROM:+0100
TZOFFSETTO:+0200
TZNAME:Europe/Paris CEST
END:DAYLIGHT
BEGIN:DAYLIGHT
DTSTART:20230326T030000
RDATE:20231029T020000
TZOFFSETFROM:+0100
TZOFFSETTO:+0200
TZNAME:Europe/Paris CEST
END:DAYLIGHT
BEGIN:DAYLIGHT
DTSTART:20240331T030000
RDATE:20241027T020000
TZOFFSETFROM:+0100
TZOFFSETTO:+0200
TZNAME:Europe/Paris CEST
END:DAYLIGHT
BEGIN:DAYLIGHT
DTSTART:20250330T030000
RDATE:20251026T020000
TZOFFSETFROM:+0100
TZOFFSETTO:+0200
TZNAME:Europe/Paris CEST
END:DAYLIGHT
BEGIN:DAYLIGHT
DTSTART:20260329T030000
RDATE:20261025T020000
TZOFFSETFROM:+0100
TZOFFSETTO:+0200
TZNAME:Europe/Paris CEST
END:DAYLIGHT
END:VTIMEZONE
BEGIN:VEVENT
UID:63b653d5542f95d60c72f13b3374c2c7
CATEGORIES:Combiné Nordique
CREATED:20180810T134904
SUMMARY:SAMSE SUMMER TOUR U15
URL;VALUE=URI:https://skivosges.net/agenda/a-venir/detailevenement/1062/-/samse-summer-to
 ur-u15?tmpl=component
DESCRIPTION:<!-- #gskiepreuve code généré par le plugin jevents pour GskiEpreuves. Ne p
 as modifier cette ligne, ni tout le contenu suivant  #gskiepreuve --><div c
 lass="gski-evenement_infos"><div class="gski-evenement-nom">SAMSE SUMMER TO
 UR U15</div><div class="gski-evenement-report"></div><ul class="gski-evenem
 ent-liste-infos"><li>Codex évenement CNAT0130</li><li>Station : LA BRESSE L
 ISPACH</li><li>Organisateur : 14024 LA BRESSAUDE SECTION SKI</li><li><span 
 class="gski-evenement-obs">Délégué Technique : GAILLARD JACQUES</span></li>
 </ul><div class="gski-evenement-infos-2"><div class="gski-evenement-info-in
 scriptions"><div class="gski-evenement-inscriptions-periodes">Période d'ins
 cription à l'evènement du dimanche 08 juillet 2018 à 00:00 au vendredi 13 j
 uillet 2018 à 12:00 <span class="gski-evenement-inscriptions-impossibles">(
 Inscriptions impossibles).</span><div class="gski-evenement-inscriptions-ty
 pes-titres">Inscriptions ouvertes aux detenteurs des titres Fédéraux valide
 s suivants : Licenciés Compétiteurs</div></div></div><div class="gski-evene
 ment-epreuves"><div class="gski-evenement-epreuves-titres">Epreuves :</div>
 <ul class="gski-evenement-epreuves-list"><li><div class="gski-epreuve-date"
 >Le dimanche 15 juillet 2018</div><ul class="gski-epreuve-liste-infos"><li>
 Codex épreuve CNAM0131</li><li>Combine du Combine Nordique</li><li>Catégori
 e(s) : U7 a U15 (Garçons)</li></ul></li><li><div class="gski-epreuve-date">
 Le dimanche 15 juillet 2018</div><ul class="gski-epreuve-liste-infos"><li>C
 odex épreuve CNAF0131</li><li>Combine du Combine Nordique</li><li>Catégorie
 (s) : U7 a U15 (Filles)</li></ul></li></ul></div><div class="gskiepreuves-l
 inks"><ul><li><a href="/index.php?option=com_jevents&task=icalevent.detail&
 evid=1057&Itemid=6289">Voir les informations dans l'agenda...</a></li></ul>
 </div></div"><!-- #/gskiepreuve fin du dode généré par le plugin jevents po
 ur GskiEpreuves. . Ne pas modifier cette ligne, ni tout le contenu précedan
 t.  #/gskiepreuve --> <a href="https://skivosges.net/agenda/a-venir/detaile
 venement/1062/-/samse-summer-tour-u15?tmpl=component">Cet évènement a été i
 mporté depuis :https://skivosges.net/agenda/a-venir/detailevenement/1062/-/
 samse-summer-tour-u15?tmpl=component</a>
X-ALT-DESC;FMTTYPE=text/html:<!-- #gskiepreuve code généré par le plugin jevents pour GskiEpreuves. Ne p
 as modifier cette ligne, ni tout le contenu suivant  #gskiepreuve --><div c
 lass="gski-evenement_infos"><div class="gski-evenement-nom">SAMSE SUMMER TO
 UR U15</div><div class="gski-evenement-report"></div><ul class="gski-evenem
 ent-liste-infos"><li>Codex évenement CNAT0130</li><li>Station : LA BRESSE L
 ISPACH</li><li>Organisateur : 14024 LA BRESSAUDE SECTION SKI</li><li><span 
 class="gski-evenement-obs">Délégué Technique : GAILLARD JACQUES</span></li>
 </ul><div class="gski-evenement-infos-2"><div class="gski-evenement-info-in
 scriptions"><div class="gski-evenement-inscriptions-periodes">Période d'ins
 cription à l'evènement du dimanche 08 juillet 2018 à 00:00 au vendredi 13 j
 uillet 2018 à 12:00 <span class="gski-evenement-inscriptions-impossibles">(
 Inscriptions impossibles).</span><div class="gski-evenement-inscriptions-ty
 pes-titres">Inscriptions ouvertes aux detenteurs des titres Fédéraux valide
 s suivants : Licenciés Compétiteurs</div></div></div><div class="gski-evene
 ment-epreuves"><div class="gski-evenement-epreuves-titres">Epreuves :</div>
 <ul class="gski-evenement-epreuves-list"><li><div class="gski-epreuve-date"
 >Le dimanche 15 juillet 2018</div><ul class="gski-epreuve-liste-infos"><li>
 Codex épreuve CNAM0131</li><li>Combine du Combine Nordique</li><li>Catégori
 e(s) : U7 a U15 (Garçons)</li></ul></li><li><div class="gski-epreuve-date">
 Le dimanche 15 juillet 2018</div><ul class="gski-epreuve-liste-infos"><li>C
 odex épreuve CNAF0131</li><li>Combine du Combine Nordique</li><li>Catégorie
 (s) : U7 a U15 (Filles)</li></ul></li></ul></div><div class="gskiepreuves-l
 inks"><ul><li><a href="https://skivosges.net/index.php?option=com_jevents&t
 ask=icalevent.detail&evid=1057&Itemid=6289">Voir les informations dans l'ag
 enda...</a></li></ul></div></div"><!-- #/gskiepreuve fin du dode généré par
  le plugin jevents pour GskiEpreuves. . Ne pas modifier cette ligne, ni tou
 t le contenu précedant.  #/gskiepreuve --> <a href="https://skivosges.net/a
 genda/a-venir/detailevenement/1062/-/samse-summer-tour-u15?tmpl=component">
 Cet évènement a été importé depuis :https://skivosges.net/agenda/a-venir/de
 tailevenement/1062/-/samse-summer-tour-u15?tmpl=component</a>DTSTAMP:20260424T002734
DTSTART;TZID=Europe/Paris;VALUE=DATE:20180715
DTEND;TZID=Europe/Paris;VALUE=DATE:20180716
SEQUENCE:0
TRANSP:OPAQUE
END:VEVENT
END:VCALENDAR