BEGIN:VCALENDAR
VERSION:2.0
PRODID:-//jEvents 2.0 for Joomla//EN
CALSCALE:GREGORIAN
METHOD:PUBLISH
BEGIN:VTIMEZONE
TZID:Europe/Paris
BEGIN:STANDARD
DTSTART:20130125T080000
RDATE:20130331T030000
TZOFFSETFROM:+0200
TZOFFSETTO:+0100
TZNAME:Europe/Paris CET
END:STANDARD
BEGIN:STANDARD
DTSTART:20131027T020000
RDATE:20140330T030000
TZOFFSETFROM:+0200
TZOFFSETTO:+0100
TZNAME:Europe/Paris CET
END:STANDARD
BEGIN:STANDARD
DTSTART:20141026T020000
RDATE:20150329T030000
TZOFFSETFROM:+0200
TZOFFSETTO:+0100
TZNAME:Europe/Paris CET
END:STANDARD
BEGIN:STANDARD
DTSTART:20151025T020000
RDATE:20160327T030000
TZOFFSETFROM:+0200
TZOFFSETTO:+0100
TZNAME:Europe/Paris CET
END:STANDARD
BEGIN:STANDARD
DTSTART:20161030T020000
RDATE:20170326T030000
TZOFFSETFROM:+0200
TZOFFSETTO:+0100
TZNAME:Europe/Paris CET
END:STANDARD
BEGIN:STANDARD
DTSTART:20171029T020000
RDATE:20180325T030000
TZOFFSETFROM:+0200
TZOFFSETTO:+0100
TZNAME:Europe/Paris CET
END:STANDARD
BEGIN:STANDARD
DTSTART:20181028T020000
RDATE:20190331T030000
TZOFFSETFROM:+0200
TZOFFSETTO:+0100
TZNAME:Europe/Paris CET
END:STANDARD
BEGIN:STANDARD
DTSTART:20191027T020000
RDATE:20200329T030000
TZOFFSETFROM:+0200
TZOFFSETTO:+0100
TZNAME:Europe/Paris CET
END:STANDARD
BEGIN:STANDARD
DTSTART:20201025T020000
RDATE:20210328T030000
TZOFFSETFROM:+0200
TZOFFSETTO:+0100
TZNAME:Europe/Paris CET
END:STANDARD
BEGIN:STANDARD
DTSTART:20211031T020000
RDATE:20220327T030000
TZOFFSETFROM:+0200
TZOFFSETTO:+0100
TZNAME:Europe/Paris CET
END:STANDARD
BEGIN:STANDARD
DTSTART:20221030T020000
RDATE:20230326T030000
TZOFFSETFROM:+0200
TZOFFSETTO:+0100
TZNAME:Europe/Paris CET
END:STANDARD
BEGIN:STANDARD
DTSTART:20231029T020000
RDATE:20240331T030000
TZOFFSETFROM:+0200
TZOFFSETTO:+0100
TZNAME:Europe/Paris CET
END:STANDARD
BEGIN:STANDARD
DTSTART:20241027T020000
RDATE:20250330T030000
TZOFFSETFROM:+0200
TZOFFSETTO:+0100
TZNAME:Europe/Paris CET
END:STANDARD
BEGIN:STANDARD
DTSTART:20251026T020000
RDATE:20260329T030000
TZOFFSETFROM:+0200
TZOFFSETTO:+0100
TZNAME:Europe/Paris CET
END:STANDARD
BEGIN:STANDARD
DTSTART:20261025T020000
RDATE:20270328T030000
TZOFFSETFROM:+0200
TZOFFSETTO:+0100
TZNAME:Europe/Paris CET
END:STANDARD
BEGIN:DAYLIGHT
DTSTART:20130331T030000
RDATE:20131027T020000
TZOFFSETFROM:+0100
TZOFFSETTO:+0200
TZNAME:Europe/Paris CEST
END:DAYLIGHT
BEGIN:DAYLIGHT
DTSTART:20140330T030000
RDATE:20141026T020000
TZOFFSETFROM:+0100
TZOFFSETTO:+0200
TZNAME:Europe/Paris CEST
END:DAYLIGHT
BEGIN:DAYLIGHT
DTSTART:20150329T030000
RDATE:20151025T020000
TZOFFSETFROM:+0100
TZOFFSETTO:+0200
TZNAME:Europe/Paris CEST
END:DAYLIGHT
BEGIN:DAYLIGHT
DTSTART:20160327T030000
RDATE:20161030T020000
TZOFFSETFROM:+0100
TZOFFSETTO:+0200
TZNAME:Europe/Paris CEST
END:DAYLIGHT
BEGIN:DAYLIGHT
DTSTART:20170326T030000
RDATE:20171029T020000
TZOFFSETFROM:+0100
TZOFFSETTO:+0200
TZNAME:Europe/Paris CEST
END:DAYLIGHT
BEGIN:DAYLIGHT
DTSTART:20180325T030000
RDATE:20181028T020000
TZOFFSETFROM:+0100
TZOFFSETTO:+0200
TZNAME:Europe/Paris CEST
END:DAYLIGHT
BEGIN:DAYLIGHT
DTSTART:20190331T030000
RDATE:20191027T020000
TZOFFSETFROM:+0100
TZOFFSETTO:+0200
TZNAME:Europe/Paris CEST
END:DAYLIGHT
BEGIN:DAYLIGHT
DTSTART:20200329T030000
RDATE:20201025T020000
TZOFFSETFROM:+0100
TZOFFSETTO:+0200
TZNAME:Europe/Paris CEST
END:DAYLIGHT
BEGIN:DAYLIGHT
DTSTART:20210328T030000
RDATE:20211031T020000
TZOFFSETFROM:+0100
TZOFFSETTO:+0200
TZNAME:Europe/Paris CEST
END:DAYLIGHT
BEGIN:DAYLIGHT
DTSTART:20220327T030000
RDATE:20221030T020000
TZOFFSETFROM:+0100
TZOFFSETTO:+0200
TZNAME:Europe/Paris CEST
END:DAYLIGHT
BEGIN:DAYLIGHT
DTSTART:20230326T030000
RDATE:20231029T020000
TZOFFSETFROM:+0100
TZOFFSETTO:+0200
TZNAME:Europe/Paris CEST
END:DAYLIGHT
BEGIN:DAYLIGHT
DTSTART:20240331T030000
RDATE:20241027T020000
TZOFFSETFROM:+0100
TZOFFSETTO:+0200
TZNAME:Europe/Paris CEST
END:DAYLIGHT
BEGIN:DAYLIGHT
DTSTART:20250330T030000
RDATE:20251026T020000
TZOFFSETFROM:+0100
TZOFFSETTO:+0200
TZNAME:Europe/Paris CEST
END:DAYLIGHT
BEGIN:DAYLIGHT
DTSTART:20260329T030000
RDATE:20261025T020000
TZOFFSETFROM:+0100
TZOFFSETTO:+0200
TZNAME:Europe/Paris CEST
END:DAYLIGHT
END:VTIMEZONE
BEGIN:VEVENT
UID:7f2e3def30cf3502e28dd419dbb80959
CATEGORIES:Circuit Alsace Adultes (alpin)
CREATED:20131203T122100
SUMMARY:CAA        Trophée Eurocoupe **REPORTE**
URL;VALUE=URI:https://skivosges.net/agenda/a-venir/detailevenement/108/-/caa-trophee-euro
 coupe-reporte?tmpl=component
DESCRIPTION:CAA        Trophée Eurocoupe (Epreuve reportée, date à determiner) \n(Coupe
  d'Alsace Adultes)\n\nLieu : ROUGE GAZON \nOrganisateur : ASPTT MULHOUSE  (
 14173 ASPTT MULHOUSE)\nEmail : RegularLabs.EmailProtector.unCloak("ep_2af7a
 389");\nTelecopie : 0389463728\n - AMVF0341  Slalom (Courses FFS) U16-&gt;M
 as (Min à Mast/Vet) Dames\n  CAA        Trophée Eurocoupe\n - AMVM0341  Sla
 lom (Courses FFS) U16-&gt;Mas (Min à Mast/Vet) Hommes\n  CAA        Trophée
  Eurocoupe Cet évènement a été importé depuis :https://skivosges.net/agenda
 /a-venir/detailevenement/108/-/caa-trophee-eurocoupe-reporte?tmpl=component
X-ALT-DESC;FMTTYPE=text/html:<strong>CAA        Trophée Eurocoupe</strong> <font class="attention4">(Epr
 euve reportée, date à determiner)</font> <br /><i>(Coupe d'Alsace Adultes)<
 /i><br /><br />Lieu : ROUGE GAZON <br />Organisateur : ASPTT MULHOUSE  <sma
 ll>(14173 ASPTT MULHOUSE)</small><br />Email : <!-- Cette adresse électroni
 que est protégée contre les robots spammeurs. --><span class="cloaked_email
  ep_2af7a389"><span data-ep-b="&#111;.fr" data-ep-a="&#97;s&#112;t&#116;"><
 span data-ep-a="-&#115;&#107;i&#46;" data-ep-b="&#97;n&#97;&#100;&#111;"><s
 pan data-ep-b="us&#101;&#64;&#119;" data-ep-a="mu&#108;&#104;&#111;"></span
 ></span></span></span><script>RegularLabs.EmailProtector.unCloak("ep_2af7a3
 89");</script><br />Telecopie : 0389463728<ul type="disc"><li>AMVF0341  Sla
 lom <nobr><i>(Courses FFS)</i></nobr> <nobr>U16->Mas (Min à Mast/Vet)</nobr
 > Dames<br />&nbsp;&nbsp;CAA        Trophée Eurocoupe</li><li>AMVM0341  Sla
 lom <nobr><i>(Courses FFS)</i></nobr> <nobr>U16->Mas (Min à Mast/Vet)</nobr
 > Hommes<br />&nbsp;&nbsp;CAA        Trophée Eurocoupe</li></ul> <a href="h
 ttps://skivosges.net/agenda/a-venir/detailevenement/108/-/caa-trophee-euroc
 oupe-reporte?tmpl=component">Cet évènement a été importé depuis :https://sk
 ivosges.net/agenda/a-venir/detailevenement/108/-/caa-trophee-eurocoupe-repo
 rte?tmpl=component</a>DTSTAMP:20260424T030453
DTSTART;TZID=Europe/Paris:20140126T080000
DTEND;TZID=Europe/Paris:20140126T170000
SEQUENCE:0
TRANSP:OPAQUE
END:VEVENT
END:VCALENDAR