BEGIN:VCALENDAR
VERSION:2.0
PRODID:-//jEvents 2.0 for Joomla//EN
CALSCALE:GREGORIAN
METHOD:PUBLISH
BEGIN:VTIMEZONE
TZID:Europe/Paris
BEGIN:STANDARD
DTSTART:20171029T020000
RDATE:20180325T030000
TZOFFSETFROM:+0200
TZOFFSETTO:+0100
TZNAME:Europe/Paris CET
END:STANDARD
BEGIN:STANDARD
DTSTART:20181028T020000
RDATE:20190331T030000
TZOFFSETFROM:+0200
TZOFFSETTO:+0100
TZNAME:Europe/Paris CET
END:STANDARD
BEGIN:STANDARD
DTSTART:20191027T020000
RDATE:20200329T030000
TZOFFSETFROM:+0200
TZOFFSETTO:+0100
TZNAME:Europe/Paris CET
END:STANDARD
BEGIN:STANDARD
DTSTART:20201025T020000
RDATE:20210328T030000
TZOFFSETFROM:+0200
TZOFFSETTO:+0100
TZNAME:Europe/Paris CET
END:STANDARD
BEGIN:STANDARD
DTSTART:20211031T020000
RDATE:20220327T030000
TZOFFSETFROM:+0200
TZOFFSETTO:+0100
TZNAME:Europe/Paris CET
END:STANDARD
BEGIN:STANDARD
DTSTART:20221030T020000
RDATE:20230326T030000
TZOFFSETFROM:+0200
TZOFFSETTO:+0100
TZNAME:Europe/Paris CET
END:STANDARD
BEGIN:STANDARD
DTSTART:20231029T020000
RDATE:20240331T030000
TZOFFSETFROM:+0200
TZOFFSETTO:+0100
TZNAME:Europe/Paris CET
END:STANDARD
BEGIN:STANDARD
DTSTART:20241027T020000
RDATE:20250330T030000
TZOFFSETFROM:+0200
TZOFFSETTO:+0100
TZNAME:Europe/Paris CET
END:STANDARD
BEGIN:STANDARD
DTSTART:20251026T020000
RDATE:20260329T030000
TZOFFSETFROM:+0200
TZOFFSETTO:+0100
TZNAME:Europe/Paris CET
END:STANDARD
BEGIN:STANDARD
DTSTART:20261025T020000
RDATE:20270328T030000
TZOFFSETFROM:+0200
TZOFFSETTO:+0100
TZNAME:Europe/Paris CET
END:STANDARD
BEGIN:DAYLIGHT
DTSTART:20171012T000000
RDATE:20171029T020000
TZOFFSETFROM:+0100
TZOFFSETTO:+0200
TZNAME:Europe/Paris CEST
END:DAYLIGHT
BEGIN:DAYLIGHT
DTSTART:20180325T030000
RDATE:20181028T020000
TZOFFSETFROM:+0100
TZOFFSETTO:+0200
TZNAME:Europe/Paris CEST
END:DAYLIGHT
BEGIN:DAYLIGHT
DTSTART:20190331T030000
RDATE:20191027T020000
TZOFFSETFROM:+0100
TZOFFSETTO:+0200
TZNAME:Europe/Paris CEST
END:DAYLIGHT
BEGIN:DAYLIGHT
DTSTART:20200329T030000
RDATE:20201025T020000
TZOFFSETFROM:+0100
TZOFFSETTO:+0200
TZNAME:Europe/Paris CEST
END:DAYLIGHT
BEGIN:DAYLIGHT
DTSTART:20210328T030000
RDATE:20211031T020000
TZOFFSETFROM:+0100
TZOFFSETTO:+0200
TZNAME:Europe/Paris CEST
END:DAYLIGHT
BEGIN:DAYLIGHT
DTSTART:20220327T030000
RDATE:20221030T020000
TZOFFSETFROM:+0100
TZOFFSETTO:+0200
TZNAME:Europe/Paris CEST
END:DAYLIGHT
BEGIN:DAYLIGHT
DTSTART:20230326T030000
RDATE:20231029T020000
TZOFFSETFROM:+0100
TZOFFSETTO:+0200
TZNAME:Europe/Paris CEST
END:DAYLIGHT
BEGIN:DAYLIGHT
DTSTART:20240331T030000
RDATE:20241027T020000
TZOFFSETFROM:+0100
TZOFFSETTO:+0200
TZNAME:Europe/Paris CEST
END:DAYLIGHT
BEGIN:DAYLIGHT
DTSTART:20250330T030000
RDATE:20251026T020000
TZOFFSETFROM:+0100
TZOFFSETTO:+0200
TZNAME:Europe/Paris CEST
END:DAYLIGHT
BEGIN:DAYLIGHT
DTSTART:20260329T030000
RDATE:20261025T020000
TZOFFSETFROM:+0100
TZOFFSETTO:+0200
TZNAME:Europe/Paris CEST
END:DAYLIGHT
END:VTIMEZONE
BEGIN:VEVENT
UID:23f332fefc400a4e2c7fc92d838896f2
CATEGORIES:Compétition Saut
CREATED:20180810T134904
SUMMARY:CHALLENGE NATIONAL ETE
URL;VALUE=URI:https://skivosges.net/agenda/a-venir/detailevenement/1083/-/challenge-natio
 nal-ete?tmpl=component
DESCRIPTION:<!-- #gskiepreuve code généré par le plugin jevents pour GskiEpreuves. Ne p
 as modifier cette ligne, ni tout le contenu suivant  #gskiepreuve --><div c
 lass="gski-evenement_infos"><div class="gski-evenement-nom">CHALLENGE NATIO
 NAL ETE</div><div class="gski-evenement-report"></div><ul class="gski-evene
 ment-liste-infos"><li>Codex évenement TNAT0320</li><li>Lieu : VENTRON</li><
 li>Organisateur : 14083 U.S VENTRON</li><li><span class="gski-evenement-obs
 ">Délégué Technique : GAY JEROME</span></li></ul><div class="gski-evenement
 -infos-2"><div class="gski-evenement-info-inscriptions"><div class="gski-ev
 enement-inscriptions-periodes">Période d'inscription à l'evènement du samed
 i 06 octobre 2018 à 00:00 au jeudi 11 octobre 2018 à 12:00 <span class="gsk
 i-evenement-inscriptions-impossibles">(Inscriptions impossibles).</span><di
 v class="gski-evenement-inscriptions-types-titres">Inscriptions ouvertes au
 x detenteurs des titres Fédéraux valides suivants : Licenciés Compétiteurs<
 /div></div></div><div class="gski-evenement-epreuves"><div class="gski-even
 ement-epreuves-titres">Epreuves :</div><ul class="gski-evenement-epreuves-l
 ist"><li><div class="gski-epreuve-date">Le samedi 13 octobre 2018</div><ul 
 class="gski-epreuve-liste-infos"><li>Codex épreuve TNAM0321</li><li>Saut Sp
 ecial</li><li>Catégorie(s) : U7 a U11 (Garçons)</li></ul></li><li><div clas
 s="gski-epreuve-date">Le samedi 13 octobre 2018</div><ul class="gski-epreuv
 e-liste-infos"><li>Codex épreuve TNAF0321</li><li>Saut Special</li><li>Caté
 gorie(s) : U7 a U11 (Filles)</li></ul></li><li><div class="gski-epreuve-dat
 e">Le samedi 13 octobre 2018</div><ul class="gski-epreuve-liste-infos"><li>
 Codex épreuve TNAF0322</li><li>Saut Special</li><li>Catégorie(s) : U7 a U13
  (Filles)</li></ul></li><li><div class="gski-epreuve-date">Le samedi 13 oct
 obre 2018</div><ul class="gski-epreuve-liste-infos"><li>Codex épreuve TNAM0
 322</li><li>Saut Special</li><li>Catégorie(s) : U7 a U13 (Garçons)</li></ul
 ></li></ul></div><div class="gskiepreuves-links"><ul><li><a href="/index.ph
 p?option=com_jevents&task=icalevent.detail&evid=1078&Itemid=6289">Voir les 
 informations dans l'agenda...</a></li></ul></div></div"><!-- #/gskiepreuve 
 fin du dode généré par le plugin jevents pour GskiEpreuves. . Ne pas modifi
 er cette ligne, ni tout le contenu précedant.  #/gskiepreuve --> <a href="h
 ttps://skivosges.net/agenda/a-venir/detailevenement/1083/-/challenge-nation
 al-ete?tmpl=component">Cet évènement a été importé depuis :https://skivosge
 s.net/agenda/a-venir/detailevenement/1083/-/challenge-national-ete?tmpl=com
 ponent</a>
X-ALT-DESC;FMTTYPE=text/html:<!-- #gskiepreuve code généré par le plugin jevents pour GskiEpreuves. Ne p
 as modifier cette ligne, ni tout le contenu suivant  #gskiepreuve --><div c
 lass="gski-evenement_infos"><div class="gski-evenement-nom">CHALLENGE NATIO
 NAL ETE</div><div class="gski-evenement-report"></div><ul class="gski-evene
 ment-liste-infos"><li>Codex évenement TNAT0320</li><li>Lieu : VENTRON</li><
 li>Organisateur : 14083 U.S VENTRON</li><li><span class="gski-evenement-obs
 ">Délégué Technique : GAY JEROME</span></li></ul><div class="gski-evenement
 -infos-2"><div class="gski-evenement-info-inscriptions"><div class="gski-ev
 enement-inscriptions-periodes">Période d'inscription à l'evènement du samed
 i 06 octobre 2018 à 00:00 au jeudi 11 octobre 2018 à 12:00 <span class="gsk
 i-evenement-inscriptions-impossibles">(Inscriptions impossibles).</span><di
 v class="gski-evenement-inscriptions-types-titres">Inscriptions ouvertes au
 x detenteurs des titres Fédéraux valides suivants : Licenciés Compétiteurs<
 /div></div></div><div class="gski-evenement-epreuves"><div class="gski-even
 ement-epreuves-titres">Epreuves :</div><ul class="gski-evenement-epreuves-l
 ist"><li><div class="gski-epreuve-date">Le samedi 13 octobre 2018</div><ul 
 class="gski-epreuve-liste-infos"><li>Codex épreuve TNAM0321</li><li>Saut Sp
 ecial</li><li>Catégorie(s) : U7 a U11 (Garçons)</li></ul></li><li><div clas
 s="gski-epreuve-date">Le samedi 13 octobre 2018</div><ul class="gski-epreuv
 e-liste-infos"><li>Codex épreuve TNAF0321</li><li>Saut Special</li><li>Caté
 gorie(s) : U7 a U11 (Filles)</li></ul></li><li><div class="gski-epreuve-dat
 e">Le samedi 13 octobre 2018</div><ul class="gski-epreuve-liste-infos"><li>
 Codex épreuve TNAF0322</li><li>Saut Special</li><li>Catégorie(s) : U7 a U13
  (Filles)</li></ul></li><li><div class="gski-epreuve-date">Le samedi 13 oct
 obre 2018</div><ul class="gski-epreuve-liste-infos"><li>Codex épreuve TNAM0
 322</li><li>Saut Special</li><li>Catégorie(s) : U7 a U13 (Garçons)</li></ul
 ></li></ul></div><div class="gskiepreuves-links"><ul><li><a href="https://s
 kivosges.net/index.php?option=com_jevents&task=icalevent.detail&evid=1078&I
 temid=6289">Voir les informations dans l'agenda...</a></li></ul></div></div
 "><!-- #/gskiepreuve fin du dode généré par le plugin jevents pour GskiEpre
 uves. . Ne pas modifier cette ligne, ni tout le contenu précedant.  #/gskie
 preuve --> <a href="https://skivosges.net/agenda/a-venir/detailevenement/10
 83/-/challenge-national-ete?tmpl=component">Cet évènement a été importé dep
 uis :https://skivosges.net/agenda/a-venir/detailevenement/1083/-/challenge-
 national-ete?tmpl=component</a>DTSTAMP:20260424T002734
DTSTART;TZID=Europe/Paris;VALUE=DATE:20181013
DTEND;TZID=Europe/Paris;VALUE=DATE:20181014
SEQUENCE:0
TRANSP:OPAQUE
END:VEVENT
END:VCALENDAR