BEGIN:VCALENDAR
VERSION:2.0
PRODID:-//jEvents 2.0 for Joomla//EN
CALSCALE:GREGORIAN
METHOD:PUBLISH
BEGIN:VTIMEZONE
TZID:Europe/Paris
BEGIN:STANDARD
DTSTART:20171029T020000
RDATE:20180325T030000
TZOFFSETFROM:+0200
TZOFFSETTO:+0100
TZNAME:Europe/Paris CET
END:STANDARD
BEGIN:STANDARD
DTSTART:20181028T020000
RDATE:20190331T030000
TZOFFSETFROM:+0200
TZOFFSETTO:+0100
TZNAME:Europe/Paris CET
END:STANDARD
BEGIN:STANDARD
DTSTART:20191027T020000
RDATE:20200329T030000
TZOFFSETFROM:+0200
TZOFFSETTO:+0100
TZNAME:Europe/Paris CET
END:STANDARD
BEGIN:STANDARD
DTSTART:20201025T020000
RDATE:20210328T030000
TZOFFSETFROM:+0200
TZOFFSETTO:+0100
TZNAME:Europe/Paris CET
END:STANDARD
BEGIN:STANDARD
DTSTART:20211031T020000
RDATE:20220327T030000
TZOFFSETFROM:+0200
TZOFFSETTO:+0100
TZNAME:Europe/Paris CET
END:STANDARD
BEGIN:STANDARD
DTSTART:20221030T020000
RDATE:20230326T030000
TZOFFSETFROM:+0200
TZOFFSETTO:+0100
TZNAME:Europe/Paris CET
END:STANDARD
BEGIN:STANDARD
DTSTART:20231029T020000
RDATE:20240331T030000
TZOFFSETFROM:+0200
TZOFFSETTO:+0100
TZNAME:Europe/Paris CET
END:STANDARD
BEGIN:STANDARD
DTSTART:20241027T020000
RDATE:20250330T030000
TZOFFSETFROM:+0200
TZOFFSETTO:+0100
TZNAME:Europe/Paris CET
END:STANDARD
BEGIN:STANDARD
DTSTART:20251026T020000
RDATE:20260329T030000
TZOFFSETFROM:+0200
TZOFFSETTO:+0100
TZNAME:Europe/Paris CET
END:STANDARD
BEGIN:STANDARD
DTSTART:20261025T020000
RDATE:20270328T030000
TZOFFSETFROM:+0200
TZOFFSETTO:+0100
TZNAME:Europe/Paris CET
END:STANDARD
BEGIN:DAYLIGHT
DTSTART:20171013T000000
RDATE:20171029T020000
TZOFFSETFROM:+0100
TZOFFSETTO:+0200
TZNAME:Europe/Paris CEST
END:DAYLIGHT
BEGIN:DAYLIGHT
DTSTART:20180325T030000
RDATE:20181028T020000
TZOFFSETFROM:+0100
TZOFFSETTO:+0200
TZNAME:Europe/Paris CEST
END:DAYLIGHT
BEGIN:DAYLIGHT
DTSTART:20190331T030000
RDATE:20191027T020000
TZOFFSETFROM:+0100
TZOFFSETTO:+0200
TZNAME:Europe/Paris CEST
END:DAYLIGHT
BEGIN:DAYLIGHT
DTSTART:20200329T030000
RDATE:20201025T020000
TZOFFSETFROM:+0100
TZOFFSETTO:+0200
TZNAME:Europe/Paris CEST
END:DAYLIGHT
BEGIN:DAYLIGHT
DTSTART:20210328T030000
RDATE:20211031T020000
TZOFFSETFROM:+0100
TZOFFSETTO:+0200
TZNAME:Europe/Paris CEST
END:DAYLIGHT
BEGIN:DAYLIGHT
DTSTART:20220327T030000
RDATE:20221030T020000
TZOFFSETFROM:+0100
TZOFFSETTO:+0200
TZNAME:Europe/Paris CEST
END:DAYLIGHT
BEGIN:DAYLIGHT
DTSTART:20230326T030000
RDATE:20231029T020000
TZOFFSETFROM:+0100
TZOFFSETTO:+0200
TZNAME:Europe/Paris CEST
END:DAYLIGHT
BEGIN:DAYLIGHT
DTSTART:20240331T030000
RDATE:20241027T020000
TZOFFSETFROM:+0100
TZOFFSETTO:+0200
TZNAME:Europe/Paris CEST
END:DAYLIGHT
BEGIN:DAYLIGHT
DTSTART:20250330T030000
RDATE:20251026T020000
TZOFFSETFROM:+0100
TZOFFSETTO:+0200
TZNAME:Europe/Paris CEST
END:DAYLIGHT
BEGIN:DAYLIGHT
DTSTART:20260329T030000
RDATE:20261025T020000
TZOFFSETFROM:+0100
TZOFFSETTO:+0200
TZNAME:Europe/Paris CEST
END:DAYLIGHT
END:VTIMEZONE
BEGIN:VEVENT
UID:40928b7f8104bd5b6b17290aee63f8d2
CATEGORIES:Roller Ski
CREATED:20180810T134904
SUMMARY:Montée du Koestel  Coupe des Vosges Crédit Mutuel et Challenge BigMat Atomic
URL;VALUE=URI:https://skivosges.net/agenda/a-venir/detailevenement/1086/-/montee-du-koest
 el-coupe-des-vosges-credit-mutuel-et-challenge-bigmat-atomic?tmpl=component
DESCRIPTION:Montée du Koestel  Coupe des Vosges Crédit Mutuel et Challenge BigMat Atomi
 c\n - Codex évenement OMVT0040\n - Lieu : Montée du Koestel\n - Organisateu
 r : 14053 S.C MARKSTEIN RANSPACHPériode d'inscription à l'evènement du dima
 nche 07 octobre 2018 à 00:00 au vendredi 12 octobre 2018 à 12:00 (Inscripti
 ons impossibles).Inscriptions ouvertes aux detenteurs des titres Fédéraux v
 alides suivants : Licenciés CompétiteursEpreuves :\n - Le dimanche 14 octob
 re 2018\n - Codex épreuve OMVF0041\n - Individuel\n - Catégorie(s) : U15/U1
 7 (Filles)\n - Le dimanche 14 octobre 2018\n - Codex épreuve OMVF0042\n - I
 ndividuel\n - Catégorie(s) : U17 a SEN (Filles)\n - Le dimanche 14 octobre 
 2018\n - Codex épreuve OMVM0041\n - Individuel\n - Catégorie(s) : U15/U17 (
 Garçons)\n - Le dimanche 14 octobre 2018\n - Codex épreuve OMVM0042\n - Ind
 ividuel\n - Catégorie(s) : U17 a SEN (Garçons)\n - Voir les informations da
 ns l'agenda... (/index.php?option=com_jevents&amp;task=icalevent.detail&amp
 ;evid=1081&amp;Itemid=6289)\n - Vers les résultats... (/index.php?option=co
 m_gskiepreuves&amp;view=afficheresultats&amp;format_option=tous&amp;filter[
 search]=OMVT0040&amp;filter[date_debut]=04-11-2018&amp;filter[date_fin]=04-
 11-2018&amp;code_activite=ROL&amp;Itemid=6289) Cet évènement a été importé 
 depuis :https://skivosges.net/agenda/a-venir/detailevenement/1086/-/montee-
 du-koestel-coupe-des-vosges-credit-mutuel-et-challenge-bigmat-atomic?tmpl=c
 omponent
X-ALT-DESC;FMTTYPE=text/html:<!-- #gskiepreuve code généré par le plugin jevents pour GskiEpreuves. Ne p
 as modifier cette ligne, ni tout le contenu suivant  #gskiepreuve --><div c
 lass="gski-evenement_infos"><div class="gski-evenement-nom">Montée du Koest
 el  Coupe des Vosges Crédit Mutuel et Challenge BigMat Atomic</div><div cla
 ss="gski-evenement-report"></div><ul class="gski-evenement-liste-infos"><li
 >Codex évenement OMVT0040</li><li>Lieu : Mont&eacute;e du Koestel</li><li>O
 rganisateur : 14053 S.C MARKSTEIN RANSPACH</li></ul><div class="gski-evenem
 ent-infos-2"><div class="gski-evenement-info-inscriptions"><div class="gski
 -evenement-inscriptions-periodes">Période d'inscription à l'evènement du di
 manche 07 octobre 2018 à 00:00 au vendredi 12 octobre 2018 à 12:00 <span cl
 ass="gski-evenement-inscriptions-impossibles">(Inscriptions impossibles).</
 span><div class="gski-evenement-inscriptions-types-titres">Inscriptions ouv
 ertes aux detenteurs des titres Fédéraux valides suivants : Licenciés Compé
 titeurs</div></div></div><div class="gski-evenement-epreuves"><div class="g
 ski-evenement-epreuves-titres">Epreuves :</div><ul class="gski-evenement-ep
 reuves-list"><li><div class="gski-epreuve-date">Le dimanche 14 octobre 2018
 </div><ul class="gski-epreuve-liste-infos"><li>Codex épreuve OMVF0041</li><
 li>Individuel</li><li>Catégorie(s) : U15/U17 (Filles)</li></ul></li><li><di
 v class="gski-epreuve-date">Le dimanche 14 octobre 2018</div><ul class="gsk
 i-epreuve-liste-infos"><li>Codex épreuve OMVF0042</li><li>Individuel</li><l
 i>Catégorie(s) : U17 a SEN (Filles)</li></ul></li><li><div class="gski-epre
 uve-date">Le dimanche 14 octobre 2018</div><ul class="gski-epreuve-liste-in
 fos"><li>Codex épreuve OMVM0041</li><li>Individuel</li><li>Catégorie(s) : U
 15/U17 (Garçons)</li></ul></li><li><div class="gski-epreuve-date">Le dimanc
 he 14 octobre 2018</div><ul class="gski-epreuve-liste-infos"><li>Codex épre
 uve OMVM0042</li><li>Individuel</li><li>Catégorie(s) : U17 a SEN (Garçons)<
 /li></ul></li></ul></div><div class="gskiepreuves-links"><ul><li><a href="h
 ttps://skivosges.net/index.php?option=com_jevents&task=icalevent.detail&evi
 d=1081&Itemid=6289">Voir les informations dans l'agenda...</a></li><li><a h
 ref="https://skivosges.net/index.php?option=com_gskiepreuves&view=affichere
 sultats&format_option=tous&filter[search]=OMVT0040&filter[date_debut]=04-11
 -2018&filter[date_fin]=04-11-2018&code_activite=ROL&Itemid=6289">Vers les r
 ésultats...</a></li></ul></div></div"><!-- #/gskiepreuve fin du dode généré
  par le plugin jevents pour GskiEpreuves. . Ne pas modifier cette ligne, ni
  tout le contenu précedant.  #/gskiepreuve --> <a href="https://skivosges.n
 et/agenda/a-venir/detailevenement/1086/-/montee-du-koestel-coupe-des-vosges
 -credit-mutuel-et-challenge-bigmat-atomic?tmpl=component">Cet évènement a é
 té importé depuis :https://skivosges.net/agenda/a-venir/detailevenement/108
 6/-/montee-du-koestel-coupe-des-vosges-credit-mutuel-et-challenge-bigmat-at
 omic?tmpl=component</a>DTSTAMP:20260424T015202
DTSTART;TZID=Europe/Paris;VALUE=DATE:20181014
DTEND;TZID=Europe/Paris;VALUE=DATE:20181015
SEQUENCE:0
TRANSP:OPAQUE
END:VEVENT
END:VCALENDAR