BEGIN:VCALENDAR
VERSION:2.0
PRODID:-//jEvents 2.0 for Joomla//EN
CALSCALE:GREGORIAN
METHOD:PUBLISH
BEGIN:VTIMEZONE
TZID:Europe/Paris
BEGIN:STANDARD
DTSTART:20171208T000000
RDATE:20180325T030000
TZOFFSETFROM:+0200
TZOFFSETTO:+0100
TZNAME:Europe/Paris CET
END:STANDARD
BEGIN:STANDARD
DTSTART:20181028T020000
RDATE:20190331T030000
TZOFFSETFROM:+0200
TZOFFSETTO:+0100
TZNAME:Europe/Paris CET
END:STANDARD
BEGIN:STANDARD
DTSTART:20191027T020000
RDATE:20200329T030000
TZOFFSETFROM:+0200
TZOFFSETTO:+0100
TZNAME:Europe/Paris CET
END:STANDARD
BEGIN:STANDARD
DTSTART:20201025T020000
RDATE:20210328T030000
TZOFFSETFROM:+0200
TZOFFSETTO:+0100
TZNAME:Europe/Paris CET
END:STANDARD
BEGIN:STANDARD
DTSTART:20211031T020000
RDATE:20220327T030000
TZOFFSETFROM:+0200
TZOFFSETTO:+0100
TZNAME:Europe/Paris CET
END:STANDARD
BEGIN:STANDARD
DTSTART:20221030T020000
RDATE:20230326T030000
TZOFFSETFROM:+0200
TZOFFSETTO:+0100
TZNAME:Europe/Paris CET
END:STANDARD
BEGIN:STANDARD
DTSTART:20231029T020000
RDATE:20240331T030000
TZOFFSETFROM:+0200
TZOFFSETTO:+0100
TZNAME:Europe/Paris CET
END:STANDARD
BEGIN:STANDARD
DTSTART:20241027T020000
RDATE:20250330T030000
TZOFFSETFROM:+0200
TZOFFSETTO:+0100
TZNAME:Europe/Paris CET
END:STANDARD
BEGIN:STANDARD
DTSTART:20251026T020000
RDATE:20260329T030000
TZOFFSETFROM:+0200
TZOFFSETTO:+0100
TZNAME:Europe/Paris CET
END:STANDARD
BEGIN:STANDARD
DTSTART:20261025T020000
RDATE:20270328T030000
TZOFFSETFROM:+0200
TZOFFSETTO:+0100
TZNAME:Europe/Paris CET
END:STANDARD
BEGIN:DAYLIGHT
DTSTART:20180325T030000
RDATE:20181028T020000
TZOFFSETFROM:+0100
TZOFFSETTO:+0200
TZNAME:Europe/Paris CEST
END:DAYLIGHT
BEGIN:DAYLIGHT
DTSTART:20190331T030000
RDATE:20191027T020000
TZOFFSETFROM:+0100
TZOFFSETTO:+0200
TZNAME:Europe/Paris CEST
END:DAYLIGHT
BEGIN:DAYLIGHT
DTSTART:20200329T030000
RDATE:20201025T020000
TZOFFSETFROM:+0100
TZOFFSETTO:+0200
TZNAME:Europe/Paris CEST
END:DAYLIGHT
BEGIN:DAYLIGHT
DTSTART:20210328T030000
RDATE:20211031T020000
TZOFFSETFROM:+0100
TZOFFSETTO:+0200
TZNAME:Europe/Paris CEST
END:DAYLIGHT
BEGIN:DAYLIGHT
DTSTART:20220327T030000
RDATE:20221030T020000
TZOFFSETFROM:+0100
TZOFFSETTO:+0200
TZNAME:Europe/Paris CEST
END:DAYLIGHT
BEGIN:DAYLIGHT
DTSTART:20230326T030000
RDATE:20231029T020000
TZOFFSETFROM:+0100
TZOFFSETTO:+0200
TZNAME:Europe/Paris CEST
END:DAYLIGHT
BEGIN:DAYLIGHT
DTSTART:20240331T030000
RDATE:20241027T020000
TZOFFSETFROM:+0100
TZOFFSETTO:+0200
TZNAME:Europe/Paris CEST
END:DAYLIGHT
BEGIN:DAYLIGHT
DTSTART:20250330T030000
RDATE:20251026T020000
TZOFFSETFROM:+0100
TZOFFSETTO:+0200
TZNAME:Europe/Paris CEST
END:DAYLIGHT
BEGIN:DAYLIGHT
DTSTART:20260329T030000
RDATE:20261025T020000
TZOFFSETFROM:+0100
TZOFFSETTO:+0200
TZNAME:Europe/Paris CEST
END:DAYLIGHT
END:VTIMEZONE
BEGIN:VEVENT
UID:a267182c585e93a8e84fe0704f1ebc10
CATEGORIES:Opens et Promos (alpin)
CREATED:20181114T121858
SUMMARY:OPEN Adultes **REPORTE**
URL;VALUE=URI:https://skivosges.net/agenda/a-venir/detailevenement/1095/-/open-adultes-re
 porte?tmpl=component
DESCRIPTION:OPEN Adultes (Epreuve reportée, date à determiner)\n - Codex évenement AMVT
 0020\n - Station : MARKSTEIN\n - Organisateur : \n - Courriel : RegularLabs
 .EmailProtector.unCloak("ep_2452c16f");Période d'inscription à l'evènement 
 du dimanche 02 décembre 2018 à 00:00 au vendredi 07 décembre 2018 à 12:00 (
 Inscriptions impossibles).Inscriptions ouvertes aux detenteurs des titres F
 édéraux valides suivants : Licenciés CompétiteursEpreuves :\n - Le dimanche
  09 décembre 2018\n - Codex épreuve AMVM0021\n - Slalom\n - Catégorie(s) : 
 U16 (Garçons)\n - Le dimanche 09 décembre 2018\n - Codex épreuve AMVF0021\n
  - Slalom\n - Catégorie(s) : U16 (Filles)\n - Le dimanche 09 décembre 2018\
 n - Codex épreuve AMVM0022\n - Slalom\n - Catégorie(s) : U18 a Masters (Hom
 mes)\n - Le dimanche 09 décembre 2018\n - Codex épreuve AMVF0022\n - Slalom
 \n - Catégorie(s) : U18 a Masters (Dames)\n - Voir les informations dans l'
 agenda... (/index.php?option=com_jevents&amp;task=icalevent.detail&amp;evid
 =1090&amp;Itemid=6289) Cet évènement a été importé depuis :https://skivosge
 s.net/agenda/a-venir/detailevenement/1095/-/open-adultes-reporte?tmpl=compo
 nent
X-ALT-DESC;FMTTYPE=text/html:<!-- #gskiepreuve code généré par le plugin jevents pour GskiEpreuves. Ne p
 as modifier cette ligne, ni tout le contenu suivant  #gskiepreuve --><div c
 lass="gski-evenement_infos"><div class="gski-evenement-nom">OPEN Adultes</d
 iv><div class="gski-evenement-report"> <font class="gskiattention">(Epreuve
  reportée, date à determiner)</font></div><ul class="gski-evenement-liste-i
 nfos"><li>Codex évenement AMVT0020</li><li>Station : MARKSTEIN</li><li>Orga
 nisateur : </li><li>Courriel : <!-- Cette adresse électronique est protégée
  contre les robots spammeurs. --><span class="cloaked_email ep_2452c16f"><s
 pan data-ep-a="&#109;&#97;&#116;th" data-ep-b=""><span data-ep-a="i&#101;&#
 117;.g" data-ep-b="g&#101;&#46;&#102;&#114;"><span data-ep-a="&#101;r&#114;
 er" data-ep-b="&#64;&#111;&#114;&#97;n"></span></span></span></span><script
 >RegularLabs.EmailProtector.unCloak("ep_2452c16f");</script></li></ul><div 
 class="gski-evenement-infos-2"><div class="gski-evenement-info-inscriptions
 "><div class="gski-evenement-inscriptions-periodes">Période d'inscription à
  l'evènement du dimanche 02 décembre 2018 à 00:00 au vendredi 07 décembre 2
 018 à 12:00 <span class="gski-evenement-inscriptions-impossibles">(Inscript
 ions impossibles).</span><div class="gski-evenement-inscriptions-types-titr
 es">Inscriptions ouvertes aux detenteurs des titres Fédéraux valides suivan
 ts : Licenciés Compétiteurs</div></div></div><div class="gski-evenement-epr
 euves"><div class="gski-evenement-epreuves-titres">Epreuves :</div><ul clas
 s="gski-evenement-epreuves-list"><li><div class="gski-epreuve-date">Le dima
 nche 09 décembre 2018</div><ul class="gski-epreuve-liste-infos"><li>Codex é
 preuve AMVM0021</li><li>Slalom</li><li>Catégorie(s) : U16 (Garçons)</li></u
 l></li><li><div class="gski-epreuve-date">Le dimanche 09 décembre 2018</div
 ><ul class="gski-epreuve-liste-infos"><li>Codex épreuve AMVF0021</li><li>Sl
 alom</li><li>Catégorie(s) : U16 (Filles)</li></ul></li><li><div class="gski
 -epreuve-date">Le dimanche 09 décembre 2018</div><ul class="gski-epreuve-li
 ste-infos"><li>Codex épreuve AMVM0022</li><li>Slalom</li><li>Catégorie(s) :
  U18 a Masters (Hommes)</li></ul></li><li><div class="gski-epreuve-date">Le
  dimanche 09 décembre 2018</div><ul class="gski-epreuve-liste-infos"><li>Co
 dex épreuve AMVF0022</li><li>Slalom</li><li>Catégorie(s) : U18 a Masters (D
 ames)</li></ul></li></ul></div><div class="gskiepreuves-links"><ul><li><a h
 ref="https://skivosges.net/index.php?option=com_jevents&task=icalevent.deta
 il&evid=1090&Itemid=6289">Voir les informations dans l'agenda...</a></li></
 ul></div></div"><!-- #/gskiepreuve fin du dode généré par le plugin jevents
  pour GskiEpreuves. . Ne pas modifier cette ligne, ni tout le contenu préce
 dant.  #/gskiepreuve --> <a href="https://skivosges.net/agenda/a-venir/deta
 ilevenement/1095/-/open-adultes-reporte?tmpl=component">Cet évènement a été
  importé depuis :https://skivosges.net/agenda/a-venir/detailevenement/1095/
 -/open-adultes-reporte?tmpl=component</a>DTSTAMP:20260423T174052
DTSTART;TZID=Europe/Paris;VALUE=DATE:20181209
DTEND;TZID=Europe/Paris;VALUE=DATE:20181210
SEQUENCE:0
TRANSP:OPAQUE
END:VEVENT
END:VCALENDAR