BEGIN:VCALENDAR
VERSION:2.0
PRODID:-//jEvents 2.0 for Joomla//EN
CALSCALE:GREGORIAN
METHOD:PUBLISH
BEGIN:VTIMEZONE
TZID:Europe/Paris
BEGIN:STANDARD
DTSTART:20171208T000000
RDATE:20180325T030000
TZOFFSETFROM:+0200
TZOFFSETTO:+0100
TZNAME:Europe/Paris CET
END:STANDARD
BEGIN:STANDARD
DTSTART:20181028T020000
RDATE:20190331T030000
TZOFFSETFROM:+0200
TZOFFSETTO:+0100
TZNAME:Europe/Paris CET
END:STANDARD
BEGIN:STANDARD
DTSTART:20191027T020000
RDATE:20200329T030000
TZOFFSETFROM:+0200
TZOFFSETTO:+0100
TZNAME:Europe/Paris CET
END:STANDARD
BEGIN:STANDARD
DTSTART:20201025T020000
RDATE:20210328T030000
TZOFFSETFROM:+0200
TZOFFSETTO:+0100
TZNAME:Europe/Paris CET
END:STANDARD
BEGIN:STANDARD
DTSTART:20211031T020000
RDATE:20220327T030000
TZOFFSETFROM:+0200
TZOFFSETTO:+0100
TZNAME:Europe/Paris CET
END:STANDARD
BEGIN:STANDARD
DTSTART:20221030T020000
RDATE:20230326T030000
TZOFFSETFROM:+0200
TZOFFSETTO:+0100
TZNAME:Europe/Paris CET
END:STANDARD
BEGIN:STANDARD
DTSTART:20231029T020000
RDATE:20240331T030000
TZOFFSETFROM:+0200
TZOFFSETTO:+0100
TZNAME:Europe/Paris CET
END:STANDARD
BEGIN:STANDARD
DTSTART:20241027T020000
RDATE:20250330T030000
TZOFFSETFROM:+0200
TZOFFSETTO:+0100
TZNAME:Europe/Paris CET
END:STANDARD
BEGIN:STANDARD
DTSTART:20251026T020000
RDATE:20260329T030000
TZOFFSETFROM:+0200
TZOFFSETTO:+0100
TZNAME:Europe/Paris CET
END:STANDARD
BEGIN:STANDARD
DTSTART:20261025T020000
RDATE:20270328T030000
TZOFFSETFROM:+0200
TZOFFSETTO:+0100
TZNAME:Europe/Paris CET
END:STANDARD
BEGIN:DAYLIGHT
DTSTART:20180325T030000
RDATE:20181028T020000
TZOFFSETFROM:+0100
TZOFFSETTO:+0200
TZNAME:Europe/Paris CEST
END:DAYLIGHT
BEGIN:DAYLIGHT
DTSTART:20190331T030000
RDATE:20191027T020000
TZOFFSETFROM:+0100
TZOFFSETTO:+0200
TZNAME:Europe/Paris CEST
END:DAYLIGHT
BEGIN:DAYLIGHT
DTSTART:20200329T030000
RDATE:20201025T020000
TZOFFSETFROM:+0100
TZOFFSETTO:+0200
TZNAME:Europe/Paris CEST
END:DAYLIGHT
BEGIN:DAYLIGHT
DTSTART:20210328T030000
RDATE:20211031T020000
TZOFFSETFROM:+0100
TZOFFSETTO:+0200
TZNAME:Europe/Paris CEST
END:DAYLIGHT
BEGIN:DAYLIGHT
DTSTART:20220327T030000
RDATE:20221030T020000
TZOFFSETFROM:+0100
TZOFFSETTO:+0200
TZNAME:Europe/Paris CEST
END:DAYLIGHT
BEGIN:DAYLIGHT
DTSTART:20230326T030000
RDATE:20231029T020000
TZOFFSETFROM:+0100
TZOFFSETTO:+0200
TZNAME:Europe/Paris CEST
END:DAYLIGHT
BEGIN:DAYLIGHT
DTSTART:20240331T030000
RDATE:20241027T020000
TZOFFSETFROM:+0100
TZOFFSETTO:+0200
TZNAME:Europe/Paris CEST
END:DAYLIGHT
BEGIN:DAYLIGHT
DTSTART:20250330T030000
RDATE:20251026T020000
TZOFFSETFROM:+0100
TZOFFSETTO:+0200
TZNAME:Europe/Paris CEST
END:DAYLIGHT
BEGIN:DAYLIGHT
DTSTART:20260329T030000
RDATE:20261025T020000
TZOFFSETFROM:+0100
TZOFFSETTO:+0200
TZNAME:Europe/Paris CEST
END:DAYLIGHT
END:VTIMEZONE
BEGIN:VEVENT
UID:a7768f1e59e36f282df476768766cb32
CATEGORIES:Compétition Ski de Fond
CREATED:20181114T121858
SUMMARY:mémorial Luc Colin  Big Mat Atomic n°1 Crédit Mutuel n°1 **REPORTE(E) au 06/01/2019**
URL;VALUE=URI:https://skivosges.net/agenda/a-venir/detailevenement/1096/-/memorial-luc-co
 lin-big-mat-atomic-n-1-credit-mutuel-n-1-reporte-e-au-06-01-2019?tmpl=compo
 nent
DESCRIPTION:mémorial Luc Colin  Big Mat Atomic n°1 Crédit Mutuel n°1 (Epreuve reportée 
 au 06/01/2019)\n - Codex évenement FMVT0010\n - Station : BALLON D'ALSACE\n
  - Organisateur : 14471 HAUTE MOSELLE SKI NORDIQUE\n - Délégué Technique : 
 ARNOULD LYDIEPériode d'inscription à l'evènement du dimanche 02 décembre 20
 18 à 00:00 au samedi 08 décembre 2018 à 09:00 (Inscriptions impossibles).In
 scriptions ouvertes aux detenteurs des titres Fédéraux valides suivants : L
 icenciés CompétiteursEpreuves :\n - Le dimanche 09 décembre 2018\n - Codex 
 épreuve FMVF0011\n - Depart Individuel\n - Catégorie(s) : U15 (Filles)\n - 
 Le dimanche 09 décembre 2018\n - Codex épreuve FMVM0011\n - Depart Individu
 el\n - Catégorie(s) : U15 (Garçons)\n - Le dimanche 09 décembre 2018\n - Co
 dex épreuve FMVF0012\n - Depart Individuel\n - Catégorie(s) : U17 a SEN (Da
 mes)\n - Le dimanche 09 décembre 2018\n - Codex épreuve FMVM0012\n - Depart
  Individuel\n - Catégorie(s) : U17 (Hommes)\n - Le dimanche 09 décembre 201
 8\n - Codex épreuve FMVM0013\n - Depart Individuel\n - Catégorie(s) : U20/S
 EN (Hommes)\n - Voir les informations dans l'agenda... (/index.php?option=c
 om_jevents&amp;task=icalevent.detail&amp;evid=1091&amp;Itemid=6289)\n - Ver
 s les résultats... (/index.php?option=com_gskiepreuves&amp;view=afficheresu
 ltats&amp;format_option=tous&amp;filter[search]=FMVT0010&amp;filter[date_de
 but]=06-01-2019&amp;filter[date_fin]=06-01-2019&amp;code_activite=FOND&amp;
 Itemid=6289)\n - Publications concernant cet évènement :\n - Samedi 5 Janvi
 er 2019 à 18:16 : Le 06/01/2019 LA BRESSE Liste de départs Cet évènement a 
 été importé depuis :https://skivosges.net/agenda/a-venir/detailevenement/10
 96/-/memorial-luc-colin-big-mat-atomic-n-1-credit-mutuel-n-1-reporte-e-au-0
 6-01-2019?tmpl=component
X-ALT-DESC;FMTTYPE=text/html:<!-- #gskiepreuve code généré par le plugin jevents pour GskiEpreuves. Ne p
 as modifier cette ligne, ni tout le contenu suivant  #gskiepreuve --><div c
 lass="gski-evenement_infos"><div class="gski-evenement-nom">mémorial Luc Co
 lin  Big Mat Atomic n°1 Crédit Mutuel n°1</div><div class="gski-evenement-r
 eport"> <font class="gskiattention">(Epreuve reportée au 06/01/2019)</font>
 </div><ul class="gski-evenement-liste-infos"><li>Codex évenement FMVT0010</
 li><li>Station : BALLON D'ALSACE</li><li>Organisateur : 14471 HAUTE MOSELLE
  SKI NORDIQUE</li><li><span class="gski-evenement-obs">Délégué Technique : 
 ARNOULD LYDIE</span></li></ul><div class="gski-evenement-infos-2"><div clas
 s="gski-evenement-info-inscriptions"><div class="gski-evenement-inscription
 s-periodes">Période d'inscription à l'evènement du dimanche 02 décembre 201
 8 à 00:00 au samedi 08 décembre 2018 à 09:00 <span class="gski-evenement-in
 scriptions-impossibles">(Inscriptions impossibles).</span><div class="gski-
 evenement-inscriptions-types-titres">Inscriptions ouvertes aux detenteurs d
 es titres Fédéraux valides suivants : Licenciés Compétiteurs</div></div></d
 iv><div class="gski-evenement-epreuves"><div class="gski-evenement-epreuves
 -titres">Epreuves :</div><ul class="gski-evenement-epreuves-list"><li><div 
 class="gski-epreuve-date">Le dimanche 09 décembre 2018</div><ul class="gski
 -epreuve-liste-infos"><li>Codex épreuve FMVF0011</li><li>Depart Individuel<
 /li><li>Catégorie(s) : U15 (Filles)</li></ul></li><li><div class="gski-epre
 uve-date">Le dimanche 09 décembre 2018</div><ul class="gski-epreuve-liste-i
 nfos"><li>Codex épreuve FMVM0011</li><li>Depart Individuel</li><li>Catégori
 e(s) : U15 (Garçons)</li></ul></li><li><div class="gski-epreuve-date">Le di
 manche 09 décembre 2018</div><ul class="gski-epreuve-liste-infos"><li>Codex
  épreuve FMVF0012</li><li>Depart Individuel</li><li>Catégorie(s) : U17 a SE
 N (Dames)</li></ul></li><li><div class="gski-epreuve-date">Le dimanche 09 d
 écembre 2018</div><ul class="gski-epreuve-liste-infos"><li>Codex épreuve FM
 VM0012</li><li>Depart Individuel</li><li>Catégorie(s) : U17 (Hommes)</li></
 ul></li><li><div class="gski-epreuve-date">Le dimanche 09 décembre 2018</di
 v><ul class="gski-epreuve-liste-infos"><li>Codex épreuve FMVM0013</li><li>D
 epart Individuel</li><li>Catégorie(s) : U20/SEN (Hommes)</li></ul></li></ul
 ></div><div class="gskiepreuves-links"><ul><li><a href="https://skivosges.n
 et/index.php?option=com_jevents&task=icalevent.detail&evid=1091&Itemid=6289
 ">Voir les informations dans l'agenda...</a></li><li><a href="https://skivo
 sges.net/index.php?option=com_gskiepreuves&view=afficheresultats&format_opt
 ion=tous&filter[search]=FMVT0010&filter[date_debut]=06-01-2019&filter[date_
 fin]=06-01-2019&code_activite=FOND&Itemid=6289">Vers les résultats...</a></
 li><li>Publications concernant cet évènement :<ul><li><a href="https://skiv
 osges.net/index.php?option=com_content&view=article&id=6486&Itemid=6289">Sa
 medi 5 Janvier 2019 à 18:16 : Le 06/01/2019 LA BRESSE Liste de départs</a><
 /li></ul></li></ul></div></div"><!-- #/gskiepreuve fin du dode généré par l
 e plugin jevents pour GskiEpreuves. . Ne pas modifier cette ligne, ni tout 
 le contenu précedant.  #/gskiepreuve --> <a href="https://skivosges.net/age
 nda/a-venir/detailevenement/1096/-/memorial-luc-colin-big-mat-atomic-n-1-cr
 edit-mutuel-n-1-reporte-e-au-06-01-2019?tmpl=component">Cet évènement a été
  importé depuis :https://skivosges.net/agenda/a-venir/detailevenement/1096/
 -/memorial-luc-colin-big-mat-atomic-n-1-credit-mutuel-n-1-reporte-e-au-06-0
 1-2019?tmpl=component</a>DTSTAMP:20260423T174106
DTSTART;TZID=Europe/Paris;VALUE=DATE:20181209
DTEND;TZID=Europe/Paris;VALUE=DATE:20181210
SEQUENCE:0
TRANSP:OPAQUE
END:VEVENT
END:VCALENDAR