BEGIN:VCALENDAR
VERSION:2.0
PRODID:-//jEvents 2.0 for Joomla//EN
CALSCALE:GREGORIAN
METHOD:PUBLISH
BEGIN:VTIMEZONE
TZID:Europe/Paris
BEGIN:STANDARD
DTSTART:20171214T000000
RDATE:20180325T030000
TZOFFSETFROM:+0200
TZOFFSETTO:+0100
TZNAME:Europe/Paris CET
END:STANDARD
BEGIN:STANDARD
DTSTART:20181028T020000
RDATE:20190331T030000
TZOFFSETFROM:+0200
TZOFFSETTO:+0100
TZNAME:Europe/Paris CET
END:STANDARD
BEGIN:STANDARD
DTSTART:20191027T020000
RDATE:20200329T030000
TZOFFSETFROM:+0200
TZOFFSETTO:+0100
TZNAME:Europe/Paris CET
END:STANDARD
BEGIN:STANDARD
DTSTART:20201025T020000
RDATE:20210328T030000
TZOFFSETFROM:+0200
TZOFFSETTO:+0100
TZNAME:Europe/Paris CET
END:STANDARD
BEGIN:STANDARD
DTSTART:20211031T020000
RDATE:20220327T030000
TZOFFSETFROM:+0200
TZOFFSETTO:+0100
TZNAME:Europe/Paris CET
END:STANDARD
BEGIN:STANDARD
DTSTART:20221030T020000
RDATE:20230326T030000
TZOFFSETFROM:+0200
TZOFFSETTO:+0100
TZNAME:Europe/Paris CET
END:STANDARD
BEGIN:STANDARD
DTSTART:20231029T020000
RDATE:20240331T030000
TZOFFSETFROM:+0200
TZOFFSETTO:+0100
TZNAME:Europe/Paris CET
END:STANDARD
BEGIN:STANDARD
DTSTART:20241027T020000
RDATE:20250330T030000
TZOFFSETFROM:+0200
TZOFFSETTO:+0100
TZNAME:Europe/Paris CET
END:STANDARD
BEGIN:STANDARD
DTSTART:20251026T020000
RDATE:20260329T030000
TZOFFSETFROM:+0200
TZOFFSETTO:+0100
TZNAME:Europe/Paris CET
END:STANDARD
BEGIN:STANDARD
DTSTART:20261025T020000
RDATE:20270328T030000
TZOFFSETFROM:+0200
TZOFFSETTO:+0100
TZNAME:Europe/Paris CET
END:STANDARD
BEGIN:DAYLIGHT
DTSTART:20180325T030000
RDATE:20181028T020000
TZOFFSETFROM:+0100
TZOFFSETTO:+0200
TZNAME:Europe/Paris CEST
END:DAYLIGHT
BEGIN:DAYLIGHT
DTSTART:20190331T030000
RDATE:20191027T020000
TZOFFSETFROM:+0100
TZOFFSETTO:+0200
TZNAME:Europe/Paris CEST
END:DAYLIGHT
BEGIN:DAYLIGHT
DTSTART:20200329T030000
RDATE:20201025T020000
TZOFFSETFROM:+0100
TZOFFSETTO:+0200
TZNAME:Europe/Paris CEST
END:DAYLIGHT
BEGIN:DAYLIGHT
DTSTART:20210328T030000
RDATE:20211031T020000
TZOFFSETFROM:+0100
TZOFFSETTO:+0200
TZNAME:Europe/Paris CEST
END:DAYLIGHT
BEGIN:DAYLIGHT
DTSTART:20220327T030000
RDATE:20221030T020000
TZOFFSETFROM:+0100
TZOFFSETTO:+0200
TZNAME:Europe/Paris CEST
END:DAYLIGHT
BEGIN:DAYLIGHT
DTSTART:20230326T030000
RDATE:20231029T020000
TZOFFSETFROM:+0100
TZOFFSETTO:+0200
TZNAME:Europe/Paris CEST
END:DAYLIGHT
BEGIN:DAYLIGHT
DTSTART:20240331T030000
RDATE:20241027T020000
TZOFFSETFROM:+0100
TZOFFSETTO:+0200
TZNAME:Europe/Paris CEST
END:DAYLIGHT
BEGIN:DAYLIGHT
DTSTART:20250330T030000
RDATE:20251026T020000
TZOFFSETFROM:+0100
TZOFFSETTO:+0200
TZNAME:Europe/Paris CEST
END:DAYLIGHT
BEGIN:DAYLIGHT
DTSTART:20260329T030000
RDATE:20261025T020000
TZOFFSETFROM:+0100
TZOFFSETTO:+0200
TZNAME:Europe/Paris CEST
END:DAYLIGHT
END:VTIMEZONE
BEGIN:VEVENT
UID:0eba95448c2cdbc55c4f9f296e209986
CATEGORIES:Opens et Promos (alpin)
CREATED:20181114T121858
SUMMARY:PROMO  Prix du ski Racing **REPORTE**
URL;VALUE=URI:https://skivosges.net/agenda/a-venir/detailevenement/1097/-/promo-prix-du-s
 ki-racing-reporte?tmpl=component
DESCRIPTION:<!-- #gskiepreuve code généré par le plugin jevents pour GskiEpreuves. Ne p
 as modifier cette ligne, ni tout le contenu suivant  #gskiepreuve --><div c
 lass="gski-evenement_infos"><div class="gski-evenement-nom">PROMO  Prix du 
 ski Racing</div><div class="gski-evenement-report"> <font class="gskiattent
 ion">(Epreuve reportée, date à determiner)</font></div><ul class="gski-even
 ement-liste-infos"><li>Codex évenement AMVT0030</li><li>Organisateur : 1445
 4 SKI RACING DEODATIEN</li><li>Courriel : <!-- Cette adresse électronique e
 st protégée contre les robots spammeurs. --><span class="cloaked_email ep_3
 a6f491a"><span data-ep-b="&#114;" data-ep-a="s&#111;&#112;&#104;&#105;"><sp
 an data-ep-a="&#101;&#46;&#116;&#105;s" data-ep-b="&#100;&#111;&#111;.&#102
 ;"><span data-ep-b="&#64;&#119;&#97;&#110;a" data-ep-a="&#115;&#101;&#108;i
 &#110;"></span></span></span></span><script>RegularLabs.EmailProtector.unCl
 oak("ep_3a6f491a");</script></li></ul><div class="gski-evenement-infos-2"><
 div class="gski-evenement-info-inscriptions"><div class="gski-evenement-ins
 criptions-periodes">Période d'inscription à l'evènement du samedi 08 décemb
 re 2018 à 00:00 au jeudi 13 décembre 2018 à 12:00 <span class="gski-eveneme
 nt-inscriptions-impossibles">(Inscriptions impossibles).</span><div class="
 gski-evenement-inscriptions-types-titres">Inscriptions ouvertes aux detente
 urs des titres Fédéraux valides suivants : Licenciés Compétiteurs et Titres
  Loisirs et Dirigeants</div></div></div><div class="gski-evenement-epreuves
 "><div class="gski-evenement-epreuves-titres">Epreuves :</div><ul class="gs
 ki-evenement-epreuves-list"><li><div class="gski-epreuve-date">Le samedi 15
  décembre 2018</div><ul class="gski-epreuve-liste-infos"><li>Codex épreuve 
 AMVM0031</li><li>Slalom Geant</li><li>Catégorie(s) : U16 a Masters (Garçons
 )</li></ul></li><li><div class="gski-epreuve-date">Le samedi 15 décembre 20
 18</div><ul class="gski-epreuve-liste-infos"><li>Codex épreuve AMVF0031</li
 ><li>Slalom Geant</li><li>Catégorie(s) : U16 a Masters (Filles)</li></ul></
 li></ul></div><div class="gskiepreuves-links"><ul><li><a href="/index.php?o
 ption=com_jevents&task=icalevent.detail&evid=1092&Itemid=6289">Voir les inf
 ormations dans l'agenda...</a></li></ul></div></div"><!-- #/gskiepreuve fin
  du dode généré par le plugin jevents pour GskiEpreuves. . Ne pas modifier 
 cette ligne, ni tout le contenu précedant.  #/gskiepreuve --> <a href="http
 s://skivosges.net/agenda/a-venir/detailevenement/1097/-/promo-prix-du-ski-r
 acing-reporte?tmpl=component">Cet évènement a été importé depuis :https://s
 kivosges.net/agenda/a-venir/detailevenement/1097/-/promo-prix-du-ski-racing
 -reporte?tmpl=component</a>
X-ALT-DESC;FMTTYPE=text/html:<!-- #gskiepreuve code généré par le plugin jevents pour GskiEpreuves. Ne p
 as modifier cette ligne, ni tout le contenu suivant  #gskiepreuve --><div c
 lass="gski-evenement_infos"><div class="gski-evenement-nom">PROMO  Prix du 
 ski Racing</div><div class="gski-evenement-report"> <font class="gskiattent
 ion">(Epreuve reportée, date à determiner)</font></div><ul class="gski-even
 ement-liste-infos"><li>Codex évenement AMVT0030</li><li>Organisateur : 1445
 4 SKI RACING DEODATIEN</li><li>Courriel : <!-- Cette adresse électronique e
 st protégée contre les robots spammeurs. --><span class="cloaked_email ep_3
 a6f491a"><span data-ep-b="&#114;" data-ep-a="s&#111;&#112;&#104;&#105;"><sp
 an data-ep-a="&#101;&#46;&#116;&#105;s" data-ep-b="&#100;&#111;&#111;.&#102
 ;"><span data-ep-b="&#64;&#119;&#97;&#110;a" data-ep-a="&#115;&#101;&#108;i
 &#110;"></span></span></span></span><script>RegularLabs.EmailProtector.unCl
 oak("ep_3a6f491a");</script></li></ul><div class="gski-evenement-infos-2"><
 div class="gski-evenement-info-inscriptions"><div class="gski-evenement-ins
 criptions-periodes">Période d'inscription à l'evènement du samedi 08 décemb
 re 2018 à 00:00 au jeudi 13 décembre 2018 à 12:00 <span class="gski-eveneme
 nt-inscriptions-impossibles">(Inscriptions impossibles).</span><div class="
 gski-evenement-inscriptions-types-titres">Inscriptions ouvertes aux detente
 urs des titres Fédéraux valides suivants : Licenciés Compétiteurs et Titres
  Loisirs et Dirigeants</div></div></div><div class="gski-evenement-epreuves
 "><div class="gski-evenement-epreuves-titres">Epreuves :</div><ul class="gs
 ki-evenement-epreuves-list"><li><div class="gski-epreuve-date">Le samedi 15
  décembre 2018</div><ul class="gski-epreuve-liste-infos"><li>Codex épreuve 
 AMVM0031</li><li>Slalom Geant</li><li>Catégorie(s) : U16 a Masters (Garçons
 )</li></ul></li><li><div class="gski-epreuve-date">Le samedi 15 décembre 20
 18</div><ul class="gski-epreuve-liste-infos"><li>Codex épreuve AMVF0031</li
 ><li>Slalom Geant</li><li>Catégorie(s) : U16 a Masters (Filles)</li></ul></
 li></ul></div><div class="gskiepreuves-links"><ul><li><a href="https://skiv
 osges.net/index.php?option=com_jevents&task=icalevent.detail&evid=1092&Item
 id=6289">Voir les informations dans l'agenda...</a></li></ul></div></div"><
 !-- #/gskiepreuve fin du dode généré par le plugin jevents pour GskiEpreuve
 s. . Ne pas modifier cette ligne, ni tout le contenu précedant.  #/gskiepre
 uve --> <a href="https://skivosges.net/agenda/a-venir/detailevenement/1097/
 -/promo-prix-du-ski-racing-reporte?tmpl=component">Cet évènement a été impo
 rté depuis :https://skivosges.net/agenda/a-venir/detailevenement/1097/-/pro
 mo-prix-du-ski-racing-reporte?tmpl=component</a>DTSTAMP:20260424T012600
DTSTART;TZID=Europe/Paris;VALUE=DATE:20181215
DTEND;TZID=Europe/Paris;VALUE=DATE:20181216
SEQUENCE:0
TRANSP:OPAQUE
END:VEVENT
END:VCALENDAR