BEGIN:VCALENDAR
VERSION:2.0
PRODID:-//jEvents 2.0 for Joomla//EN
CALSCALE:GREGORIAN
METHOD:PUBLISH
BEGIN:VTIMEZONE
TZID:Europe/Paris
BEGIN:STANDARD
DTSTART:20171214T000000
RDATE:20180325T030000
TZOFFSETFROM:+0200
TZOFFSETTO:+0100
TZNAME:Europe/Paris CET
END:STANDARD
BEGIN:STANDARD
DTSTART:20181028T020000
RDATE:20190331T030000
TZOFFSETFROM:+0200
TZOFFSETTO:+0100
TZNAME:Europe/Paris CET
END:STANDARD
BEGIN:STANDARD
DTSTART:20191027T020000
RDATE:20200329T030000
TZOFFSETFROM:+0200
TZOFFSETTO:+0100
TZNAME:Europe/Paris CET
END:STANDARD
BEGIN:STANDARD
DTSTART:20201025T020000
RDATE:20210328T030000
TZOFFSETFROM:+0200
TZOFFSETTO:+0100
TZNAME:Europe/Paris CET
END:STANDARD
BEGIN:STANDARD
DTSTART:20211031T020000
RDATE:20220327T030000
TZOFFSETFROM:+0200
TZOFFSETTO:+0100
TZNAME:Europe/Paris CET
END:STANDARD
BEGIN:STANDARD
DTSTART:20221030T020000
RDATE:20230326T030000
TZOFFSETFROM:+0200
TZOFFSETTO:+0100
TZNAME:Europe/Paris CET
END:STANDARD
BEGIN:STANDARD
DTSTART:20231029T020000
RDATE:20240331T030000
TZOFFSETFROM:+0200
TZOFFSETTO:+0100
TZNAME:Europe/Paris CET
END:STANDARD
BEGIN:STANDARD
DTSTART:20241027T020000
RDATE:20250330T030000
TZOFFSETFROM:+0200
TZOFFSETTO:+0100
TZNAME:Europe/Paris CET
END:STANDARD
BEGIN:STANDARD
DTSTART:20251026T020000
RDATE:20260329T030000
TZOFFSETFROM:+0200
TZOFFSETTO:+0100
TZNAME:Europe/Paris CET
END:STANDARD
BEGIN:STANDARD
DTSTART:20261025T020000
RDATE:20270328T030000
TZOFFSETFROM:+0200
TZOFFSETTO:+0100
TZNAME:Europe/Paris CET
END:STANDARD
BEGIN:DAYLIGHT
DTSTART:20180325T030000
RDATE:20181028T020000
TZOFFSETFROM:+0100
TZOFFSETTO:+0200
TZNAME:Europe/Paris CEST
END:DAYLIGHT
BEGIN:DAYLIGHT
DTSTART:20190331T030000
RDATE:20191027T020000
TZOFFSETFROM:+0100
TZOFFSETTO:+0200
TZNAME:Europe/Paris CEST
END:DAYLIGHT
BEGIN:DAYLIGHT
DTSTART:20200329T030000
RDATE:20201025T020000
TZOFFSETFROM:+0100
TZOFFSETTO:+0200
TZNAME:Europe/Paris CEST
END:DAYLIGHT
BEGIN:DAYLIGHT
DTSTART:20210328T030000
RDATE:20211031T020000
TZOFFSETFROM:+0100
TZOFFSETTO:+0200
TZNAME:Europe/Paris CEST
END:DAYLIGHT
BEGIN:DAYLIGHT
DTSTART:20220327T030000
RDATE:20221030T020000
TZOFFSETFROM:+0100
TZOFFSETTO:+0200
TZNAME:Europe/Paris CEST
END:DAYLIGHT
BEGIN:DAYLIGHT
DTSTART:20230326T030000
RDATE:20231029T020000
TZOFFSETFROM:+0100
TZOFFSETTO:+0200
TZNAME:Europe/Paris CEST
END:DAYLIGHT
BEGIN:DAYLIGHT
DTSTART:20240331T030000
RDATE:20241027T020000
TZOFFSETFROM:+0100
TZOFFSETTO:+0200
TZNAME:Europe/Paris CEST
END:DAYLIGHT
BEGIN:DAYLIGHT
DTSTART:20250330T030000
RDATE:20251026T020000
TZOFFSETFROM:+0100
TZOFFSETTO:+0200
TZNAME:Europe/Paris CEST
END:DAYLIGHT
BEGIN:DAYLIGHT
DTSTART:20260329T030000
RDATE:20261025T020000
TZOFFSETFROM:+0100
TZOFFSETTO:+0200
TZNAME:Europe/Paris CEST
END:DAYLIGHT
END:VTIMEZONE
BEGIN:VEVENT
UID:e54d0e08a70752479de5cdc978245ddc
CATEGORIES:Compétition Ski de Fond
CREATED:20181114T121858
SUMMARY:Rencontre Nordique
URL;VALUE=URI:https://skivosges.net/agenda/a-venir/detailevenement/1099/-/rencontre-nordi
 que?tmpl=component
DESCRIPTION:<!-- #gskiepreuve code généré par le plugin jevents pour GskiEpreuves. Ne p
 as modifier cette ligne, ni tout le contenu suivant  #gskiepreuve --><div c
 lass="gski-evenement_infos"><div class="gski-evenement-nom">Rencontre Nordi
 que</div><div class="gski-evenement-report"></div><ul class="gski-evenement
 -liste-infos"><li>Codex évenement FMVT0020</li><li>Station : LAC BLANC</li>
 <li>Organisateur : 14379 LAC BLANC SKI NORDIQUE CV ORBEY</li><li><span clas
 s="gski-evenement-obs">Délégué Technique : NUSSBAUM GERARD</span></li></ul>
 <div class="gski-evenement-infos-2"><div class="gski-evenement-info-inscrip
 tions"><div class="gski-evenement-inscriptions-periodes">Période d'inscript
 ion à l'evènement du samedi 08 décembre 2018 à 00:00 au jeudi 13 décembre 2
 018 à 12:00 <span class="gski-evenement-inscriptions-impossibles">(Inscript
 ions impossibles).</span><div class="gski-evenement-inscriptions-types-titr
 es">Inscriptions ouvertes aux detenteurs des titres Fédéraux valides suivan
 ts : Licenciés Compétiteurs et Titres Loisirs et Dirigeants</div></div></di
 v><div class="gski-evenement-epreuves"><div class="gski-evenement-epreuves-
 titres">Epreuves :</div><ul class="gski-evenement-epreuves-list"><li><div c
 lass="gski-epreuve-date">Le samedi 15 décembre 2018</div><ul class="gski-ep
 reuve-liste-infos"><li>Codex épreuve FMVF0021</li><li>Depart Individuel</li
 ><li>Catégorie(s) : U9/U11 (Filles)</li></ul></li><li><div class="gski-epre
 uve-date">Le samedi 15 décembre 2018</div><ul class="gski-epreuve-liste-inf
 os"><li>Codex épreuve FMVM0021</li><li>Depart Individuel</li><li>Catégorie(
 s) : U9/U11 (Garçons)</li></ul></li><li><div class="gski-epreuve-date">Le s
 amedi 15 décembre 2018</div><ul class="gski-epreuve-liste-infos"><li>Codex 
 épreuve FMVF0022</li><li>Depart Individuel</li><li>Catégorie(s) : U13 (Fill
 es)</li></ul></li><li><div class="gski-epreuve-date">Le samedi 15 décembre 
 2018</div><ul class="gski-epreuve-liste-infos"><li>Codex épreuve FMVM0022</
 li><li>Depart Individuel</li><li>Catégorie(s) : U13 (Garçons)</li></ul></li
 ></ul></div><div class="gskiepreuves-links"><ul><li><a href="/index.php?opt
 ion=com_jevents&task=icalevent.detail&evid=1094&Itemid=6289">Voir les infor
 mations dans l'agenda...</a></li></ul></div></div"><!-- #/gskiepreuve fin d
 u dode généré par le plugin jevents pour GskiEpreuves. . Ne pas modifier ce
 tte ligne, ni tout le contenu précedant.  #/gskiepreuve --> <a href="https:
 //skivosges.net/agenda/a-venir/detailevenement/1099/-/rencontre-nordique?tm
 pl=component">Cet évènement a été importé depuis :https://skivosges.net/age
 nda/a-venir/detailevenement/1099/-/rencontre-nordique?tmpl=component</a>
X-ALT-DESC;FMTTYPE=text/html:<!-- #gskiepreuve code généré par le plugin jevents pour GskiEpreuves. Ne p
 as modifier cette ligne, ni tout le contenu suivant  #gskiepreuve --><div c
 lass="gski-evenement_infos"><div class="gski-evenement-nom">Rencontre Nordi
 que</div><div class="gski-evenement-report"></div><ul class="gski-evenement
 -liste-infos"><li>Codex évenement FMVT0020</li><li>Station : LAC BLANC</li>
 <li>Organisateur : 14379 LAC BLANC SKI NORDIQUE CV ORBEY</li><li><span clas
 s="gski-evenement-obs">Délégué Technique : NUSSBAUM GERARD</span></li></ul>
 <div class="gski-evenement-infos-2"><div class="gski-evenement-info-inscrip
 tions"><div class="gski-evenement-inscriptions-periodes">Période d'inscript
 ion à l'evènement du samedi 08 décembre 2018 à 00:00 au jeudi 13 décembre 2
 018 à 12:00 <span class="gski-evenement-inscriptions-impossibles">(Inscript
 ions impossibles).</span><div class="gski-evenement-inscriptions-types-titr
 es">Inscriptions ouvertes aux detenteurs des titres Fédéraux valides suivan
 ts : Licenciés Compétiteurs et Titres Loisirs et Dirigeants</div></div></di
 v><div class="gski-evenement-epreuves"><div class="gski-evenement-epreuves-
 titres">Epreuves :</div><ul class="gski-evenement-epreuves-list"><li><div c
 lass="gski-epreuve-date">Le samedi 15 décembre 2018</div><ul class="gski-ep
 reuve-liste-infos"><li>Codex épreuve FMVF0021</li><li>Depart Individuel</li
 ><li>Catégorie(s) : U9/U11 (Filles)</li></ul></li><li><div class="gski-epre
 uve-date">Le samedi 15 décembre 2018</div><ul class="gski-epreuve-liste-inf
 os"><li>Codex épreuve FMVM0021</li><li>Depart Individuel</li><li>Catégorie(
 s) : U9/U11 (Garçons)</li></ul></li><li><div class="gski-epreuve-date">Le s
 amedi 15 décembre 2018</div><ul class="gski-epreuve-liste-infos"><li>Codex 
 épreuve FMVF0022</li><li>Depart Individuel</li><li>Catégorie(s) : U13 (Fill
 es)</li></ul></li><li><div class="gski-epreuve-date">Le samedi 15 décembre 
 2018</div><ul class="gski-epreuve-liste-infos"><li>Codex épreuve FMVM0022</
 li><li>Depart Individuel</li><li>Catégorie(s) : U13 (Garçons)</li></ul></li
 ></ul></div><div class="gskiepreuves-links"><ul><li><a href="https://skivos
 ges.net/index.php?option=com_jevents&task=icalevent.detail&evid=1094&Itemid
 =6289">Voir les informations dans l'agenda...</a></li></ul></div></div"><!-
 - #/gskiepreuve fin du dode généré par le plugin jevents pour GskiEpreuves.
  . Ne pas modifier cette ligne, ni tout le contenu précedant.  #/gskiepreuv
 e --> <a href="https://skivosges.net/agenda/a-venir/detailevenement/1099/-/
 rencontre-nordique?tmpl=component">Cet évènement a été importé depuis :http
 s://skivosges.net/agenda/a-venir/detailevenement/1099/-/rencontre-nordique?
 tmpl=component</a>DTSTAMP:20260423T175128
DTSTART;TZID=Europe/Paris;VALUE=DATE:20181215
DTEND;TZID=Europe/Paris;VALUE=DATE:20181216
SEQUENCE:0
TRANSP:OPAQUE
END:VEVENT
END:VCALENDAR