BEGIN:VCALENDAR
VERSION:2.0
PRODID:-//jEvents 2.0 for Joomla//EN
CALSCALE:GREGORIAN
METHOD:PUBLISH
BEGIN:VTIMEZONE
TZID:Europe/Paris
BEGIN:STANDARD
DTSTART:20130130T080000
RDATE:20130331T030000
TZOFFSETFROM:+0200
TZOFFSETTO:+0100
TZNAME:Europe/Paris CET
END:STANDARD
BEGIN:STANDARD
DTSTART:20131027T020000
RDATE:20140330T030000
TZOFFSETFROM:+0200
TZOFFSETTO:+0100
TZNAME:Europe/Paris CET
END:STANDARD
BEGIN:STANDARD
DTSTART:20141026T020000
RDATE:20150329T030000
TZOFFSETFROM:+0200
TZOFFSETTO:+0100
TZNAME:Europe/Paris CET
END:STANDARD
BEGIN:STANDARD
DTSTART:20151025T020000
RDATE:20160327T030000
TZOFFSETFROM:+0200
TZOFFSETTO:+0100
TZNAME:Europe/Paris CET
END:STANDARD
BEGIN:STANDARD
DTSTART:20161030T020000
RDATE:20170326T030000
TZOFFSETFROM:+0200
TZOFFSETTO:+0100
TZNAME:Europe/Paris CET
END:STANDARD
BEGIN:STANDARD
DTSTART:20171029T020000
RDATE:20180325T030000
TZOFFSETFROM:+0200
TZOFFSETTO:+0100
TZNAME:Europe/Paris CET
END:STANDARD
BEGIN:STANDARD
DTSTART:20181028T020000
RDATE:20190331T030000
TZOFFSETFROM:+0200
TZOFFSETTO:+0100
TZNAME:Europe/Paris CET
END:STANDARD
BEGIN:STANDARD
DTSTART:20191027T020000
RDATE:20200329T030000
TZOFFSETFROM:+0200
TZOFFSETTO:+0100
TZNAME:Europe/Paris CET
END:STANDARD
BEGIN:STANDARD
DTSTART:20201025T020000
RDATE:20210328T030000
TZOFFSETFROM:+0200
TZOFFSETTO:+0100
TZNAME:Europe/Paris CET
END:STANDARD
BEGIN:STANDARD
DTSTART:20211031T020000
RDATE:20220327T030000
TZOFFSETFROM:+0200
TZOFFSETTO:+0100
TZNAME:Europe/Paris CET
END:STANDARD
BEGIN:STANDARD
DTSTART:20221030T020000
RDATE:20230326T030000
TZOFFSETFROM:+0200
TZOFFSETTO:+0100
TZNAME:Europe/Paris CET
END:STANDARD
BEGIN:STANDARD
DTSTART:20231029T020000
RDATE:20240331T030000
TZOFFSETFROM:+0200
TZOFFSETTO:+0100
TZNAME:Europe/Paris CET
END:STANDARD
BEGIN:STANDARD
DTSTART:20241027T020000
RDATE:20250330T030000
TZOFFSETFROM:+0200
TZOFFSETTO:+0100
TZNAME:Europe/Paris CET
END:STANDARD
BEGIN:STANDARD
DTSTART:20251026T020000
RDATE:20260329T030000
TZOFFSETFROM:+0200
TZOFFSETTO:+0100
TZNAME:Europe/Paris CET
END:STANDARD
BEGIN:STANDARD
DTSTART:20261025T020000
RDATE:20270328T030000
TZOFFSETFROM:+0200
TZOFFSETTO:+0100
TZNAME:Europe/Paris CET
END:STANDARD
BEGIN:DAYLIGHT
DTSTART:20130331T030000
RDATE:20131027T020000
TZOFFSETFROM:+0100
TZOFFSETTO:+0200
TZNAME:Europe/Paris CEST
END:DAYLIGHT
BEGIN:DAYLIGHT
DTSTART:20140330T030000
RDATE:20141026T020000
TZOFFSETFROM:+0100
TZOFFSETTO:+0200
TZNAME:Europe/Paris CEST
END:DAYLIGHT
BEGIN:DAYLIGHT
DTSTART:20150329T030000
RDATE:20151025T020000
TZOFFSETFROM:+0100
TZOFFSETTO:+0200
TZNAME:Europe/Paris CEST
END:DAYLIGHT
BEGIN:DAYLIGHT
DTSTART:20160327T030000
RDATE:20161030T020000
TZOFFSETFROM:+0100
TZOFFSETTO:+0200
TZNAME:Europe/Paris CEST
END:DAYLIGHT
BEGIN:DAYLIGHT
DTSTART:20170326T030000
RDATE:20171029T020000
TZOFFSETFROM:+0100
TZOFFSETTO:+0200
TZNAME:Europe/Paris CEST
END:DAYLIGHT
BEGIN:DAYLIGHT
DTSTART:20180325T030000
RDATE:20181028T020000
TZOFFSETFROM:+0100
TZOFFSETTO:+0200
TZNAME:Europe/Paris CEST
END:DAYLIGHT
BEGIN:DAYLIGHT
DTSTART:20190331T030000
RDATE:20191027T020000
TZOFFSETFROM:+0100
TZOFFSETTO:+0200
TZNAME:Europe/Paris CEST
END:DAYLIGHT
BEGIN:DAYLIGHT
DTSTART:20200329T030000
RDATE:20201025T020000
TZOFFSETFROM:+0100
TZOFFSETTO:+0200
TZNAME:Europe/Paris CEST
END:DAYLIGHT
BEGIN:DAYLIGHT
DTSTART:20210328T030000
RDATE:20211031T020000
TZOFFSETFROM:+0100
TZOFFSETTO:+0200
TZNAME:Europe/Paris CEST
END:DAYLIGHT
BEGIN:DAYLIGHT
DTSTART:20220327T030000
RDATE:20221030T020000
TZOFFSETFROM:+0100
TZOFFSETTO:+0200
TZNAME:Europe/Paris CEST
END:DAYLIGHT
BEGIN:DAYLIGHT
DTSTART:20230326T030000
RDATE:20231029T020000
TZOFFSETFROM:+0100
TZOFFSETTO:+0200
TZNAME:Europe/Paris CEST
END:DAYLIGHT
BEGIN:DAYLIGHT
DTSTART:20240331T030000
RDATE:20241027T020000
TZOFFSETFROM:+0100
TZOFFSETTO:+0200
TZNAME:Europe/Paris CEST
END:DAYLIGHT
BEGIN:DAYLIGHT
DTSTART:20250330T030000
RDATE:20251026T020000
TZOFFSETFROM:+0100
TZOFFSETTO:+0200
TZNAME:Europe/Paris CEST
END:DAYLIGHT
BEGIN:DAYLIGHT
DTSTART:20260329T030000
RDATE:20261025T020000
TZOFFSETFROM:+0100
TZOFFSETTO:+0200
TZNAME:Europe/Paris CEST
END:DAYLIGHT
END:VTIMEZONE
BEGIN:VEVENT
UID:62cb73163e71d8bbe6a2bc97b4435353
CATEGORIES:Circuit Massif Masters (alpin)
CREATED:20131203T122100
SUMMARY:GPM       GP Bini **REPORTE**
URL;VALUE=URI:https://skivosges.net/agenda/a-venir/detailevenement/110/-/gpm-gp-bini-repo
 rte?tmpl=component
DESCRIPTION:GPM       GP Bini (Epreuve reportée) \n(Grand Prix Masters)\n\nLieu : MARKS
 TEIN \nOrganisateur : S.C.O.S.E.G. GUEBWILLER  (14356 S.C.O.S.E.G. GUEBWILL
 ER)\nEmail : RegularLabs.EmailProtector.unCloak("ep_5e3f50cb");\nTelecopie 
 : 03 89 76 09 25\n\ncourse reportée\n\nInscriptions prévues sur le site (dè
 s début de période d´inscription)\n - AMVF0381  Slalom (Courses Masters) To
 us les Masters Dames Dames\n  GPM       GP Bini\n - AMVM0381  Slalom (Cours
 es Masters) Tous les Masters Hommes Hommes\n  GPM       GP Bini Cet évèneme
 nt a été importé depuis :https://skivosges.net/agenda/a-venir/detaileveneme
 nt/110/-/gpm-gp-bini-reporte?tmpl=component
X-ALT-DESC;FMTTYPE=text/html:<strong>GPM       GP Bini</strong> <font class="attention4">(Epreuve report
 ée)</font> <br /><i>(Grand Prix Masters)</i><br /><br />Lieu : MARKSTEIN <b
 r />Organisateur : S.C.O.S.E.G. GUEBWILLER  <small>(14356 S.C.O.S.E.G. GUEB
 WILLER)</small><br />Email : <!-- Cette adresse électronique est protégée c
 ontre les robots spammeurs. --><span class="cloaked_email ep_5e3f50cb"><spa
 n data-ep-b="&#102;&#114;" data-ep-a="&#115;&#99;o"><span data-ep-b="&#111;
 &#111;&#46;" data-ep-a="s&#101;&#103;"><span data-ep-b="&#110;&#97;&#100;" 
 data-ep-a="&#64;&#119;&#97;"></span></span></span></span><script>RegularLab
 s.EmailProtector.unCloak("ep_5e3f50cb");</script><br />Telecopie : 03 89 76
  09 25<br /><br />course reportée<br /><br />Inscriptions prévues sur le si
 te <small>(dès début de période d´inscription)</small><ul type="disc"><li>A
 MVF0381  Slalom <nobr><i>(Courses Masters)</i></nobr> <nobr>Tous les Master
 s Dames</nobr> Dames<br />&nbsp;&nbsp;GPM       GP Bini</li><li>AMVM0381  S
 lalom <nobr><i>(Courses Masters)</i></nobr> <nobr>Tous les Masters Hommes</
 nobr> Hommes<br />&nbsp;&nbsp;GPM       GP Bini</li></ul> <a href="https://
 skivosges.net/agenda/a-venir/detailevenement/110/-/gpm-gp-bini-reporte?tmpl
 =component">Cet évènement a été importé depuis :https://skivosges.net/agend
 a/a-venir/detailevenement/110/-/gpm-gp-bini-reporte?tmpl=component</a>DTSTAMP:20260424T011240
DTSTART;TZID=Europe/Paris:20140131T080000
DTEND;TZID=Europe/Paris:20140131T170000
SEQUENCE:0
TRANSP:OPAQUE
END:VEVENT
END:VCALENDAR