BEGIN:VCALENDAR
VERSION:2.0
PRODID:-//jEvents 2.0 for Joomla//EN
CALSCALE:GREGORIAN
METHOD:PUBLISH
BEGIN:VTIMEZONE
TZID:Europe/Paris
BEGIN:STANDARD
DTSTART:20171215T000000
RDATE:20180325T030000
TZOFFSETFROM:+0200
TZOFFSETTO:+0100
TZNAME:Europe/Paris CET
END:STANDARD
BEGIN:STANDARD
DTSTART:20181028T020000
RDATE:20190331T030000
TZOFFSETFROM:+0200
TZOFFSETTO:+0100
TZNAME:Europe/Paris CET
END:STANDARD
BEGIN:STANDARD
DTSTART:20191027T020000
RDATE:20200329T030000
TZOFFSETFROM:+0200
TZOFFSETTO:+0100
TZNAME:Europe/Paris CET
END:STANDARD
BEGIN:STANDARD
DTSTART:20201025T020000
RDATE:20210328T030000
TZOFFSETFROM:+0200
TZOFFSETTO:+0100
TZNAME:Europe/Paris CET
END:STANDARD
BEGIN:STANDARD
DTSTART:20211031T020000
RDATE:20220327T030000
TZOFFSETFROM:+0200
TZOFFSETTO:+0100
TZNAME:Europe/Paris CET
END:STANDARD
BEGIN:STANDARD
DTSTART:20221030T020000
RDATE:20230326T030000
TZOFFSETFROM:+0200
TZOFFSETTO:+0100
TZNAME:Europe/Paris CET
END:STANDARD
BEGIN:STANDARD
DTSTART:20231029T020000
RDATE:20240331T030000
TZOFFSETFROM:+0200
TZOFFSETTO:+0100
TZNAME:Europe/Paris CET
END:STANDARD
BEGIN:STANDARD
DTSTART:20241027T020000
RDATE:20250330T030000
TZOFFSETFROM:+0200
TZOFFSETTO:+0100
TZNAME:Europe/Paris CET
END:STANDARD
BEGIN:STANDARD
DTSTART:20251026T020000
RDATE:20260329T030000
TZOFFSETFROM:+0200
TZOFFSETTO:+0100
TZNAME:Europe/Paris CET
END:STANDARD
BEGIN:STANDARD
DTSTART:20261025T020000
RDATE:20270328T030000
TZOFFSETFROM:+0200
TZOFFSETTO:+0100
TZNAME:Europe/Paris CET
END:STANDARD
BEGIN:DAYLIGHT
DTSTART:20180325T030000
RDATE:20181028T020000
TZOFFSETFROM:+0100
TZOFFSETTO:+0200
TZNAME:Europe/Paris CEST
END:DAYLIGHT
BEGIN:DAYLIGHT
DTSTART:20190331T030000
RDATE:20191027T020000
TZOFFSETFROM:+0100
TZOFFSETTO:+0200
TZNAME:Europe/Paris CEST
END:DAYLIGHT
BEGIN:DAYLIGHT
DTSTART:20200329T030000
RDATE:20201025T020000
TZOFFSETFROM:+0100
TZOFFSETTO:+0200
TZNAME:Europe/Paris CEST
END:DAYLIGHT
BEGIN:DAYLIGHT
DTSTART:20210328T030000
RDATE:20211031T020000
TZOFFSETFROM:+0100
TZOFFSETTO:+0200
TZNAME:Europe/Paris CEST
END:DAYLIGHT
BEGIN:DAYLIGHT
DTSTART:20220327T030000
RDATE:20221030T020000
TZOFFSETFROM:+0100
TZOFFSETTO:+0200
TZNAME:Europe/Paris CEST
END:DAYLIGHT
BEGIN:DAYLIGHT
DTSTART:20230326T030000
RDATE:20231029T020000
TZOFFSETFROM:+0100
TZOFFSETTO:+0200
TZNAME:Europe/Paris CEST
END:DAYLIGHT
BEGIN:DAYLIGHT
DTSTART:20240331T030000
RDATE:20241027T020000
TZOFFSETFROM:+0100
TZOFFSETTO:+0200
TZNAME:Europe/Paris CEST
END:DAYLIGHT
BEGIN:DAYLIGHT
DTSTART:20250330T030000
RDATE:20251026T020000
TZOFFSETFROM:+0100
TZOFFSETTO:+0200
TZNAME:Europe/Paris CEST
END:DAYLIGHT
BEGIN:DAYLIGHT
DTSTART:20260329T030000
RDATE:20261025T020000
TZOFFSETFROM:+0100
TZOFFSETTO:+0200
TZNAME:Europe/Paris CEST
END:DAYLIGHT
END:VTIMEZONE
BEGIN:VEVENT
UID:188106020f1801c6c74743d2b29559e4
CATEGORIES:Compétition Ski de Fond
CREATED:20181114T121858
SUMMARY:Coupe de la Hasel Big Mat Atomic n°2 Crédit Mutuel n°2 *** ANNULE(E) ***
URL;VALUE=URI:https://skivosges.net/agenda/a-venir/detailevenement/1101/-/coupe-de-la-has
 el-big-mat-atomic-n-2-credit-mutuel-n-2-annule-e?tmpl=component
DESCRIPTION:Coupe de la Hasel Big Mat Atomic n°2 Crédit Mutuel n°2 (Epreuve annulée)\n 
 - Codex évenement FMVT0030\n - Station : CHAMP DU FEU\n - Organisateur : 14
 336 SKI CLUB OBERHASLACH\n - Courriel : RegularLabs.EmailProtector.unCloak(
 "ep_da0b5ff4");\n - Téléphone : 782201612\n - Délégué Technique : FISCHER M
 ARCPériode d'inscription à l'evènement du dimanche 09 décembre 2018 à 00:00
  au vendredi 14 décembre 2018 à 20:00 (Inscriptions impossibles).Inscriptio
 ns ouvertes aux detenteurs des titres Fédéraux valides suivants : Licenciés
  CompétiteursEpreuves :\n - Le dimanche 16 décembre 2018 à 10:00\n - Codex 
 épreuve FMVF0031\n - Depart Individuel\n - Catégorie(s) : U15 (Filles)\n - 
 Le dimanche 16 décembre 2018 à 10:00\n - Codex épreuve FMVM0031\n - Depart 
 Individuel\n - Catégorie(s) : U15 (Garçons)\n - Le dimanche 16 décembre 201
 8 à 10:00\n - Codex épreuve FMVF0032\n - Depart Individuel\n - Catégorie(s)
  : U17 a SEN (Dames)\n - Le dimanche 16 décembre 2018 à 10:00\n - Codex épr
 euve FMVM0032\n - Depart Individuel\n - Catégorie(s) : U17 (Hommes)\n - Le 
 dimanche 16 décembre 2018 à 10:00\n - Codex épreuve FMVM0033\n - Depart Ind
 ividuel\n - Catégorie(s) : U20/SEN (Hommes)\n - Voir les informations dans 
 l'agenda... (/index.php?option=com_jevents&amp;task=icalevent.detail&amp;ev
 id=1096&amp;Itemid=6289) Cet évènement a été importé depuis :https://skivos
 ges.net/agenda/a-venir/detailevenement/1101/-/coupe-de-la-hasel-big-mat-ato
 mic-n-2-credit-mutuel-n-2-annule-e?tmpl=component
X-ALT-DESC;FMTTYPE=text/html:<!-- #gskiepreuve code généré par le plugin jevents pour GskiEpreuves. Ne p
 as modifier cette ligne, ni tout le contenu suivant  #gskiepreuve --><div c
 lass="gski-evenement_infos"><div class="gski-evenement-nom">Coupe de la Has
 el Big Mat Atomic n°2 Crédit Mutuel n°2</div><div class="gski-evenement-rep
 ort"> <font class="gskiattention">(Epreuve annulée)</font></div><ul class="
 gski-evenement-liste-infos"><li>Codex évenement FMVT0030</li><li>Station : 
 CHAMP DU FEU</li><li>Organisateur : 14336 SKI CLUB OBERHASLACH</li><li>Cour
 riel : <!-- Cette adresse électronique est protégée contre les robots spamm
 eurs. --><span class="cloaked_email ep_da0b5ff4"><span data-ep-b="ge.&#102;
 r" data-ep-a="&#106;&#101;&#97;&#110;&#45;"><span data-ep-a="c&#108;&#97;ud
 " data-ep-b="&#64;&#111;&#114;&#97;n"><span data-ep-b="&#110;man&#110;" dat
 a-ep-a="e.&#105;&#115;&#101;"></span></span></span></span><script>RegularLa
 bs.EmailProtector.unCloak("ep_da0b5ff4");</script></li><li>Téléphone : 7822
 01612</li><li><span class="gski-evenement-obs">Délégué Technique : FISCHER 
 MARC</span></li></ul><div class="gski-evenement-infos-2"><div class="gski-e
 venement-info-inscriptions"><div class="gski-evenement-inscriptions-periode
 s">Période d'inscription à l'evènement du dimanche 09 décembre 2018 à 00:00
  au vendredi 14 décembre 2018 à 20:00 <span class="gski-evenement-inscripti
 ons-impossibles">(Inscriptions impossibles).</span><div class="gski-eveneme
 nt-inscriptions-types-titres">Inscriptions ouvertes aux detenteurs des titr
 es Fédéraux valides suivants : Licenciés Compétiteurs</div></div></div><div
  class="gski-evenement-epreuves"><div class="gski-evenement-epreuves-titres
 ">Epreuves :</div><ul class="gski-evenement-epreuves-list"><li><div class="
 gski-epreuve-date">Le dimanche 16 décembre 2018 à 10:00</div><ul class="gsk
 i-epreuve-liste-infos"><li>Codex épreuve FMVF0031</li><li>Depart Individuel
 </li><li>Catégorie(s) : U15 (Filles)</li></ul></li><li><div class="gski-epr
 euve-date">Le dimanche 16 décembre 2018 à 10:00</div><ul class="gski-epreuv
 e-liste-infos"><li>Codex épreuve FMVM0031</li><li>Depart Individuel</li><li
 >Catégorie(s) : U15 (Garçons)</li></ul></li><li><div class="gski-epreuve-da
 te">Le dimanche 16 décembre 2018 à 10:00</div><ul class="gski-epreuve-liste
 -infos"><li>Codex épreuve FMVF0032</li><li>Depart Individuel</li><li>Catégo
 rie(s) : U17 a SEN (Dames)</li></ul></li><li><div class="gski-epreuve-date"
 >Le dimanche 16 décembre 2018 à 10:00</div><ul class="gski-epreuve-liste-in
 fos"><li>Codex épreuve FMVM0032</li><li>Depart Individuel</li><li>Catégorie
 (s) : U17 (Hommes)</li></ul></li><li><div class="gski-epreuve-date">Le dima
 nche 16 décembre 2018 à 10:00</div><ul class="gski-epreuve-liste-infos"><li
 >Codex épreuve FMVM0033</li><li>Depart Individuel</li><li>Catégorie(s) : U2
 0/SEN (Hommes)</li></ul></li></ul></div><div class="gskiepreuves-links"><ul
 ><li><a href="https://skivosges.net/index.php?option=com_jevents&task=icale
 vent.detail&evid=1096&Itemid=6289">Voir les informations dans l'agenda...</
 a></li></ul></div></div"><!-- #/gskiepreuve fin du dode généré par le plugi
 n jevents pour GskiEpreuves. . Ne pas modifier cette ligne, ni tout le cont
 enu précedant.  #/gskiepreuve --> <a href="https://skivosges.net/agenda/a-v
 enir/detailevenement/1101/-/coupe-de-la-hasel-big-mat-atomic-n-2-credit-mut
 uel-n-2-annule-e?tmpl=component">Cet évènement a été importé depuis :https:
 //skivosges.net/agenda/a-venir/detailevenement/1101/-/coupe-de-la-hasel-big
 -mat-atomic-n-2-credit-mutuel-n-2-annule-e?tmpl=component</a>DTSTAMP:20260423T174103
DTSTART;TZID=Europe/Paris;VALUE=DATE:20181216
DTEND;TZID=Europe/Paris;VALUE=DATE:20181217
SEQUENCE:0
TRANSP:OPAQUE
END:VEVENT
END:VCALENDAR