BEGIN:VCALENDAR
VERSION:2.0
PRODID:-//jEvents 2.0 for Joomla//EN
CALSCALE:GREGORIAN
METHOD:PUBLISH
BEGIN:VTIMEZONE
TZID:Europe/Paris
BEGIN:STANDARD
DTSTART:20171221T000000
RDATE:20180325T030000
TZOFFSETFROM:+0200
TZOFFSETTO:+0100
TZNAME:Europe/Paris CET
END:STANDARD
BEGIN:STANDARD
DTSTART:20181028T020000
RDATE:20190331T030000
TZOFFSETFROM:+0200
TZOFFSETTO:+0100
TZNAME:Europe/Paris CET
END:STANDARD
BEGIN:STANDARD
DTSTART:20191027T020000
RDATE:20200329T030000
TZOFFSETFROM:+0200
TZOFFSETTO:+0100
TZNAME:Europe/Paris CET
END:STANDARD
BEGIN:STANDARD
DTSTART:20201025T020000
RDATE:20210328T030000
TZOFFSETFROM:+0200
TZOFFSETTO:+0100
TZNAME:Europe/Paris CET
END:STANDARD
BEGIN:STANDARD
DTSTART:20211031T020000
RDATE:20220327T030000
TZOFFSETFROM:+0200
TZOFFSETTO:+0100
TZNAME:Europe/Paris CET
END:STANDARD
BEGIN:STANDARD
DTSTART:20221030T020000
RDATE:20230326T030000
TZOFFSETFROM:+0200
TZOFFSETTO:+0100
TZNAME:Europe/Paris CET
END:STANDARD
BEGIN:STANDARD
DTSTART:20231029T020000
RDATE:20240331T030000
TZOFFSETFROM:+0200
TZOFFSETTO:+0100
TZNAME:Europe/Paris CET
END:STANDARD
BEGIN:STANDARD
DTSTART:20241027T020000
RDATE:20250330T030000
TZOFFSETFROM:+0200
TZOFFSETTO:+0100
TZNAME:Europe/Paris CET
END:STANDARD
BEGIN:STANDARD
DTSTART:20251026T020000
RDATE:20260329T030000
TZOFFSETFROM:+0200
TZOFFSETTO:+0100
TZNAME:Europe/Paris CET
END:STANDARD
BEGIN:STANDARD
DTSTART:20261025T020000
RDATE:20270328T030000
TZOFFSETFROM:+0200
TZOFFSETTO:+0100
TZNAME:Europe/Paris CET
END:STANDARD
BEGIN:DAYLIGHT
DTSTART:20180325T030000
RDATE:20181028T020000
TZOFFSETFROM:+0100
TZOFFSETTO:+0200
TZNAME:Europe/Paris CEST
END:DAYLIGHT
BEGIN:DAYLIGHT
DTSTART:20190331T030000
RDATE:20191027T020000
TZOFFSETFROM:+0100
TZOFFSETTO:+0200
TZNAME:Europe/Paris CEST
END:DAYLIGHT
BEGIN:DAYLIGHT
DTSTART:20200329T030000
RDATE:20201025T020000
TZOFFSETFROM:+0100
TZOFFSETTO:+0200
TZNAME:Europe/Paris CEST
END:DAYLIGHT
BEGIN:DAYLIGHT
DTSTART:20210328T030000
RDATE:20211031T020000
TZOFFSETFROM:+0100
TZOFFSETTO:+0200
TZNAME:Europe/Paris CEST
END:DAYLIGHT
BEGIN:DAYLIGHT
DTSTART:20220327T030000
RDATE:20221030T020000
TZOFFSETFROM:+0100
TZOFFSETTO:+0200
TZNAME:Europe/Paris CEST
END:DAYLIGHT
BEGIN:DAYLIGHT
DTSTART:20230326T030000
RDATE:20231029T020000
TZOFFSETFROM:+0100
TZOFFSETTO:+0200
TZNAME:Europe/Paris CEST
END:DAYLIGHT
BEGIN:DAYLIGHT
DTSTART:20240331T030000
RDATE:20241027T020000
TZOFFSETFROM:+0100
TZOFFSETTO:+0200
TZNAME:Europe/Paris CEST
END:DAYLIGHT
BEGIN:DAYLIGHT
DTSTART:20250330T030000
RDATE:20251026T020000
TZOFFSETFROM:+0100
TZOFFSETTO:+0200
TZNAME:Europe/Paris CEST
END:DAYLIGHT
BEGIN:DAYLIGHT
DTSTART:20260329T030000
RDATE:20261025T020000
TZOFFSETFROM:+0100
TZOFFSETTO:+0200
TZNAME:Europe/Paris CEST
END:DAYLIGHT
END:VTIMEZONE
BEGIN:VEVENT
UID:0a3b9822362f360f38813808b56ea0f6
CATEGORIES:Compétition Ski de Fond
CREATED:20181114T121858
SUMMARY:Grand Prix de la Bresse  Big Mat Atomic n°3 Crédit Mutuel n°3
URL;VALUE=URI:https://skivosges.net/agenda/a-venir/detailevenement/1103/-/grand-prix-de-l
 a-bresse-big-mat-atomic-n-3-credit-mutuel-n-3?tmpl=component
DESCRIPTION:Grand Prix de la Bresse  Big Mat Atomic n°3 Crédit Mutuel n°3\n - Codex éve
 nement FMVT0040\n - Station : LA BRESSE LISPACH\n - Organisateur : 14024 LA
  BRESSAUDE SECTION SKI\n - Courriel : RegularLabs.EmailProtector.unCloak("e
 p_1219db5e");Période d'inscription à l'evènement du samedi 15 décembre 2018
  à 00:00 au jeudi 20 décembre 2018 à 17:00 (Inscriptions impossibles).Inscr
 iptions ouvertes aux detenteurs des titres Fédéraux valides suivants : Lice
 nciés CompétiteursEpreuves :\n - Le samedi 22 décembre 2018 à 10:00\n - Cod
 ex épreuve FMVF0041\n - Depart Individuel\n - Catégorie(s) : U15 (Filles)\n
  - Le samedi 22 décembre 2018\n - Codex épreuve FMVM0041\n - Depart Individ
 uel\n - Catégorie(s) : U15 (Garçons)\n - Le samedi 22 décembre 2018\n - Cod
 ex épreuve FMVF0042\n - Depart Individuel\n - Catégorie(s) : U17 a SEN (Dam
 es)\n - Le samedi 22 décembre 2018\n - Codex épreuve FMVM0042\n - Depart In
 dividuel\n - Catégorie(s) : U17 (Hommes)\n - Le samedi 22 décembre 2018\n -
  Codex épreuve FMVM0043\n - Depart Individuel\n - Catégorie(s) : U20/SEN (H
 ommes)\n - Voir les informations dans l'agenda... (/index.php?option=com_je
 vents&amp;task=icalevent.detail&amp;evid=1098&amp;Itemid=6289)\n - Vers les
  résultats... (/index.php?option=com_gskiepreuves&amp;view=afficheresultats
 &amp;format_option=tous&amp;filter[search]=FMVT0040&amp;filter[date_debut]=
 22-12-2018&amp;filter[date_fin]=22-12-2018&amp;code_activite=FOND&amp;Itemi
 d=6289)\n - Publications concernant cet évènement :\n - Samedi 22 Décembre 
 2018 à 14:33 : Le 22/12/2018 LA BRESSE Résultats\n - Jeudi 20 Décembre 2018
  à 21:51 : Le 22/12/2018 LA BRESSE Liste de départs Cet évènement a été imp
 orté depuis :https://skivosges.net/agenda/a-venir/detailevenement/1103/-/gr
 and-prix-de-la-bresse-big-mat-atomic-n-3-credit-mutuel-n-3?tmpl=component
X-ALT-DESC;FMTTYPE=text/html:<!-- #gskiepreuve code généré par le plugin jevents pour GskiEpreuves. Ne p
 as modifier cette ligne, ni tout le contenu suivant  #gskiepreuve --><div c
 lass="gski-evenement_infos"><div class="gski-evenement-nom">Grand Prix de l
 a Bresse  Big Mat Atomic n°3 Crédit Mutuel n°3</div><div class="gski-evenem
 ent-report"></div><ul class="gski-evenement-liste-infos"><li>Codex évenemen
 t FMVT0040</li><li>Station : LA BRESSE LISPACH</li><li>Organisateur : 14024
  LA BRESSAUDE SECTION SKI</li><li>Courriel : <!-- Cette adresse électroniqu
 e est protégée contre les robots spammeurs. --><span class="cloaked_email e
 p_1219db5e"><span data-ep-a="odile" data-ep-b="f&#114;"><span data-ep-b="&#
 97;n&#103;&#101;&#46;" data-ep-a="&#46;&#109;&#117;ns"><span data-ep-b="&#1
 08;&#98;&#64;&#111;r" data-ep-a="ch.&#115;&#99;"></span></span></span></spa
 n><script>RegularLabs.EmailProtector.unCloak("ep_1219db5e");</script></li><
 /ul><div class="gski-evenement-infos-2"><div class="gski-evenement-info-ins
 criptions"><div class="gski-evenement-inscriptions-periodes">Période d'insc
 ription à l'evènement du samedi 15 décembre 2018 à 00:00 au jeudi 20 décemb
 re 2018 à 17:00 <span class="gski-evenement-inscriptions-impossibles">(Insc
 riptions impossibles).</span><div class="gski-evenement-inscriptions-types-
 titres">Inscriptions ouvertes aux detenteurs des titres Fédéraux valides su
 ivants : Licenciés Compétiteurs</div></div></div><div class="gski-evenement
 -epreuves"><div class="gski-evenement-epreuves-titres">Epreuves :</div><ul 
 class="gski-evenement-epreuves-list"><li><div class="gski-epreuve-date">Le 
 samedi 22 décembre 2018 à 10:00</div><ul class="gski-epreuve-liste-infos"><
 li>Codex épreuve FMVF0041</li><li>Depart Individuel</li><li>Catégorie(s) : 
 U15 (Filles)</li></ul></li><li><div class="gski-epreuve-date">Le samedi 22 
 décembre 2018</div><ul class="gski-epreuve-liste-infos"><li>Codex épreuve F
 MVM0041</li><li>Depart Individuel</li><li>Catégorie(s) : U15 (Garçons)</li>
 </ul></li><li><div class="gski-epreuve-date">Le samedi 22 décembre 2018</di
 v><ul class="gski-epreuve-liste-infos"><li>Codex épreuve FMVF0042</li><li>D
 epart Individuel</li><li>Catégorie(s) : U17 a SEN (Dames)</li></ul></li><li
 ><div class="gski-epreuve-date">Le samedi 22 décembre 2018</div><ul class="
 gski-epreuve-liste-infos"><li>Codex épreuve FMVM0042</li><li>Depart Individ
 uel</li><li>Catégorie(s) : U17 (Hommes)</li></ul></li><li><div class="gski-
 epreuve-date">Le samedi 22 décembre 2018</div><ul class="gski-epreuve-liste
 -infos"><li>Codex épreuve FMVM0043</li><li>Depart Individuel</li><li>Catégo
 rie(s) : U20/SEN (Hommes)</li></ul></li></ul></div><div class="gskiepreuves
 -links"><ul><li><a href="https://skivosges.net/index.php?option=com_jevents
 &task=icalevent.detail&evid=1098&Itemid=6289">Voir les informations dans l'
 agenda...</a></li><li><a href="https://skivosges.net/index.php?option=com_g
 skiepreuves&view=afficheresultats&format_option=tous&filter[search]=FMVT004
 0&filter[date_debut]=22-12-2018&filter[date_fin]=22-12-2018&code_activite=F
 OND&Itemid=6289">Vers les résultats...</a></li><li>Publications concernant 
 cet évènement :<ul><li><a href="https://skivosges.net/index.php?option=com_
 content&view=article&id=6464&Itemid=6289">Samedi 22 Décembre 2018 à 14:33 :
  Le 22/12/2018 LA BRESSE Résultats</a></li><li><a href="https://skivosges.n
 et/index.php?option=com_content&view=article&id=6461&Itemid=6289">Jeudi 20 
 Décembre 2018 à 21:51 : Le 22/12/2018 LA BRESSE Liste de départs</a></li></
 ul></li></ul></div></div"><!-- #/gskiepreuve fin du dode généré par le plug
 in jevents pour GskiEpreuves. . Ne pas modifier cette ligne, ni tout le con
 tenu précedant.  #/gskiepreuve --> <a href="https://skivosges.net/agenda/a-
 venir/detailevenement/1103/-/grand-prix-de-la-bresse-big-mat-atomic-n-3-cre
 dit-mutuel-n-3?tmpl=component">Cet évènement a été importé depuis :https://
 skivosges.net/agenda/a-venir/detailevenement/1103/-/grand-prix-de-la-bresse
 -big-mat-atomic-n-3-credit-mutuel-n-3?tmpl=component</a>DTSTAMP:20260423T174046
DTSTART;TZID=Europe/Paris;VALUE=DATE:20181222
DTEND;TZID=Europe/Paris;VALUE=DATE:20181223
SEQUENCE:0
TRANSP:OPAQUE
END:VEVENT
END:VCALENDAR