BEGIN:VCALENDAR
VERSION:2.0
PRODID:-//jEvents 2.0 for Joomla//EN
CALSCALE:GREGORIAN
METHOD:PUBLISH
BEGIN:VTIMEZONE
TZID:Europe/Paris
BEGIN:STANDARD
DTSTART:20171228T000000
RDATE:20180325T030000
TZOFFSETFROM:+0200
TZOFFSETTO:+0100
TZNAME:Europe/Paris CET
END:STANDARD
BEGIN:STANDARD
DTSTART:20181028T020000
RDATE:20190331T030000
TZOFFSETFROM:+0200
TZOFFSETTO:+0100
TZNAME:Europe/Paris CET
END:STANDARD
BEGIN:STANDARD
DTSTART:20191027T020000
RDATE:20200329T030000
TZOFFSETFROM:+0200
TZOFFSETTO:+0100
TZNAME:Europe/Paris CET
END:STANDARD
BEGIN:STANDARD
DTSTART:20201025T020000
RDATE:20210328T030000
TZOFFSETFROM:+0200
TZOFFSETTO:+0100
TZNAME:Europe/Paris CET
END:STANDARD
BEGIN:STANDARD
DTSTART:20211031T020000
RDATE:20220327T030000
TZOFFSETFROM:+0200
TZOFFSETTO:+0100
TZNAME:Europe/Paris CET
END:STANDARD
BEGIN:STANDARD
DTSTART:20221030T020000
RDATE:20230326T030000
TZOFFSETFROM:+0200
TZOFFSETTO:+0100
TZNAME:Europe/Paris CET
END:STANDARD
BEGIN:STANDARD
DTSTART:20231029T020000
RDATE:20240331T030000
TZOFFSETFROM:+0200
TZOFFSETTO:+0100
TZNAME:Europe/Paris CET
END:STANDARD
BEGIN:STANDARD
DTSTART:20241027T020000
RDATE:20250330T030000
TZOFFSETFROM:+0200
TZOFFSETTO:+0100
TZNAME:Europe/Paris CET
END:STANDARD
BEGIN:STANDARD
DTSTART:20251026T020000
RDATE:20260329T030000
TZOFFSETFROM:+0200
TZOFFSETTO:+0100
TZNAME:Europe/Paris CET
END:STANDARD
BEGIN:STANDARD
DTSTART:20261025T020000
RDATE:20270328T030000
TZOFFSETFROM:+0200
TZOFFSETTO:+0100
TZNAME:Europe/Paris CET
END:STANDARD
BEGIN:DAYLIGHT
DTSTART:20180325T030000
RDATE:20181028T020000
TZOFFSETFROM:+0100
TZOFFSETTO:+0200
TZNAME:Europe/Paris CEST
END:DAYLIGHT
BEGIN:DAYLIGHT
DTSTART:20190331T030000
RDATE:20191027T020000
TZOFFSETFROM:+0100
TZOFFSETTO:+0200
TZNAME:Europe/Paris CEST
END:DAYLIGHT
BEGIN:DAYLIGHT
DTSTART:20200329T030000
RDATE:20201025T020000
TZOFFSETFROM:+0100
TZOFFSETTO:+0200
TZNAME:Europe/Paris CEST
END:DAYLIGHT
BEGIN:DAYLIGHT
DTSTART:20210328T030000
RDATE:20211031T020000
TZOFFSETFROM:+0100
TZOFFSETTO:+0200
TZNAME:Europe/Paris CEST
END:DAYLIGHT
BEGIN:DAYLIGHT
DTSTART:20220327T030000
RDATE:20221030T020000
TZOFFSETFROM:+0100
TZOFFSETTO:+0200
TZNAME:Europe/Paris CEST
END:DAYLIGHT
BEGIN:DAYLIGHT
DTSTART:20230326T030000
RDATE:20231029T020000
TZOFFSETFROM:+0100
TZOFFSETTO:+0200
TZNAME:Europe/Paris CEST
END:DAYLIGHT
BEGIN:DAYLIGHT
DTSTART:20240331T030000
RDATE:20241027T020000
TZOFFSETFROM:+0100
TZOFFSETTO:+0200
TZNAME:Europe/Paris CEST
END:DAYLIGHT
BEGIN:DAYLIGHT
DTSTART:20250330T030000
RDATE:20251026T020000
TZOFFSETFROM:+0100
TZOFFSETTO:+0200
TZNAME:Europe/Paris CEST
END:DAYLIGHT
BEGIN:DAYLIGHT
DTSTART:20260329T030000
RDATE:20261025T020000
TZOFFSETFROM:+0100
TZOFFSETTO:+0200
TZNAME:Europe/Paris CEST
END:DAYLIGHT
END:VTIMEZONE
BEGIN:VEVENT
UID:076eeaca5ceb9270fd762ba2ee21706f
CATEGORIES:Compétition Saut
CREATED:20181114T121858
SUMMARY:Jeux du Saut n°1 **REPORTE(E) au 09/02/2019**
URL;VALUE=URI:https://skivosges.net/agenda/a-venir/detailevenement/1108/-/jeux-du-saut-n-
 1-reporte-e-au-09-02-2019?tmpl=component
DESCRIPTION:Jeux du Saut n°1 (Epreuve reportée au 09/02/2019)\n - Codex évenement TMVT0
 020\n - Station : FRERE JOSEPH\n - Organisateur : 14083 U.S VENTRONPériode 
 d'inscription à l'evènement du samedi 22 décembre 2018 à 00:00 au jeudi 27 
 décembre 2018 à 12:00 (Inscriptions impossibles).Inscriptions ouvertes aux 
 detenteurs des titres Fédéraux valides suivants : Licenciés CompétiteursEpr
 euves :\n - Le samedi 29 décembre 2018\n - Codex épreuve TMVF0021\n - Saut 
 Special\n - Catégorie(s) : U7 a U20 (Filles)\n - Le samedi 29 décembre 2018
 \n - Codex épreuve TMVM0021\n - Saut Special\n - Catégorie(s) : U7 a U20 (G
 arçons)\n - Le samedi 29 décembre 2018\n - Codex épreuve TMVF0022\n - Saut 
 Special\n - Catégorie(s) : Senior (Dames)\n - Le samedi 29 décembre 2018\n 
 - Codex épreuve TMVM0022\n - Saut Special\n - Catégorie(s) : Senior (Hommes
 )\n - Voir les informations dans l'agenda... (/index.php?option=com_jevents
 &amp;task=icalevent.detail&amp;evid=1103&amp;Itemid=6289) Cet évènement a é
 té importé depuis :https://skivosges.net/agenda/a-venir/detailevenement/110
 8/-/jeux-du-saut-n-1-reporte-e-au-09-02-2019?tmpl=component
X-ALT-DESC;FMTTYPE=text/html:<!-- #gskiepreuve code généré par le plugin jevents pour GskiEpreuves. Ne p
 as modifier cette ligne, ni tout le contenu suivant  #gskiepreuve --><div c
 lass="gski-evenement_infos"><div class="gski-evenement-nom">Jeux du Saut n°
 1</div><div class="gski-evenement-report"> <font class="gskiattention">(Epr
 euve reportée au 09/02/2019)</font></div><ul class="gski-evenement-liste-in
 fos"><li>Codex évenement TMVT0020</li><li>Station : FRERE JOSEPH</li><li>Or
 ganisateur : 14083 U.S VENTRON</li></ul><div class="gski-evenement-infos-2"
 ><div class="gski-evenement-info-inscriptions"><div class="gski-evenement-i
 nscriptions-periodes">Période d'inscription à l'evènement du samedi 22 déce
 mbre 2018 à 00:00 au jeudi 27 décembre 2018 à 12:00 <span class="gski-evene
 ment-inscriptions-impossibles">(Inscriptions impossibles).</span><div class
 ="gski-evenement-inscriptions-types-titres">Inscriptions ouvertes aux deten
 teurs des titres Fédéraux valides suivants : Licenciés Compétiteurs</div></
 div></div><div class="gski-evenement-epreuves"><div class="gski-evenement-e
 preuves-titres">Epreuves :</div><ul class="gski-evenement-epreuves-list"><l
 i><div class="gski-epreuve-date">Le samedi 29 décembre 2018</div><ul class=
 "gski-epreuve-liste-infos"><li>Codex épreuve TMVF0021</li><li>Saut Special<
 /li><li>Catégorie(s) : U7 a U20 (Filles)</li></ul></li><li><div class="gski
 -epreuve-date">Le samedi 29 décembre 2018</div><ul class="gski-epreuve-list
 e-infos"><li>Codex épreuve TMVM0021</li><li>Saut Special</li><li>Catégorie(
 s) : U7 a U20 (Garçons)</li></ul></li><li><div class="gski-epreuve-date">Le
  samedi 29 décembre 2018</div><ul class="gski-epreuve-liste-infos"><li>Code
 x épreuve TMVF0022</li><li>Saut Special</li><li>Catégorie(s) : Senior (Dame
 s)</li></ul></li><li><div class="gski-epreuve-date">Le samedi 29 décembre 2
 018</div><ul class="gski-epreuve-liste-infos"><li>Codex épreuve TMVM0022</l
 i><li>Saut Special</li><li>Catégorie(s) : Senior (Hommes)</li></ul></li></u
 l></div><div class="gskiepreuves-links"><ul><li><a href="https://skivosges.
 net/index.php?option=com_jevents&task=icalevent.detail&evid=1103&Itemid=628
 9">Voir les informations dans l'agenda...</a></li></ul></div></div"><!-- #/
 gskiepreuve fin du dode généré par le plugin jevents pour GskiEpreuves. . N
 e pas modifier cette ligne, ni tout le contenu précedant.  #/gskiepreuve --
 > <a href="https://skivosges.net/agenda/a-venir/detailevenement/1108/-/jeux
 -du-saut-n-1-reporte-e-au-09-02-2019?tmpl=component">Cet évènement a été im
 porté depuis :https://skivosges.net/agenda/a-venir/detailevenement/1108/-/j
 eux-du-saut-n-1-reporte-e-au-09-02-2019?tmpl=component</a>DTSTAMP:20260423T174126
DTSTART;TZID=Europe/Paris;VALUE=DATE:20181229
DTEND;TZID=Europe/Paris;VALUE=DATE:20181230
SEQUENCE:0
TRANSP:OPAQUE
END:VEVENT
END:VCALENDAR