BEGIN:VCALENDAR
VERSION:2.0
PRODID:-//jEvents 2.0 for Joomla//EN
CALSCALE:GREGORIAN
METHOD:PUBLISH
BEGIN:VTIMEZONE
TZID:Europe/Paris
BEGIN:STANDARD
DTSTART:20171229T000000
RDATE:20180325T030000
TZOFFSETFROM:+0200
TZOFFSETTO:+0100
TZNAME:Europe/Paris CET
END:STANDARD
BEGIN:STANDARD
DTSTART:20181028T020000
RDATE:20190331T030000
TZOFFSETFROM:+0200
TZOFFSETTO:+0100
TZNAME:Europe/Paris CET
END:STANDARD
BEGIN:STANDARD
DTSTART:20191027T020000
RDATE:20200329T030000
TZOFFSETFROM:+0200
TZOFFSETTO:+0100
TZNAME:Europe/Paris CET
END:STANDARD
BEGIN:STANDARD
DTSTART:20201025T020000
RDATE:20210328T030000
TZOFFSETFROM:+0200
TZOFFSETTO:+0100
TZNAME:Europe/Paris CET
END:STANDARD
BEGIN:STANDARD
DTSTART:20211031T020000
RDATE:20220327T030000
TZOFFSETFROM:+0200
TZOFFSETTO:+0100
TZNAME:Europe/Paris CET
END:STANDARD
BEGIN:STANDARD
DTSTART:20221030T020000
RDATE:20230326T030000
TZOFFSETFROM:+0200
TZOFFSETTO:+0100
TZNAME:Europe/Paris CET
END:STANDARD
BEGIN:STANDARD
DTSTART:20231029T020000
RDATE:20240331T030000
TZOFFSETFROM:+0200
TZOFFSETTO:+0100
TZNAME:Europe/Paris CET
END:STANDARD
BEGIN:STANDARD
DTSTART:20241027T020000
RDATE:20250330T030000
TZOFFSETFROM:+0200
TZOFFSETTO:+0100
TZNAME:Europe/Paris CET
END:STANDARD
BEGIN:STANDARD
DTSTART:20251026T020000
RDATE:20260329T030000
TZOFFSETFROM:+0200
TZOFFSETTO:+0100
TZNAME:Europe/Paris CET
END:STANDARD
BEGIN:STANDARD
DTSTART:20261025T020000
RDATE:20270328T030000
TZOFFSETFROM:+0200
TZOFFSETTO:+0100
TZNAME:Europe/Paris CET
END:STANDARD
BEGIN:DAYLIGHT
DTSTART:20180325T030000
RDATE:20181028T020000
TZOFFSETFROM:+0100
TZOFFSETTO:+0200
TZNAME:Europe/Paris CEST
END:DAYLIGHT
BEGIN:DAYLIGHT
DTSTART:20190331T030000
RDATE:20191027T020000
TZOFFSETFROM:+0100
TZOFFSETTO:+0200
TZNAME:Europe/Paris CEST
END:DAYLIGHT
BEGIN:DAYLIGHT
DTSTART:20200329T030000
RDATE:20201025T020000
TZOFFSETFROM:+0100
TZOFFSETTO:+0200
TZNAME:Europe/Paris CEST
END:DAYLIGHT
BEGIN:DAYLIGHT
DTSTART:20210328T030000
RDATE:20211031T020000
TZOFFSETFROM:+0100
TZOFFSETTO:+0200
TZNAME:Europe/Paris CEST
END:DAYLIGHT
BEGIN:DAYLIGHT
DTSTART:20220327T030000
RDATE:20221030T020000
TZOFFSETFROM:+0100
TZOFFSETTO:+0200
TZNAME:Europe/Paris CEST
END:DAYLIGHT
BEGIN:DAYLIGHT
DTSTART:20230326T030000
RDATE:20231029T020000
TZOFFSETFROM:+0100
TZOFFSETTO:+0200
TZNAME:Europe/Paris CEST
END:DAYLIGHT
BEGIN:DAYLIGHT
DTSTART:20240331T030000
RDATE:20241027T020000
TZOFFSETFROM:+0100
TZOFFSETTO:+0200
TZNAME:Europe/Paris CEST
END:DAYLIGHT
BEGIN:DAYLIGHT
DTSTART:20250330T030000
RDATE:20251026T020000
TZOFFSETFROM:+0100
TZOFFSETTO:+0200
TZNAME:Europe/Paris CEST
END:DAYLIGHT
BEGIN:DAYLIGHT
DTSTART:20260329T030000
RDATE:20261025T020000
TZOFFSETFROM:+0100
TZOFFSETTO:+0200
TZNAME:Europe/Paris CEST
END:DAYLIGHT
END:VTIMEZONE
BEGIN:VEVENT
UID:6eebd93f71b858c8c276e5a963b3bb78
CATEGORIES:Compétition Ski de Fond
CREATED:20181114T121858
SUMMARY:Promo Foyers Sprint La Bresse Sports Passion
URL;VALUE=URI:https://skivosges.net/agenda/a-venir/detailevenement/1110/-/promo-foyers-sp
 rint-la-bresse-sports-passion?tmpl=component
DESCRIPTION:<!-- #gskiepreuve code généré par le plugin jevents pour GskiEpreuves. Ne p
 as modifier cette ligne, ni tout le contenu suivant  #gskiepreuve --><div c
 lass="gski-evenement_infos"><div class="gski-evenement-nom">Promo Foyers Sp
 rint La Bresse Sports Passion</div><div class="gski-evenement-report"></div
 ><ul class="gski-evenement-liste-infos"><li>Codex évenement FMVT0060</li><l
 i>Lieu : NORDIC PARK</li><li>Station : LA BRESSE LISPACH</li><li>Organisate
 ur : 14024 LA BRESSAUDE SECTION SKI</li><li>Courriel : <!-- Cette adresse é
 lectronique est protégée contre les robots spammeurs. --><span class="cloak
 ed_email ep_4848a666"><span data-ep-a="&#111;&#100;ile" data-ep-b="fr"><spa
 n data-ep-a="&#46;&#109;un&#115;" data-ep-b="a&#110;&#103;&#101;."><span da
 ta-ep-a="&#99;&#104;&#46;&#115;&#99;" data-ep-b="l&#98;&#64;&#111;&#114;"><
 /span></span></span></span><script>RegularLabs.EmailProtector.unCloak("ep_4
 848a666");</script></li></ul><div class="gski-evenement-infos-2"><div class
 ="gski-evenement-info-inscriptions"><div class="gski-evenement-inscriptions
 -periodes">Période d'inscription à l'evènement du dimanche 23 décembre 2018
  à 01:00 au vendredi 28 décembre 2018 à 17:00 <span class="gski-evenement-i
 nscriptions-impossibles">(Inscriptions impossibles).</span><div class="gski
 -evenement-inscriptions-types-titres">Inscriptions ouvertes aux detenteurs 
 des titres Fédéraux valides suivants : Licenciés Compétiteurs et Titres Loi
 sirs et Dirigeants</div></div></div><div class="gski-evenement-epreuves"><d
 iv class="gski-evenement-epreuves-titres">Epreuves :</div><ul class="gski-e
 venement-epreuves-list"><li><div class="gski-epreuve-date">Le dimanche 30 d
 écembre 2018 à 11:30</div><ul class="gski-epreuve-liste-infos"><li>Codex ép
 reuve FMVF0061</li><li>Depart Individuel</li><li>Catégorie(s) : U9/U11 (Fil
 les)</li></ul></li><li><div class="gski-epreuve-date">Le dimanche 30 décemb
 re 2018 à 11:30</div><ul class="gski-epreuve-liste-infos"><li>Codex épreuve
  FMVM0061</li><li>Depart Individuel</li><li>Catégorie(s) : U9/U11 (Garçons)
 </li></ul></li></ul></div><div class="gskiepreuves-links"><ul><li><a href="
 /index.php?option=com_jevents&task=icalevent.detail&evid=1105&Itemid=6289">
 Voir les informations dans l'agenda...</a></li><li><a href="/index.php?opti
 on=com_gskiepreuves&view=afficheresultats&format_option=tous&filter[search]
 =FMVT0060&filter[date_debut]=30-12-2018&filter[date_fin]=30-12-2018&code_ac
 tivite=FOND&Itemid=6289">Vers les résultats...</a></li><li>Publications con
 cernant cet évènement :<ul><li><a href="/index.php?option=com_content&view=
 article&id=6469&Itemid=6289">Mercredi 26 Décembre 2018 à 21:50 : Le 30/12/2
 018 LA BRESSE Informations</a></li></ul></li></ul></div></div"><!-- #/gskie
 preuve fin du dode généré par le plugin jevents pour GskiEpreuves. . Ne pas
  modifier cette ligne, ni tout le contenu précedant.  #/gskiepreuve --> <a 
 href="https://skivosges.net/agenda/a-venir/detailevenement/1110/-/promo-foy
 ers-sprint-la-bresse-sports-passion?tmpl=component">Cet évènement a été imp
 orté depuis :https://skivosges.net/agenda/a-venir/detailevenement/1110/-/pr
 omo-foyers-sprint-la-bresse-sports-passion?tmpl=component</a>
X-ALT-DESC;FMTTYPE=text/html:<!-- #gskiepreuve code généré par le plugin jevents pour GskiEpreuves. Ne p
 as modifier cette ligne, ni tout le contenu suivant  #gskiepreuve --><div c
 lass="gski-evenement_infos"><div class="gski-evenement-nom">Promo Foyers Sp
 rint La Bresse Sports Passion</div><div class="gski-evenement-report"></div
 ><ul class="gski-evenement-liste-infos"><li>Codex évenement FMVT0060</li><l
 i>Lieu : NORDIC PARK</li><li>Station : LA BRESSE LISPACH</li><li>Organisate
 ur : 14024 LA BRESSAUDE SECTION SKI</li><li>Courriel : <!-- Cette adresse é
 lectronique est protégée contre les robots spammeurs. --><span class="cloak
 ed_email ep_4848a666"><span data-ep-a="&#111;&#100;ile" data-ep-b="fr"><spa
 n data-ep-a="&#46;&#109;un&#115;" data-ep-b="a&#110;&#103;&#101;."><span da
 ta-ep-a="&#99;&#104;&#46;&#115;&#99;" data-ep-b="l&#98;&#64;&#111;&#114;"><
 /span></span></span></span><script>RegularLabs.EmailProtector.unCloak("ep_4
 848a666");</script></li></ul><div class="gski-evenement-infos-2"><div class
 ="gski-evenement-info-inscriptions"><div class="gski-evenement-inscriptions
 -periodes">Période d'inscription à l'evènement du dimanche 23 décembre 2018
  à 01:00 au vendredi 28 décembre 2018 à 17:00 <span class="gski-evenement-i
 nscriptions-impossibles">(Inscriptions impossibles).</span><div class="gski
 -evenement-inscriptions-types-titres">Inscriptions ouvertes aux detenteurs 
 des titres Fédéraux valides suivants : Licenciés Compétiteurs et Titres Loi
 sirs et Dirigeants</div></div></div><div class="gski-evenement-epreuves"><d
 iv class="gski-evenement-epreuves-titres">Epreuves :</div><ul class="gski-e
 venement-epreuves-list"><li><div class="gski-epreuve-date">Le dimanche 30 d
 écembre 2018 à 11:30</div><ul class="gski-epreuve-liste-infos"><li>Codex ép
 reuve FMVF0061</li><li>Depart Individuel</li><li>Catégorie(s) : U9/U11 (Fil
 les)</li></ul></li><li><div class="gski-epreuve-date">Le dimanche 30 décemb
 re 2018 à 11:30</div><ul class="gski-epreuve-liste-infos"><li>Codex épreuve
  FMVM0061</li><li>Depart Individuel</li><li>Catégorie(s) : U9/U11 (Garçons)
 </li></ul></li></ul></div><div class="gskiepreuves-links"><ul><li><a href="
 https://skivosges.net/index.php?option=com_jevents&task=icalevent.detail&ev
 id=1105&Itemid=6289">Voir les informations dans l'agenda...</a></li><li><a 
 href="https://skivosges.net/index.php?option=com_gskiepreuves&view=afficher
 esultats&format_option=tous&filter[search]=FMVT0060&filter[date_debut]=30-1
 2-2018&filter[date_fin]=30-12-2018&code_activite=FOND&Itemid=6289">Vers les
  résultats...</a></li><li>Publications concernant cet évènement :<ul><li><a
  href="https://skivosges.net/index.php?option=com_content&view=article&id=6
 469&Itemid=6289">Mercredi 26 Décembre 2018 à 21:50 : Le 30/12/2018 LA BRESS
 E Informations</a></li></ul></li></ul></div></div"><!-- #/gskiepreuve fin d
 u dode généré par le plugin jevents pour GskiEpreuves. . Ne pas modifier ce
 tte ligne, ni tout le contenu précedant.  #/gskiepreuve --> <a href="https:
 //skivosges.net/agenda/a-venir/detailevenement/1110/-/promo-foyers-sprint-l
 a-bresse-sports-passion?tmpl=component">Cet évènement a été importé depuis 
 :https://skivosges.net/agenda/a-venir/detailevenement/1110/-/promo-foyers-s
 print-la-bresse-sports-passion?tmpl=component</a>DTSTAMP:20260423T175128
DTSTART;TZID=Europe/Paris;VALUE=DATE:20181230
DTEND;TZID=Europe/Paris;VALUE=DATE:20181231
SEQUENCE:0
TRANSP:OPAQUE
END:VEVENT
END:VCALENDAR