BEGIN:VCALENDAR
VERSION:2.0
PRODID:-//jEvents 2.0 for Joomla//EN
CALSCALE:GREGORIAN
METHOD:PUBLISH
BEGIN:VTIMEZONE
TZID:Europe/Paris
BEGIN:STANDARD
DTSTART:20130131T080000
RDATE:20130331T030000
TZOFFSETFROM:+0200
TZOFFSETTO:+0100
TZNAME:Europe/Paris CET
END:STANDARD
BEGIN:STANDARD
DTSTART:20131027T020000
RDATE:20140330T030000
TZOFFSETFROM:+0200
TZOFFSETTO:+0100
TZNAME:Europe/Paris CET
END:STANDARD
BEGIN:STANDARD
DTSTART:20141026T020000
RDATE:20150329T030000
TZOFFSETFROM:+0200
TZOFFSETTO:+0100
TZNAME:Europe/Paris CET
END:STANDARD
BEGIN:STANDARD
DTSTART:20151025T020000
RDATE:20160327T030000
TZOFFSETFROM:+0200
TZOFFSETTO:+0100
TZNAME:Europe/Paris CET
END:STANDARD
BEGIN:STANDARD
DTSTART:20161030T020000
RDATE:20170326T030000
TZOFFSETFROM:+0200
TZOFFSETTO:+0100
TZNAME:Europe/Paris CET
END:STANDARD
BEGIN:STANDARD
DTSTART:20171029T020000
RDATE:20180325T030000
TZOFFSETFROM:+0200
TZOFFSETTO:+0100
TZNAME:Europe/Paris CET
END:STANDARD
BEGIN:STANDARD
DTSTART:20181028T020000
RDATE:20190331T030000
TZOFFSETFROM:+0200
TZOFFSETTO:+0100
TZNAME:Europe/Paris CET
END:STANDARD
BEGIN:STANDARD
DTSTART:20191027T020000
RDATE:20200329T030000
TZOFFSETFROM:+0200
TZOFFSETTO:+0100
TZNAME:Europe/Paris CET
END:STANDARD
BEGIN:STANDARD
DTSTART:20201025T020000
RDATE:20210328T030000
TZOFFSETFROM:+0200
TZOFFSETTO:+0100
TZNAME:Europe/Paris CET
END:STANDARD
BEGIN:STANDARD
DTSTART:20211031T020000
RDATE:20220327T030000
TZOFFSETFROM:+0200
TZOFFSETTO:+0100
TZNAME:Europe/Paris CET
END:STANDARD
BEGIN:STANDARD
DTSTART:20221030T020000
RDATE:20230326T030000
TZOFFSETFROM:+0200
TZOFFSETTO:+0100
TZNAME:Europe/Paris CET
END:STANDARD
BEGIN:STANDARD
DTSTART:20231029T020000
RDATE:20240331T030000
TZOFFSETFROM:+0200
TZOFFSETTO:+0100
TZNAME:Europe/Paris CET
END:STANDARD
BEGIN:STANDARD
DTSTART:20241027T020000
RDATE:20250330T030000
TZOFFSETFROM:+0200
TZOFFSETTO:+0100
TZNAME:Europe/Paris CET
END:STANDARD
BEGIN:STANDARD
DTSTART:20251026T020000
RDATE:20260329T030000
TZOFFSETFROM:+0200
TZOFFSETTO:+0100
TZNAME:Europe/Paris CET
END:STANDARD
BEGIN:STANDARD
DTSTART:20261025T020000
RDATE:20270328T030000
TZOFFSETFROM:+0200
TZOFFSETTO:+0100
TZNAME:Europe/Paris CET
END:STANDARD
BEGIN:DAYLIGHT
DTSTART:20130331T030000
RDATE:20131027T020000
TZOFFSETFROM:+0100
TZOFFSETTO:+0200
TZNAME:Europe/Paris CEST
END:DAYLIGHT
BEGIN:DAYLIGHT
DTSTART:20140330T030000
RDATE:20141026T020000
TZOFFSETFROM:+0100
TZOFFSETTO:+0200
TZNAME:Europe/Paris CEST
END:DAYLIGHT
BEGIN:DAYLIGHT
DTSTART:20150329T030000
RDATE:20151025T020000
TZOFFSETFROM:+0100
TZOFFSETTO:+0200
TZNAME:Europe/Paris CEST
END:DAYLIGHT
BEGIN:DAYLIGHT
DTSTART:20160327T030000
RDATE:20161030T020000
TZOFFSETFROM:+0100
TZOFFSETTO:+0200
TZNAME:Europe/Paris CEST
END:DAYLIGHT
BEGIN:DAYLIGHT
DTSTART:20170326T030000
RDATE:20171029T020000
TZOFFSETFROM:+0100
TZOFFSETTO:+0200
TZNAME:Europe/Paris CEST
END:DAYLIGHT
BEGIN:DAYLIGHT
DTSTART:20180325T030000
RDATE:20181028T020000
TZOFFSETFROM:+0100
TZOFFSETTO:+0200
TZNAME:Europe/Paris CEST
END:DAYLIGHT
BEGIN:DAYLIGHT
DTSTART:20190331T030000
RDATE:20191027T020000
TZOFFSETFROM:+0100
TZOFFSETTO:+0200
TZNAME:Europe/Paris CEST
END:DAYLIGHT
BEGIN:DAYLIGHT
DTSTART:20200329T030000
RDATE:20201025T020000
TZOFFSETFROM:+0100
TZOFFSETTO:+0200
TZNAME:Europe/Paris CEST
END:DAYLIGHT
BEGIN:DAYLIGHT
DTSTART:20210328T030000
RDATE:20211031T020000
TZOFFSETFROM:+0100
TZOFFSETTO:+0200
TZNAME:Europe/Paris CEST
END:DAYLIGHT
BEGIN:DAYLIGHT
DTSTART:20220327T030000
RDATE:20221030T020000
TZOFFSETFROM:+0100
TZOFFSETTO:+0200
TZNAME:Europe/Paris CEST
END:DAYLIGHT
BEGIN:DAYLIGHT
DTSTART:20230326T030000
RDATE:20231029T020000
TZOFFSETFROM:+0100
TZOFFSETTO:+0200
TZNAME:Europe/Paris CEST
END:DAYLIGHT
BEGIN:DAYLIGHT
DTSTART:20240331T030000
RDATE:20241027T020000
TZOFFSETFROM:+0100
TZOFFSETTO:+0200
TZNAME:Europe/Paris CEST
END:DAYLIGHT
BEGIN:DAYLIGHT
DTSTART:20250330T030000
RDATE:20251026T020000
TZOFFSETFROM:+0100
TZOFFSETTO:+0200
TZNAME:Europe/Paris CEST
END:DAYLIGHT
BEGIN:DAYLIGHT
DTSTART:20260329T030000
RDATE:20261025T020000
TZOFFSETFROM:+0100
TZOFFSETTO:+0200
TZNAME:Europe/Paris CEST
END:DAYLIGHT
END:VTIMEZONE
BEGIN:VEVENT
UID:abc382bbf15f6c32c968bea270bea805
CATEGORIES:Autres Épreuves (alpin)
CREATED:20131203T122100
SUMMARY:Promo J  WAOULAND-CUP 2014
URL;VALUE=URI:https://skivosges.net/agenda/a-venir/detailevenement/112/-/promo-j-waouland
 -cup-2014?tmpl=component
DESCRIPTION:Promo J  WAOULAND-CUP 2014\n\nLieu : LA BRESSE \nPiste : GRANDES GUEULES\nO
 rganisateur : LA BRESSAUDE SECTION SKI  (14024 LA BRESSAUDE SECTION SKI)\nE
 mail : RegularLabs.EmailProtector.unCloak("ep_142fe727");\nTelecopie : 0329
 255100\n\nInscriptions closes, tirage des dossards en cours\n - AMVF0391  C
 ombine Race U8+U10 Filles\n  PROMO J  WAOULAND-CUP 2014\n - AMVM0391  Combi
 ne Race U8+U10 Garçons\n  PROMO J  WAOULAND-CUP 2014\n - AMVF0392  Combine 
 Race de 10 a 13ans au 31/12/2012 (Pou/Ben) Filles\n  PROMO J  WAOULAND-CUP 
 2014\n - AMVM0392  Combine Race de 10 a 13ans au 31/12/2012 (Pou/Ben) Garço
 ns\n  PROMO J  WAOULAND-CUP 2014 Cet évènement a été importé depuis :https:
 //skivosges.net/agenda/a-venir/detailevenement/112/-/promo-j-waouland-cup-2
 014?tmpl=component
X-ALT-DESC;FMTTYPE=text/html:<strong>Promo J  WAOULAND-CUP 2014</strong><br /><br />Lieu : LA BRESSE <br
  />Piste : GRANDES GUEULES<br />Organisateur : LA BRESSAUDE SECTION SKI  <s
 mall>(14024 LA BRESSAUDE SECTION SKI)</small><br />Email : <!-- Cette adres
 se électronique est protégée contre les robots spammeurs. --><span class="c
 loaked_email ep_142fe727"><span data-ep-a="&#121;&#100;&#111;" data-ep-b="&
 #114;"><span data-ep-a="&#100;&#105;&#110;" data-ep-b="&#101;&#46;&#102;"><
 span data-ep-b="&#97;&#110;g" data-ep-a="&#64;or"></span></span></span></sp
 an><script>RegularLabs.EmailProtector.unCloak("ep_142fe727");</script><br /
 >Telecopie : 0329255100<br /><br />Inscriptions closes, tirage des dossards
  en cours<ul type="disc"><li>AMVF0391  Combine Race <nobr>U8+U10</nobr> Fil
 les<br />&nbsp;&nbsp;PROMO J  WAOULAND-CUP 2014</li><li>AMVM0391  Combine R
 ace <nobr>U8+U10</nobr> Garçons<br />&nbsp;&nbsp;PROMO J  WAOULAND-CUP 2014
 </li><li>AMVF0392  Combine Race <nobr>de 10 a 13ans au 31/12/2012 (Pou/Ben)
 </nobr> Filles<br />&nbsp;&nbsp;PROMO J  WAOULAND-CUP 2014</li><li>AMVM0392
   Combine Race <nobr>de 10 a 13ans au 31/12/2012 (Pou/Ben)</nobr> Garçons<b
 r />&nbsp;&nbsp;PROMO J  WAOULAND-CUP 2014</li></ul> <a href="https://skivo
 sges.net/agenda/a-venir/detailevenement/112/-/promo-j-waouland-cup-2014?tmp
 l=component">Cet évènement a été importé depuis :https://skivosges.net/agen
 da/a-venir/detailevenement/112/-/promo-j-waouland-cup-2014?tmpl=component</
 a>DTSTAMP:20260424T011249
DTSTART;TZID=Europe/Paris:20140201T080000
DTEND;TZID=Europe/Paris:20140201T170000
SEQUENCE:0
TRANSP:OPAQUE
END:VEVENT
END:VCALENDAR