BEGIN:VCALENDAR
VERSION:2.0
PRODID:-//jEvents 2.0 for Joomla//EN
CALSCALE:GREGORIAN
METHOD:PUBLISH
BEGIN:VTIMEZONE
TZID:Europe/Paris
BEGIN:STANDARD
DTSTART:20180118T000000
RDATE:20180325T030000
TZOFFSETFROM:+0200
TZOFFSETTO:+0100
TZNAME:Europe/Paris CET
END:STANDARD
BEGIN:STANDARD
DTSTART:20181028T020000
RDATE:20190331T030000
TZOFFSETFROM:+0200
TZOFFSETTO:+0100
TZNAME:Europe/Paris CET
END:STANDARD
BEGIN:STANDARD
DTSTART:20191027T020000
RDATE:20200329T030000
TZOFFSETFROM:+0200
TZOFFSETTO:+0100
TZNAME:Europe/Paris CET
END:STANDARD
BEGIN:STANDARD
DTSTART:20201025T020000
RDATE:20210328T030000
TZOFFSETFROM:+0200
TZOFFSETTO:+0100
TZNAME:Europe/Paris CET
END:STANDARD
BEGIN:STANDARD
DTSTART:20211031T020000
RDATE:20220327T030000
TZOFFSETFROM:+0200
TZOFFSETTO:+0100
TZNAME:Europe/Paris CET
END:STANDARD
BEGIN:STANDARD
DTSTART:20221030T020000
RDATE:20230326T030000
TZOFFSETFROM:+0200
TZOFFSETTO:+0100
TZNAME:Europe/Paris CET
END:STANDARD
BEGIN:STANDARD
DTSTART:20231029T020000
RDATE:20240331T030000
TZOFFSETFROM:+0200
TZOFFSETTO:+0100
TZNAME:Europe/Paris CET
END:STANDARD
BEGIN:STANDARD
DTSTART:20241027T020000
RDATE:20250330T030000
TZOFFSETFROM:+0200
TZOFFSETTO:+0100
TZNAME:Europe/Paris CET
END:STANDARD
BEGIN:STANDARD
DTSTART:20251026T020000
RDATE:20260329T030000
TZOFFSETFROM:+0200
TZOFFSETTO:+0100
TZNAME:Europe/Paris CET
END:STANDARD
BEGIN:STANDARD
DTSTART:20261025T020000
RDATE:20270328T030000
TZOFFSETFROM:+0200
TZOFFSETTO:+0100
TZNAME:Europe/Paris CET
END:STANDARD
BEGIN:DAYLIGHT
DTSTART:20180325T030000
RDATE:20181028T020000
TZOFFSETFROM:+0100
TZOFFSETTO:+0200
TZNAME:Europe/Paris CEST
END:DAYLIGHT
BEGIN:DAYLIGHT
DTSTART:20190331T030000
RDATE:20191027T020000
TZOFFSETFROM:+0100
TZOFFSETTO:+0200
TZNAME:Europe/Paris CEST
END:DAYLIGHT
BEGIN:DAYLIGHT
DTSTART:20200329T030000
RDATE:20201025T020000
TZOFFSETFROM:+0100
TZOFFSETTO:+0200
TZNAME:Europe/Paris CEST
END:DAYLIGHT
BEGIN:DAYLIGHT
DTSTART:20210328T030000
RDATE:20211031T020000
TZOFFSETFROM:+0100
TZOFFSETTO:+0200
TZNAME:Europe/Paris CEST
END:DAYLIGHT
BEGIN:DAYLIGHT
DTSTART:20220327T030000
RDATE:20221030T020000
TZOFFSETFROM:+0100
TZOFFSETTO:+0200
TZNAME:Europe/Paris CEST
END:DAYLIGHT
BEGIN:DAYLIGHT
DTSTART:20230326T030000
RDATE:20231029T020000
TZOFFSETFROM:+0100
TZOFFSETTO:+0200
TZNAME:Europe/Paris CEST
END:DAYLIGHT
BEGIN:DAYLIGHT
DTSTART:20240331T030000
RDATE:20241027T020000
TZOFFSETFROM:+0100
TZOFFSETTO:+0200
TZNAME:Europe/Paris CEST
END:DAYLIGHT
BEGIN:DAYLIGHT
DTSTART:20250330T030000
RDATE:20251026T020000
TZOFFSETFROM:+0100
TZOFFSETTO:+0200
TZNAME:Europe/Paris CEST
END:DAYLIGHT
BEGIN:DAYLIGHT
DTSTART:20260329T030000
RDATE:20261025T020000
TZOFFSETFROM:+0100
TZOFFSETTO:+0200
TZNAME:Europe/Paris CEST
END:DAYLIGHT
END:VTIMEZONE
BEGIN:VEVENT
UID:867674b54e668c2b622f9a5bb763c56f
CATEGORIES:Compétition Biathlon
CREATED:20181114T121858
SUMMARY:Biathlon Régional Crédit Mutuel Championnats des Vosges
URL;VALUE=URI:https://skivosges.net/agenda/a-venir/detailevenement/1131/-/biathlon-region
 al-credit-mutuel-championnats-des-vosges?tmpl=component
DESCRIPTION:<!-- #gskiepreuve code généré par le plugin jevents pour GskiEpreuves. Ne p
 as modifier cette ligne, ni tout le contenu suivant  #gskiepreuve --><div c
 lass="gski-evenement_infos"><div class="gski-evenement-nom">Biathlon Région
 al Crédit Mutuel Championnats des Vosges</div><div class="gski-evenement-re
 port"></div><ul class="gski-evenement-liste-infos"><li>Codex évenement BMVT
 0030</li><li>Station : LA BRESSE LA TENINE</li><li>Organisateur : 14486 BAS
 SE SUR LE RUPT SKI NORDIQUE</li><li>Courriel : <!-- Cette adresse électroni
 que est protégée contre les robots spammeurs. --><span class="cloaked_email
  ep_0090e5c9"><span data-ep-a="&#114;&#101;&#109;y" data-ep-b="m"><span dat
 a-ep-b="l.&#99;&#111;" data-ep-a="&#97;l&#97;i"><span data-ep-a="&#110;8&#5
 6;&#64;" data-ep-b="g&#109;a&#105;"></span></span></span></span><script>Reg
 ularLabs.EmailProtector.unCloak("ep_0090e5c9");</script></li></ul><div clas
 s="gski-evenement-infos-2"><div class="gski-evenement-info-inscriptions"><d
 iv class="gski-evenement-inscriptions-periodes">Période d'inscription à l'e
 vènement du lundi 14 janvier 2019 à 22:00 au vendredi 18 janvier 2019 à 12:
 00 <span class="gski-evenement-inscriptions-impossibles">(Inscriptions impo
 ssibles).</span><div class="gski-evenement-inscriptions-types-titres">Inscr
 iptions ouvertes aux detenteurs des titres Fédéraux valides suivants : Lice
 nciés Compétiteurs</div></div></div><div class="gski-evenement-epreuves"><d
 iv class="gski-evenement-epreuves-titres">Epreuves :</div><ul class="gski-e
 venement-epreuves-list"><li><div class="gski-epreuve-date">Le samedi 19 jan
 vier 2019</div><ul class="gski-epreuve-liste-infos"><li>Codex épreuve BMVF0
 031</li><li>Individuel</li><li>Catégorie(s) : U13 (Filles)</li></ul></li><l
 i><div class="gski-epreuve-date">Le samedi 19 janvier 2019</div><ul class="
 gski-epreuve-liste-infos"><li>Codex épreuve BMVM0031</li><li>Individuel</li
 ><li>Catégorie(s) : U13 (Garçons)</li></ul></li><li><div class="gski-epreuv
 e-date">Le samedi 19 janvier 2019</div><ul class="gski-epreuve-liste-infos"
 ><li>Codex épreuve BMVF0032</li><li>Individuel</li><li>Catégorie(s) : U15 (
 Filles)</li></ul></li><li><div class="gski-epreuve-date">Le samedi 19 janvi
 er 2019</div><ul class="gski-epreuve-liste-infos"><li>Codex épreuve BMVM003
 2</li><li>Individuel</li><li>Catégorie(s) : U15 (Garçons)</li></ul></li><li
 ><div class="gski-epreuve-date">Le samedi 19 janvier 2019</div><ul class="g
 ski-epreuve-liste-infos"><li>Codex épreuve BMVF0033</li><li>Individuel</li>
 <li>Catégorie(s) : U17 a SEN (Dames)</li></ul></li><li><div class="gski-epr
 euve-date">Le samedi 19 janvier 2019</div><ul class="gski-epreuve-liste-inf
 os"><li>Codex épreuve BMVM0033</li><li>Individuel</li><li>Catégorie(s) : U1
 7 a SEN (Hommes)</li></ul></li></ul></div><div class="gskiepreuves-links"><
 ul><li><a href="/index.php?option=com_jevents&task=icalevent.detail&evid=11
 26&Itemid=6289">Voir les informations dans l'agenda...</a></li><li><a href=
 "/index.php?option=com_gskiepreuves&view=afficheresultats&format_option=tou
 s&filter[search]=BMVT0030&filter[date_debut]=19-01-2019&filter[date_fin]=19
 -01-2019&code_activite=BIATH&Itemid=6289">Vers les résultats...</a></li></u
 l></div></div"><!-- #/gskiepreuve fin du dode généré par le plugin jevents 
 pour GskiEpreuves. . Ne pas modifier cette ligne, ni tout le contenu préced
 ant.  #/gskiepreuve --> <a href="https://skivosges.net/agenda/a-venir/detai
 levenement/1131/-/biathlon-regional-credit-mutuel-championnats-des-vosges?t
 mpl=component">Cet évènement a été importé depuis :https://skivosges.net/ag
 enda/a-venir/detailevenement/1131/-/biathlon-regional-credit-mutuel-champio
 nnats-des-vosges?tmpl=component</a>
X-ALT-DESC;FMTTYPE=text/html:<!-- #gskiepreuve code généré par le plugin jevents pour GskiEpreuves. Ne p
 as modifier cette ligne, ni tout le contenu suivant  #gskiepreuve --><div c
 lass="gski-evenement_infos"><div class="gski-evenement-nom">Biathlon Région
 al Crédit Mutuel Championnats des Vosges</div><div class="gski-evenement-re
 port"></div><ul class="gski-evenement-liste-infos"><li>Codex évenement BMVT
 0030</li><li>Station : LA BRESSE LA TENINE</li><li>Organisateur : 14486 BAS
 SE SUR LE RUPT SKI NORDIQUE</li><li>Courriel : <!-- Cette adresse électroni
 que est protégée contre les robots spammeurs. --><span class="cloaked_email
  ep_0090e5c9"><span data-ep-a="&#114;&#101;&#109;y" data-ep-b="m"><span dat
 a-ep-b="l.&#99;&#111;" data-ep-a="&#97;l&#97;i"><span data-ep-a="&#110;8&#5
 6;&#64;" data-ep-b="g&#109;a&#105;"></span></span></span></span><script>Reg
 ularLabs.EmailProtector.unCloak("ep_0090e5c9");</script></li></ul><div clas
 s="gski-evenement-infos-2"><div class="gski-evenement-info-inscriptions"><d
 iv class="gski-evenement-inscriptions-periodes">Période d'inscription à l'e
 vènement du lundi 14 janvier 2019 à 22:00 au vendredi 18 janvier 2019 à 12:
 00 <span class="gski-evenement-inscriptions-impossibles">(Inscriptions impo
 ssibles).</span><div class="gski-evenement-inscriptions-types-titres">Inscr
 iptions ouvertes aux detenteurs des titres Fédéraux valides suivants : Lice
 nciés Compétiteurs</div></div></div><div class="gski-evenement-epreuves"><d
 iv class="gski-evenement-epreuves-titres">Epreuves :</div><ul class="gski-e
 venement-epreuves-list"><li><div class="gski-epreuve-date">Le samedi 19 jan
 vier 2019</div><ul class="gski-epreuve-liste-infos"><li>Codex épreuve BMVF0
 031</li><li>Individuel</li><li>Catégorie(s) : U13 (Filles)</li></ul></li><l
 i><div class="gski-epreuve-date">Le samedi 19 janvier 2019</div><ul class="
 gski-epreuve-liste-infos"><li>Codex épreuve BMVM0031</li><li>Individuel</li
 ><li>Catégorie(s) : U13 (Garçons)</li></ul></li><li><div class="gski-epreuv
 e-date">Le samedi 19 janvier 2019</div><ul class="gski-epreuve-liste-infos"
 ><li>Codex épreuve BMVF0032</li><li>Individuel</li><li>Catégorie(s) : U15 (
 Filles)</li></ul></li><li><div class="gski-epreuve-date">Le samedi 19 janvi
 er 2019</div><ul class="gski-epreuve-liste-infos"><li>Codex épreuve BMVM003
 2</li><li>Individuel</li><li>Catégorie(s) : U15 (Garçons)</li></ul></li><li
 ><div class="gski-epreuve-date">Le samedi 19 janvier 2019</div><ul class="g
 ski-epreuve-liste-infos"><li>Codex épreuve BMVF0033</li><li>Individuel</li>
 <li>Catégorie(s) : U17 a SEN (Dames)</li></ul></li><li><div class="gski-epr
 euve-date">Le samedi 19 janvier 2019</div><ul class="gski-epreuve-liste-inf
 os"><li>Codex épreuve BMVM0033</li><li>Individuel</li><li>Catégorie(s) : U1
 7 a SEN (Hommes)</li></ul></li></ul></div><div class="gskiepreuves-links"><
 ul><li><a href="https://skivosges.net/index.php?option=com_jevents&task=ica
 levent.detail&evid=1126&Itemid=6289">Voir les informations dans l'agenda...
 </a></li><li><a href="https://skivosges.net/index.php?option=com_gskiepreuv
 es&view=afficheresultats&format_option=tous&filter[search]=BMVT0030&filter[
 date_debut]=19-01-2019&filter[date_fin]=19-01-2019&code_activite=BIATH&Item
 id=6289">Vers les résultats...</a></li></ul></div></div"><!-- #/gskiepreuve
  fin du dode généré par le plugin jevents pour GskiEpreuves. . Ne pas modif
 ier cette ligne, ni tout le contenu précedant.  #/gskiepreuve --> <a href="
 https://skivosges.net/agenda/a-venir/detailevenement/1131/-/biathlon-region
 al-credit-mutuel-championnats-des-vosges?tmpl=component">Cet évènement a ét
 é importé depuis :https://skivosges.net/agenda/a-venir/detailevenement/1131
 /-/biathlon-regional-credit-mutuel-championnats-des-vosges?tmpl=component</
 a>DTSTAMP:20260423T133138
DTSTART;TZID=Europe/Paris;VALUE=DATE:20190119
DTEND;TZID=Europe/Paris;VALUE=DATE:20190120
SEQUENCE:0
TRANSP:OPAQUE
END:VEVENT
END:VCALENDAR