BEGIN:VCALENDAR
VERSION:2.0
PRODID:-//jEvents 2.0 for Joomla//EN
CALSCALE:GREGORIAN
METHOD:PUBLISH
BEGIN:VTIMEZONE
TZID:Europe/Paris
BEGIN:STANDARD
DTSTART:20130201T080000
RDATE:20130331T030000
TZOFFSETFROM:+0200
TZOFFSETTO:+0100
TZNAME:Europe/Paris CET
END:STANDARD
BEGIN:STANDARD
DTSTART:20131027T020000
RDATE:20140330T030000
TZOFFSETFROM:+0200
TZOFFSETTO:+0100
TZNAME:Europe/Paris CET
END:STANDARD
BEGIN:STANDARD
DTSTART:20141026T020000
RDATE:20150329T030000
TZOFFSETFROM:+0200
TZOFFSETTO:+0100
TZNAME:Europe/Paris CET
END:STANDARD
BEGIN:STANDARD
DTSTART:20151025T020000
RDATE:20160327T030000
TZOFFSETFROM:+0200
TZOFFSETTO:+0100
TZNAME:Europe/Paris CET
END:STANDARD
BEGIN:STANDARD
DTSTART:20161030T020000
RDATE:20170326T030000
TZOFFSETFROM:+0200
TZOFFSETTO:+0100
TZNAME:Europe/Paris CET
END:STANDARD
BEGIN:STANDARD
DTSTART:20171029T020000
RDATE:20180325T030000
TZOFFSETFROM:+0200
TZOFFSETTO:+0100
TZNAME:Europe/Paris CET
END:STANDARD
BEGIN:STANDARD
DTSTART:20181028T020000
RDATE:20190331T030000
TZOFFSETFROM:+0200
TZOFFSETTO:+0100
TZNAME:Europe/Paris CET
END:STANDARD
BEGIN:STANDARD
DTSTART:20191027T020000
RDATE:20200329T030000
TZOFFSETFROM:+0200
TZOFFSETTO:+0100
TZNAME:Europe/Paris CET
END:STANDARD
BEGIN:STANDARD
DTSTART:20201025T020000
RDATE:20210328T030000
TZOFFSETFROM:+0200
TZOFFSETTO:+0100
TZNAME:Europe/Paris CET
END:STANDARD
BEGIN:STANDARD
DTSTART:20211031T020000
RDATE:20220327T030000
TZOFFSETFROM:+0200
TZOFFSETTO:+0100
TZNAME:Europe/Paris CET
END:STANDARD
BEGIN:STANDARD
DTSTART:20221030T020000
RDATE:20230326T030000
TZOFFSETFROM:+0200
TZOFFSETTO:+0100
TZNAME:Europe/Paris CET
END:STANDARD
BEGIN:STANDARD
DTSTART:20231029T020000
RDATE:20240331T030000
TZOFFSETFROM:+0200
TZOFFSETTO:+0100
TZNAME:Europe/Paris CET
END:STANDARD
BEGIN:STANDARD
DTSTART:20241027T020000
RDATE:20250330T030000
TZOFFSETFROM:+0200
TZOFFSETTO:+0100
TZNAME:Europe/Paris CET
END:STANDARD
BEGIN:STANDARD
DTSTART:20251026T020000
RDATE:20260329T030000
TZOFFSETFROM:+0200
TZOFFSETTO:+0100
TZNAME:Europe/Paris CET
END:STANDARD
BEGIN:STANDARD
DTSTART:20261025T020000
RDATE:20270328T030000
TZOFFSETFROM:+0200
TZOFFSETTO:+0100
TZNAME:Europe/Paris CET
END:STANDARD
BEGIN:DAYLIGHT
DTSTART:20130331T030000
RDATE:20131027T020000
TZOFFSETFROM:+0100
TZOFFSETTO:+0200
TZNAME:Europe/Paris CEST
END:DAYLIGHT
BEGIN:DAYLIGHT
DTSTART:20140330T030000
RDATE:20141026T020000
TZOFFSETFROM:+0100
TZOFFSETTO:+0200
TZNAME:Europe/Paris CEST
END:DAYLIGHT
BEGIN:DAYLIGHT
DTSTART:20150329T030000
RDATE:20151025T020000
TZOFFSETFROM:+0100
TZOFFSETTO:+0200
TZNAME:Europe/Paris CEST
END:DAYLIGHT
BEGIN:DAYLIGHT
DTSTART:20160327T030000
RDATE:20161030T020000
TZOFFSETFROM:+0100
TZOFFSETTO:+0200
TZNAME:Europe/Paris CEST
END:DAYLIGHT
BEGIN:DAYLIGHT
DTSTART:20170326T030000
RDATE:20171029T020000
TZOFFSETFROM:+0100
TZOFFSETTO:+0200
TZNAME:Europe/Paris CEST
END:DAYLIGHT
BEGIN:DAYLIGHT
DTSTART:20180325T030000
RDATE:20181028T020000
TZOFFSETFROM:+0100
TZOFFSETTO:+0200
TZNAME:Europe/Paris CEST
END:DAYLIGHT
BEGIN:DAYLIGHT
DTSTART:20190331T030000
RDATE:20191027T020000
TZOFFSETFROM:+0100
TZOFFSETTO:+0200
TZNAME:Europe/Paris CEST
END:DAYLIGHT
BEGIN:DAYLIGHT
DTSTART:20200329T030000
RDATE:20201025T020000
TZOFFSETFROM:+0100
TZOFFSETTO:+0200
TZNAME:Europe/Paris CEST
END:DAYLIGHT
BEGIN:DAYLIGHT
DTSTART:20210328T030000
RDATE:20211031T020000
TZOFFSETFROM:+0100
TZOFFSETTO:+0200
TZNAME:Europe/Paris CEST
END:DAYLIGHT
BEGIN:DAYLIGHT
DTSTART:20220327T030000
RDATE:20221030T020000
TZOFFSETFROM:+0100
TZOFFSETTO:+0200
TZNAME:Europe/Paris CEST
END:DAYLIGHT
BEGIN:DAYLIGHT
DTSTART:20230326T030000
RDATE:20231029T020000
TZOFFSETFROM:+0100
TZOFFSETTO:+0200
TZNAME:Europe/Paris CEST
END:DAYLIGHT
BEGIN:DAYLIGHT
DTSTART:20240331T030000
RDATE:20241027T020000
TZOFFSETFROM:+0100
TZOFFSETTO:+0200
TZNAME:Europe/Paris CEST
END:DAYLIGHT
BEGIN:DAYLIGHT
DTSTART:20250330T030000
RDATE:20251026T020000
TZOFFSETFROM:+0100
TZOFFSETTO:+0200
TZNAME:Europe/Paris CEST
END:DAYLIGHT
BEGIN:DAYLIGHT
DTSTART:20260329T030000
RDATE:20261025T020000
TZOFFSETFROM:+0100
TZOFFSETTO:+0200
TZNAME:Europe/Paris CEST
END:DAYLIGHT
END:VTIMEZONE
BEGIN:VEVENT
UID:248f607d915a30f3c493471d75febd48
CATEGORIES:Circuit Massif Adultes (alpin)
CREATED:20131203T122100
SUMMARY:GPA        GP Zingle / Qualif Cp de la Fédération  **REPORTE**
URL;VALUE=URI:https://skivosges.net/agenda/a-venir/detailevenement/115/-/gpa-gp-zingle-qu
 alif-cp-de-la-federation-reporte?tmpl=component
DESCRIPTION:GPA        GP Zingle / Qualif Cp de la Fédération  (Epreuve reportée, date 
 à determiner) \n(Grand Prix Adultes)\n\nLieu : SCHNEPFENRIED \nOrganisateur
  : SKIEURS DU TANET  (14199 SKIEURS DU TANET)\nEmail : RegularLabs.EmailPro
 tector.unCloak("ep_562e3284");\n - AMVF0421  Slalom (Coupe de la Federation
 ) U16-&gt;Mas (Min à Mast/Vet) Dames\n  GPA        GP Zingle / Qualif Cp de
  la Fédération  Cet évènement a été importé depuis :https://skivosges.net/a
 genda/a-venir/detailevenement/115/-/gpa-gp-zingle-qualif-cp-de-la-federatio
 n-reporte?tmpl=component
X-ALT-DESC;FMTTYPE=text/html:<strong>GPA        GP Zingle / Qualif Cp de la Fédération </strong> <font c
 lass="attention4">(Epreuve reportée, date à determiner)</font> <br /><i>(Gr
 and Prix Adultes)</i><br /><br />Lieu : SCHNEPFENRIED <br />Organisateur : 
 SKIEURS DU TANET  <small>(14199 SKIEURS DU TANET)</small><br />Email : <!--
  Cette adresse électronique est protégée contre les robots spammeurs. --><s
 pan class="cloaked_email ep_562e3284"><span data-ep-a="mar&#99;" data-ep-b=
 "&#114;"><span data-ep-b="&#101;&#101;&#46;f" data-ep-a="h&#97;&#110;&#100;
 "><span data-ep-a="c&#97;&#112;&#104;" data-ep-b="&#105;&#64;&#102;&#114;">
 </span></span></span></span><script>RegularLabs.EmailProtector.unCloak("ep_
 562e3284");</script><ul type="disc"><li>AMVF0421  Slalom <nobr><i>(Coupe de
  la Federation)</i></nobr> <nobr>U16->Mas (Min à Mast/Vet)</nobr> Dames<br 
 />&nbsp;&nbsp;GPA        GP Zingle / Qualif Cp de la Fédération </li></ul> 
 <a href="https://skivosges.net/agenda/a-venir/detailevenement/115/-/gpa-gp-
 zingle-qualif-cp-de-la-federation-reporte?tmpl=component">Cet évènement a é
 té importé depuis :https://skivosges.net/agenda/a-venir/detailevenement/115
 /-/gpa-gp-zingle-qualif-cp-de-la-federation-reporte?tmpl=component</a>DTSTAMP:20260424T030532
DTSTART;TZID=Europe/Paris:20140202T080000
DTEND;TZID=Europe/Paris:20140202T170000
SEQUENCE:0
TRANSP:OPAQUE
END:VEVENT
END:VCALENDAR