BEGIN:VCALENDAR
VERSION:2.0
PRODID:-//jEvents 2.0 for Joomla//EN
CALSCALE:GREGORIAN
METHOD:PUBLISH
BEGIN:VTIMEZONE
TZID:Europe/Paris
BEGIN:STANDARD
DTSTART:20180201T000000
RDATE:20180325T030000
TZOFFSETFROM:+0200
TZOFFSETTO:+0100
TZNAME:Europe/Paris CET
END:STANDARD
BEGIN:STANDARD
DTSTART:20181028T020000
RDATE:20190331T030000
TZOFFSETFROM:+0200
TZOFFSETTO:+0100
TZNAME:Europe/Paris CET
END:STANDARD
BEGIN:STANDARD
DTSTART:20191027T020000
RDATE:20200329T030000
TZOFFSETFROM:+0200
TZOFFSETTO:+0100
TZNAME:Europe/Paris CET
END:STANDARD
BEGIN:STANDARD
DTSTART:20201025T020000
RDATE:20210328T030000
TZOFFSETFROM:+0200
TZOFFSETTO:+0100
TZNAME:Europe/Paris CET
END:STANDARD
BEGIN:STANDARD
DTSTART:20211031T020000
RDATE:20220327T030000
TZOFFSETFROM:+0200
TZOFFSETTO:+0100
TZNAME:Europe/Paris CET
END:STANDARD
BEGIN:STANDARD
DTSTART:20221030T020000
RDATE:20230326T030000
TZOFFSETFROM:+0200
TZOFFSETTO:+0100
TZNAME:Europe/Paris CET
END:STANDARD
BEGIN:STANDARD
DTSTART:20231029T020000
RDATE:20240331T030000
TZOFFSETFROM:+0200
TZOFFSETTO:+0100
TZNAME:Europe/Paris CET
END:STANDARD
BEGIN:STANDARD
DTSTART:20241027T020000
RDATE:20250330T030000
TZOFFSETFROM:+0200
TZOFFSETTO:+0100
TZNAME:Europe/Paris CET
END:STANDARD
BEGIN:STANDARD
DTSTART:20251026T020000
RDATE:20260329T030000
TZOFFSETFROM:+0200
TZOFFSETTO:+0100
TZNAME:Europe/Paris CET
END:STANDARD
BEGIN:STANDARD
DTSTART:20261025T020000
RDATE:20270328T030000
TZOFFSETFROM:+0200
TZOFFSETTO:+0100
TZNAME:Europe/Paris CET
END:STANDARD
BEGIN:DAYLIGHT
DTSTART:20180325T030000
RDATE:20181028T020000
TZOFFSETFROM:+0100
TZOFFSETTO:+0200
TZNAME:Europe/Paris CEST
END:DAYLIGHT
BEGIN:DAYLIGHT
DTSTART:20190331T030000
RDATE:20191027T020000
TZOFFSETFROM:+0100
TZOFFSETTO:+0200
TZNAME:Europe/Paris CEST
END:DAYLIGHT
BEGIN:DAYLIGHT
DTSTART:20200329T030000
RDATE:20201025T020000
TZOFFSETFROM:+0100
TZOFFSETTO:+0200
TZNAME:Europe/Paris CEST
END:DAYLIGHT
BEGIN:DAYLIGHT
DTSTART:20210328T030000
RDATE:20211031T020000
TZOFFSETFROM:+0100
TZOFFSETTO:+0200
TZNAME:Europe/Paris CEST
END:DAYLIGHT
BEGIN:DAYLIGHT
DTSTART:20220327T030000
RDATE:20221030T020000
TZOFFSETFROM:+0100
TZOFFSETTO:+0200
TZNAME:Europe/Paris CEST
END:DAYLIGHT
BEGIN:DAYLIGHT
DTSTART:20230326T030000
RDATE:20231029T020000
TZOFFSETFROM:+0100
TZOFFSETTO:+0200
TZNAME:Europe/Paris CEST
END:DAYLIGHT
BEGIN:DAYLIGHT
DTSTART:20240331T030000
RDATE:20241027T020000
TZOFFSETFROM:+0100
TZOFFSETTO:+0200
TZNAME:Europe/Paris CEST
END:DAYLIGHT
BEGIN:DAYLIGHT
DTSTART:20250330T030000
RDATE:20251026T020000
TZOFFSETFROM:+0100
TZOFFSETTO:+0200
TZNAME:Europe/Paris CEST
END:DAYLIGHT
BEGIN:DAYLIGHT
DTSTART:20260329T030000
RDATE:20261025T020000
TZOFFSETFROM:+0100
TZOFFSETTO:+0200
TZNAME:Europe/Paris CEST
END:DAYLIGHT
END:VTIMEZONE
BEGIN:VEVENT
UID:8b3dedcd342372a611e924136a826f5d
CATEGORIES:Compétition Saut
CREATED:20181114T121858
SUMMARY:CHAMPIONNATS DE FRANCE U17
URL;VALUE=URI:https://skivosges.net/agenda/a-venir/detailevenement/1153/-/championnats-de
 -france-u17?tmpl=component
DESCRIPTION:CHAMPIONNATS DE FRANCE U17\n - Codex évenement TNAT0060\n - Station : GERAR
 DMER\n - Organisateur : 14469 A.S GERARDMER SKI NORDIQUE\n - Courriel : Reg
 ularLabs.EmailProtector.unCloak("ep_337c62ad");\n - Téléphone : 0329632950\
 n - Télécopie : 0329634711Période d'inscription à l'evènement du samedi 26 
 janvier 2019 à 00:00 au jeudi 31 janvier 2019 à 12:00 (Inscriptions impossi
 bles).Inscriptions ouvertes aux detenteurs des titres Fédéraux valides suiv
 ants : Licenciés CompétiteursEpreuves :\n - Le samedi 02 février 2019\n - C
 odex épreuve TNAM0061\n - Saut Special\n - Catégorie(s) : U7 a U17 (Garçons
 )\n - Le samedi 02 février 2019\n - Codex épreuve TNAF0061\n - Saut Special
 \n - Catégorie(s) : U7 a U17 (Filles)\n - Le samedi 02 février 2019\n - Cod
 ex épreuve TNAM0062\n - Saut Par Equipe\n - Catégorie(s) : U7 a U17 (Garçon
 s)\n - Voir les informations dans l'agenda... (/index.php?option=com_jevent
 s&amp;task=icalevent.detail&amp;evid=1148&amp;Itemid=6289) Cet évènement a 
 été importé depuis :https://skivosges.net/agenda/a-venir/detailevenement/11
 53/-/championnats-de-france-u17?tmpl=component
X-ALT-DESC;FMTTYPE=text/html:<!-- #gskiepreuve code généré par le plugin jevents pour GskiEpreuves. Ne p
 as modifier cette ligne, ni tout le contenu suivant  #gskiepreuve --><div c
 lass="gski-evenement_infos"><div class="gski-evenement-nom">CHAMPIONNATS DE
  FRANCE U17</div><div class="gski-evenement-report"></div><ul class="gski-e
 venement-liste-infos"><li>Codex évenement TNAT0060</li><li>Station : GERARD
 MER</li><li>Organisateur : 14469 A.S GERARDMER SKI NORDIQUE</li><li>Courrie
 l : <!-- Cette adresse électronique est protégée contre les robots spammeur
 s. --><span class="cloaked_email ep_337c62ad"><span data-ep-a="&#114;&#101;
 &#103;&#105;" data-ep-b="&#46;&#102;r"><span data-ep-b="&#97;d&#111;&#111;"
  data-ep-a="s.a&#110;"><span data-ep-b="&#64;&#119;&#97;n" data-ep-a="dre&#
 54;"></span></span></span></span><script>RegularLabs.EmailProtector.unCloak
 ("ep_337c62ad");</script></li><li>Téléphone : 0329632950</li><li>Télécopie 
 : 0329634711</li></ul><div class="gski-evenement-infos-2"><div class="gski-
 evenement-info-inscriptions"><div class="gski-evenement-inscriptions-period
 es">Période d'inscription à l'evènement du samedi 26 janvier 2019 à 00:00 a
 u jeudi 31 janvier 2019 à 12:00 <span class="gski-evenement-inscriptions-im
 possibles">(Inscriptions impossibles).</span><div class="gski-evenement-ins
 criptions-types-titres">Inscriptions ouvertes aux detenteurs des titres Féd
 éraux valides suivants : Licenciés Compétiteurs</div></div></div><div class
 ="gski-evenement-epreuves"><div class="gski-evenement-epreuves-titres">Epre
 uves :</div><ul class="gski-evenement-epreuves-list"><li><div class="gski-e
 preuve-date">Le samedi 02 février 2019</div><ul class="gski-epreuve-liste-i
 nfos"><li>Codex épreuve TNAM0061</li><li>Saut Special</li><li>Catégorie(s) 
 : U7 a U17 (Garçons)</li></ul></li><li><div class="gski-epreuve-date">Le sa
 medi 02 février 2019</div><ul class="gski-epreuve-liste-infos"><li>Codex ép
 reuve TNAF0061</li><li>Saut Special</li><li>Catégorie(s) : U7 a U17 (Filles
 )</li></ul></li><li><div class="gski-epreuve-date">Le samedi 02 février 201
 9</div><ul class="gski-epreuve-liste-infos"><li>Codex épreuve TNAM0062</li>
 <li>Saut Par Equipe</li><li>Catégorie(s) : U7 a U17 (Garçons)</li></ul></li
 ></ul></div><div class="gskiepreuves-links"><ul><li><a href="https://skivos
 ges.net/index.php?option=com_jevents&task=icalevent.detail&evid=1148&Itemid
 =6289">Voir les informations dans l'agenda...</a></li></ul></div></div"><!-
 - #/gskiepreuve fin du dode généré par le plugin jevents pour GskiEpreuves.
  . Ne pas modifier cette ligne, ni tout le contenu précedant.  #/gskiepreuv
 e --> <a href="https://skivosges.net/agenda/a-venir/detailevenement/1153/-/
 championnats-de-france-u17?tmpl=component">Cet évènement a été importé depu
 is :https://skivosges.net/agenda/a-venir/detailevenement/1153/-/championnat
 s-de-france-u17?tmpl=component</a>DTSTAMP:20260423T174039
DTSTART;TZID=Europe/Paris;VALUE=DATE:20190202
DTEND;TZID=Europe/Paris;VALUE=DATE:20190204
SEQUENCE:0
TRANSP:OPAQUE
END:VEVENT
END:VCALENDAR