BEGIN:VCALENDAR
VERSION:2.0
PRODID:-//jEvents 2.0 for Joomla//EN
CALSCALE:GREGORIAN
METHOD:PUBLISH
BEGIN:VTIMEZONE
TZID:Europe/Paris
BEGIN:STANDARD
DTSTART:20180201T000000
RDATE:20180325T030000
TZOFFSETFROM:+0200
TZOFFSETTO:+0100
TZNAME:Europe/Paris CET
END:STANDARD
BEGIN:STANDARD
DTSTART:20181028T020000
RDATE:20190331T030000
TZOFFSETFROM:+0200
TZOFFSETTO:+0100
TZNAME:Europe/Paris CET
END:STANDARD
BEGIN:STANDARD
DTSTART:20191027T020000
RDATE:20200329T030000
TZOFFSETFROM:+0200
TZOFFSETTO:+0100
TZNAME:Europe/Paris CET
END:STANDARD
BEGIN:STANDARD
DTSTART:20201025T020000
RDATE:20210328T030000
TZOFFSETFROM:+0200
TZOFFSETTO:+0100
TZNAME:Europe/Paris CET
END:STANDARD
BEGIN:STANDARD
DTSTART:20211031T020000
RDATE:20220327T030000
TZOFFSETFROM:+0200
TZOFFSETTO:+0100
TZNAME:Europe/Paris CET
END:STANDARD
BEGIN:STANDARD
DTSTART:20221030T020000
RDATE:20230326T030000
TZOFFSETFROM:+0200
TZOFFSETTO:+0100
TZNAME:Europe/Paris CET
END:STANDARD
BEGIN:STANDARD
DTSTART:20231029T020000
RDATE:20240331T030000
TZOFFSETFROM:+0200
TZOFFSETTO:+0100
TZNAME:Europe/Paris CET
END:STANDARD
BEGIN:STANDARD
DTSTART:20241027T020000
RDATE:20250330T030000
TZOFFSETFROM:+0200
TZOFFSETTO:+0100
TZNAME:Europe/Paris CET
END:STANDARD
BEGIN:STANDARD
DTSTART:20251026T020000
RDATE:20260329T030000
TZOFFSETFROM:+0200
TZOFFSETTO:+0100
TZNAME:Europe/Paris CET
END:STANDARD
BEGIN:STANDARD
DTSTART:20261025T020000
RDATE:20270328T030000
TZOFFSETFROM:+0200
TZOFFSETTO:+0100
TZNAME:Europe/Paris CET
END:STANDARD
BEGIN:DAYLIGHT
DTSTART:20180325T030000
RDATE:20181028T020000
TZOFFSETFROM:+0100
TZOFFSETTO:+0200
TZNAME:Europe/Paris CEST
END:DAYLIGHT
BEGIN:DAYLIGHT
DTSTART:20190331T030000
RDATE:20191027T020000
TZOFFSETFROM:+0100
TZOFFSETTO:+0200
TZNAME:Europe/Paris CEST
END:DAYLIGHT
BEGIN:DAYLIGHT
DTSTART:20200329T030000
RDATE:20201025T020000
TZOFFSETFROM:+0100
TZOFFSETTO:+0200
TZNAME:Europe/Paris CEST
END:DAYLIGHT
BEGIN:DAYLIGHT
DTSTART:20210328T030000
RDATE:20211031T020000
TZOFFSETFROM:+0100
TZOFFSETTO:+0200
TZNAME:Europe/Paris CEST
END:DAYLIGHT
BEGIN:DAYLIGHT
DTSTART:20220327T030000
RDATE:20221030T020000
TZOFFSETFROM:+0100
TZOFFSETTO:+0200
TZNAME:Europe/Paris CEST
END:DAYLIGHT
BEGIN:DAYLIGHT
DTSTART:20230326T030000
RDATE:20231029T020000
TZOFFSETFROM:+0100
TZOFFSETTO:+0200
TZNAME:Europe/Paris CEST
END:DAYLIGHT
BEGIN:DAYLIGHT
DTSTART:20240331T030000
RDATE:20241027T020000
TZOFFSETFROM:+0100
TZOFFSETTO:+0200
TZNAME:Europe/Paris CEST
END:DAYLIGHT
BEGIN:DAYLIGHT
DTSTART:20250330T030000
RDATE:20251026T020000
TZOFFSETFROM:+0100
TZOFFSETTO:+0200
TZNAME:Europe/Paris CEST
END:DAYLIGHT
BEGIN:DAYLIGHT
DTSTART:20260329T030000
RDATE:20261025T020000
TZOFFSETFROM:+0100
TZOFFSETTO:+0200
TZNAME:Europe/Paris CEST
END:DAYLIGHT
END:VTIMEZONE
BEGIN:VEVENT
UID:0eeadc0e091a27d233777fd2672debed
CATEGORIES:Compétition Ski de Fond
CREATED:20181114T121858
SUMMARY:LA 16ème NORDIQUE DES CRETES Classique
URL;VALUE=URI:https://skivosges.net/agenda/a-venir/detailevenement/1155/-/la-16eme-nordiq
 ue-des-cretes-classique?tmpl=component
DESCRIPTION:<!-- #gskiepreuve code généré par le plugin jevents pour GskiEpreuves. Ne p
 as modifier cette ligne, ni tout le contenu suivant  #gskiepreuve --><div c
 lass="gski-evenement_infos"><div class="gski-evenement-nom">LA 16ème NORDIQ
 UE DES CRETES Classique</div><div class="gski-evenement-report"></div><ul c
 lass="gski-evenement-liste-infos"><li>Codex évenement FNAT0290</li><li>Lieu
  : LE MARKSTEIN</li><li>Organisateur : 14044 TOURING CLUB MULHOUSE</li><li>
 Courriel : <!-- Cette adresse électronique est protégée contre les robots s
 pammeurs. --><span class="cloaked_email ep_ac1eb7f1"><span data-ep-a="&#121
 ;&#118;&#101;&#115;" data-ep-b="&#116;"><span data-ep-a="&#46;&#98;o&#117;"
  data-ep-b="&#114;&#46;&#110;&#101;"><span data-ep-b="&#64;ev&#104;" data-e
 p-a="v&#105;&#101;&#114;"></span></span></span></span><script>RegularLabs.E
 mailProtector.unCloak("ep_ac1eb7f1");</script></li><li>Téléphone : 03 89 59
  55 56</li><li><span class="gski-evenement-obs">Délégué Technique : POIROT 
 ERIC</span></li></ul><div class="gski-evenement-infos-2"><div class="gski-e
 venement-info-inscriptions"><div class="gski-evenement-inscriptions-periode
 s">Période d'inscription à l'evènement du samedi 26 janvier 2019 à 00:00 au
  jeudi 31 janvier 2019 à 12:00 <span class="gski-evenement-inscriptions-imp
 ossibles">(Inscriptions impossibles).</span><div class="gski-evenement-insc
 riptions-types-titres">Inscriptions ouvertes aux detenteurs des titres Fédé
 raux valides suivants : Licenciés Compétiteurs</div></div></div><div class=
 "gski-evenement-epreuves"><div class="gski-evenement-epreuves-titres">Epreu
 ves :</div><ul class="gski-evenement-epreuves-list"><li><div class="gski-ep
 reuve-date">Le samedi 02 février 2019</div><ul class="gski-epreuve-liste-in
 fos"><li>Codex épreuve FNAF0291</li><li>Fond Populaire (depart en ligne)</l
 i><li>Catégorie(s) : U20 a M12 (Dames)</li></ul></li><li><div class="gski-e
 preuve-date">Le samedi 02 février 2019</div><ul class="gski-epreuve-liste-i
 nfos"><li>Codex épreuve FNAM0291</li><li>Fond Populaire (depart en ligne)</
 li><li>Catégorie(s) : U20 a M12 (Hommes)</li></ul></li></ul></div><div clas
 s="gskiepreuves-links"><ul><li><a href="/index.php?option=com_jevents&task=
 icalevent.detail&evid=1150&Itemid=6289">Voir les informations dans l'agenda
 ...</a></li><li><a href="/index.php?option=com_gskiepreuves&view=afficheres
 ultats&format_option=tous&filter[search]=FNAT0290&filter[date_debut]=02-02-
 2019&filter[date_fin]=02-02-2019&code_activite=FOND&Itemid=6289">Vers les r
 ésultats...</a></li><li>Publications concernant cet évènement :<ul><li><a h
 ref="/index.php?option=com_content&view=article&id=6643&Itemid=6289">Lundi 
 4 Février 2019 à 16:48 : Le 02/02/2019 LE MARKSTEIN Résultats</a></li></ul>
 </li></ul></div></div"><!-- #/gskiepreuve fin du dode généré par le plugin 
 jevents pour GskiEpreuves. . Ne pas modifier cette ligne, ni tout le conten
 u précedant.  #/gskiepreuve --> <a href="https://skivosges.net/agenda/a-ven
 ir/detailevenement/1155/-/la-16eme-nordique-des-cretes-classique?tmpl=compo
 nent">Cet évènement a été importé depuis :https://skivosges.net/agenda/a-ve
 nir/detailevenement/1155/-/la-16eme-nordique-des-cretes-classique?tmpl=comp
 onent</a>
X-ALT-DESC;FMTTYPE=text/html:<!-- #gskiepreuve code généré par le plugin jevents pour GskiEpreuves. Ne p
 as modifier cette ligne, ni tout le contenu suivant  #gskiepreuve --><div c
 lass="gski-evenement_infos"><div class="gski-evenement-nom">LA 16ème NORDIQ
 UE DES CRETES Classique</div><div class="gski-evenement-report"></div><ul c
 lass="gski-evenement-liste-infos"><li>Codex évenement FNAT0290</li><li>Lieu
  : LE MARKSTEIN</li><li>Organisateur : 14044 TOURING CLUB MULHOUSE</li><li>
 Courriel : <!-- Cette adresse électronique est protégée contre les robots s
 pammeurs. --><span class="cloaked_email ep_ac1eb7f1"><span data-ep-a="&#121
 ;&#118;&#101;&#115;" data-ep-b="&#116;"><span data-ep-a="&#46;&#98;o&#117;"
  data-ep-b="&#114;&#46;&#110;&#101;"><span data-ep-b="&#64;ev&#104;" data-e
 p-a="v&#105;&#101;&#114;"></span></span></span></span><script>RegularLabs.E
 mailProtector.unCloak("ep_ac1eb7f1");</script></li><li>Téléphone : 03 89 59
  55 56</li><li><span class="gski-evenement-obs">Délégué Technique : POIROT 
 ERIC</span></li></ul><div class="gski-evenement-infos-2"><div class="gski-e
 venement-info-inscriptions"><div class="gski-evenement-inscriptions-periode
 s">Période d'inscription à l'evènement du samedi 26 janvier 2019 à 00:00 au
  jeudi 31 janvier 2019 à 12:00 <span class="gski-evenement-inscriptions-imp
 ossibles">(Inscriptions impossibles).</span><div class="gski-evenement-insc
 riptions-types-titres">Inscriptions ouvertes aux detenteurs des titres Fédé
 raux valides suivants : Licenciés Compétiteurs</div></div></div><div class=
 "gski-evenement-epreuves"><div class="gski-evenement-epreuves-titres">Epreu
 ves :</div><ul class="gski-evenement-epreuves-list"><li><div class="gski-ep
 reuve-date">Le samedi 02 février 2019</div><ul class="gski-epreuve-liste-in
 fos"><li>Codex épreuve FNAF0291</li><li>Fond Populaire (depart en ligne)</l
 i><li>Catégorie(s) : U20 a M12 (Dames)</li></ul></li><li><div class="gski-e
 preuve-date">Le samedi 02 février 2019</div><ul class="gski-epreuve-liste-i
 nfos"><li>Codex épreuve FNAM0291</li><li>Fond Populaire (depart en ligne)</
 li><li>Catégorie(s) : U20 a M12 (Hommes)</li></ul></li></ul></div><div clas
 s="gskiepreuves-links"><ul><li><a href="https://skivosges.net/index.php?opt
 ion=com_jevents&task=icalevent.detail&evid=1150&Itemid=6289">Voir les infor
 mations dans l'agenda...</a></li><li><a href="https://skivosges.net/index.p
 hp?option=com_gskiepreuves&view=afficheresultats&format_option=tous&filter[
 search]=FNAT0290&filter[date_debut]=02-02-2019&filter[date_fin]=02-02-2019&
 code_activite=FOND&Itemid=6289">Vers les résultats...</a></li><li>Publicati
 ons concernant cet évènement :<ul><li><a href="https://skivosges.net/index.
 php?option=com_content&view=article&id=6643&Itemid=6289">Lundi 4 Février 20
 19 à 16:48 : Le 02/02/2019 LE MARKSTEIN Résultats</a></li></ul></li></ul></
 div></div"><!-- #/gskiepreuve fin du dode généré par le plugin jevents pour
  GskiEpreuves. . Ne pas modifier cette ligne, ni tout le contenu précedant.
   #/gskiepreuve --> <a href="https://skivosges.net/agenda/a-venir/detaileve
 nement/1155/-/la-16eme-nordique-des-cretes-classique?tmpl=component">Cet év
 ènement a été importé depuis :https://skivosges.net/agenda/a-venir/detailev
 enement/1155/-/la-16eme-nordique-des-cretes-classique?tmpl=component</a>DTSTAMP:20260423T175128
DTSTART;TZID=Europe/Paris;VALUE=DATE:20190202
DTEND;TZID=Europe/Paris;VALUE=DATE:20190203
SEQUENCE:0
TRANSP:OPAQUE
END:VEVENT
END:VCALENDAR