BEGIN:VCALENDAR
VERSION:2.0
PRODID:-//jEvents 2.0 for Joomla//EN
CALSCALE:GREGORIAN
METHOD:PUBLISH
BEGIN:VTIMEZONE
TZID:Europe/Paris
BEGIN:STANDARD
DTSTART:20180201T000000
RDATE:20180325T030000
TZOFFSETFROM:+0200
TZOFFSETTO:+0100
TZNAME:Europe/Paris CET
END:STANDARD
BEGIN:STANDARD
DTSTART:20181028T020000
RDATE:20190331T030000
TZOFFSETFROM:+0200
TZOFFSETTO:+0100
TZNAME:Europe/Paris CET
END:STANDARD
BEGIN:STANDARD
DTSTART:20191027T020000
RDATE:20200329T030000
TZOFFSETFROM:+0200
TZOFFSETTO:+0100
TZNAME:Europe/Paris CET
END:STANDARD
BEGIN:STANDARD
DTSTART:20201025T020000
RDATE:20210328T030000
TZOFFSETFROM:+0200
TZOFFSETTO:+0100
TZNAME:Europe/Paris CET
END:STANDARD
BEGIN:STANDARD
DTSTART:20211031T020000
RDATE:20220327T030000
TZOFFSETFROM:+0200
TZOFFSETTO:+0100
TZNAME:Europe/Paris CET
END:STANDARD
BEGIN:STANDARD
DTSTART:20221030T020000
RDATE:20230326T030000
TZOFFSETFROM:+0200
TZOFFSETTO:+0100
TZNAME:Europe/Paris CET
END:STANDARD
BEGIN:STANDARD
DTSTART:20231029T020000
RDATE:20240331T030000
TZOFFSETFROM:+0200
TZOFFSETTO:+0100
TZNAME:Europe/Paris CET
END:STANDARD
BEGIN:STANDARD
DTSTART:20241027T020000
RDATE:20250330T030000
TZOFFSETFROM:+0200
TZOFFSETTO:+0100
TZNAME:Europe/Paris CET
END:STANDARD
BEGIN:STANDARD
DTSTART:20251026T020000
RDATE:20260329T030000
TZOFFSETFROM:+0200
TZOFFSETTO:+0100
TZNAME:Europe/Paris CET
END:STANDARD
BEGIN:STANDARD
DTSTART:20261025T020000
RDATE:20270328T030000
TZOFFSETFROM:+0200
TZOFFSETTO:+0100
TZNAME:Europe/Paris CET
END:STANDARD
BEGIN:DAYLIGHT
DTSTART:20180325T030000
RDATE:20181028T020000
TZOFFSETFROM:+0100
TZOFFSETTO:+0200
TZNAME:Europe/Paris CEST
END:DAYLIGHT
BEGIN:DAYLIGHT
DTSTART:20190331T030000
RDATE:20191027T020000
TZOFFSETFROM:+0100
TZOFFSETTO:+0200
TZNAME:Europe/Paris CEST
END:DAYLIGHT
BEGIN:DAYLIGHT
DTSTART:20200329T030000
RDATE:20201025T020000
TZOFFSETFROM:+0100
TZOFFSETTO:+0200
TZNAME:Europe/Paris CEST
END:DAYLIGHT
BEGIN:DAYLIGHT
DTSTART:20210328T030000
RDATE:20211031T020000
TZOFFSETFROM:+0100
TZOFFSETTO:+0200
TZNAME:Europe/Paris CEST
END:DAYLIGHT
BEGIN:DAYLIGHT
DTSTART:20220327T030000
RDATE:20221030T020000
TZOFFSETFROM:+0100
TZOFFSETTO:+0200
TZNAME:Europe/Paris CEST
END:DAYLIGHT
BEGIN:DAYLIGHT
DTSTART:20230326T030000
RDATE:20231029T020000
TZOFFSETFROM:+0100
TZOFFSETTO:+0200
TZNAME:Europe/Paris CEST
END:DAYLIGHT
BEGIN:DAYLIGHT
DTSTART:20240331T030000
RDATE:20241027T020000
TZOFFSETFROM:+0100
TZOFFSETTO:+0200
TZNAME:Europe/Paris CEST
END:DAYLIGHT
BEGIN:DAYLIGHT
DTSTART:20250330T030000
RDATE:20251026T020000
TZOFFSETFROM:+0100
TZOFFSETTO:+0200
TZNAME:Europe/Paris CEST
END:DAYLIGHT
BEGIN:DAYLIGHT
DTSTART:20260329T030000
RDATE:20261025T020000
TZOFFSETFROM:+0100
TZOFFSETTO:+0200
TZNAME:Europe/Paris CEST
END:DAYLIGHT
END:VTIMEZONE
BEGIN:VEVENT
UID:5c70c54899f3580aa4ebfa3a9977703f
CATEGORIES:Compétitions Snowboard
CREATED:20181114T121858
SUMMARY:Slope style
URL;VALUE=URI:https://skivosges.net/agenda/a-venir/detailevenement/1156/-/slope-style?tmp
 l=component
DESCRIPTION:<!-- #gskiepreuve code généré par le plugin jevents pour GskiEpreuves. Ne p
 as modifier cette ligne, ni tout le contenu suivant  #gskiepreuve --><div c
 lass="gski-evenement_infos"><div class="gski-evenement-nom">Slope style</di
 v><div class="gski-evenement-report"></div><ul class="gski-evenement-liste-
 infos"><li>Codex évenement NMVT0030</li><li>Station : BALLON D'ALSACE</li><
 li>Piste : Snowpark Gentiane</li><li>Organisateur : 14494 RDOWN</li><li>Cou
 rriel : <!-- Cette adresse électronique est protégée contre les robots spam
 meurs. --><span class="cloaked_email ep_d72728e3"><span data-ep-a="&#114;&#
 100;o&#119;" data-ep-b=".&#99;&#111;m"><span data-ep-b="&#109;ai&#108;" dat
 a-ep-a="&#110;&#115;&#110;&#111;"><span data-ep-b="&#114;&#100;&#64;g" data
 -ep-a="w&#98;oa"></span></span></span></span><script>RegularLabs.EmailProte
 ctor.unCloak("ep_d72728e3");</script></li></ul><div class="gski-evenement-i
 nfos-2"><div class="gski-evenement-info-inscriptions"><div class="gski-even
 ement-inscriptions-periodes">Période d'inscription à l'evènement du samedi 
 26 janvier 2019 à 00:00 au jeudi 31 janvier 2019 à 12:00 <span class="gski-
 evenement-inscriptions-impossibles">(Inscriptions impossibles).</span><div 
 class="gski-evenement-inscriptions-types-titres">Inscriptions ouvertes aux 
 detenteurs des titres Fédéraux valides suivants : Licenciés Compétiteurs</d
 iv></div></div><div class="gski-evenement-epreuves"><div class="gski-evenem
 ent-epreuves-titres">Epreuves :</div><ul class="gski-evenement-epreuves-lis
 t"><li><div class="gski-epreuve-date">Le samedi 02 février 2019 à 10:00</di
 v><ul class="gski-epreuve-liste-infos"><li>Codex épreuve NMVF0031</li><li>S
 lope Style</li><li>Catégorie(s) : Minime a Veteran (Filles)</li></ul></li><
 li><div class="gski-epreuve-date">Le samedi 02 février 2019 à 10:00</div><u
 l class="gski-epreuve-liste-infos"><li>Codex épreuve NMVM0031</li><li>Slope
  Style</li><li>Catégorie(s) : Minime a Veteran (Garçons)</li></ul></li></ul
 ></div><div class="gskiepreuves-links"><ul><li><a href="/index.php?option=c
 om_jevents&task=icalevent.detail&evid=1151&Itemid=6289">Voir les informatio
 ns dans l'agenda...</a></li></ul></div></div"><!-- #/gskiepreuve fin du dod
 e généré par le plugin jevents pour GskiEpreuves. . Ne pas modifier cette l
 igne, ni tout le contenu précedant.  #/gskiepreuve --> <a href="https://ski
 vosges.net/agenda/a-venir/detailevenement/1156/-/slope-style?tmpl=component
 ">Cet évènement a été importé depuis :https://skivosges.net/agenda/a-venir/
 detailevenement/1156/-/slope-style?tmpl=component</a>
X-ALT-DESC;FMTTYPE=text/html:<!-- #gskiepreuve code généré par le plugin jevents pour GskiEpreuves. Ne p
 as modifier cette ligne, ni tout le contenu suivant  #gskiepreuve --><div c
 lass="gski-evenement_infos"><div class="gski-evenement-nom">Slope style</di
 v><div class="gski-evenement-report"></div><ul class="gski-evenement-liste-
 infos"><li>Codex évenement NMVT0030</li><li>Station : BALLON D'ALSACE</li><
 li>Piste : Snowpark Gentiane</li><li>Organisateur : 14494 RDOWN</li><li>Cou
 rriel : <!-- Cette adresse électronique est protégée contre les robots spam
 meurs. --><span class="cloaked_email ep_d72728e3"><span data-ep-a="&#114;&#
 100;o&#119;" data-ep-b=".&#99;&#111;m"><span data-ep-b="&#109;ai&#108;" dat
 a-ep-a="&#110;&#115;&#110;&#111;"><span data-ep-b="&#114;&#100;&#64;g" data
 -ep-a="w&#98;oa"></span></span></span></span><script>RegularLabs.EmailProte
 ctor.unCloak("ep_d72728e3");</script></li></ul><div class="gski-evenement-i
 nfos-2"><div class="gski-evenement-info-inscriptions"><div class="gski-even
 ement-inscriptions-periodes">Période d'inscription à l'evènement du samedi 
 26 janvier 2019 à 00:00 au jeudi 31 janvier 2019 à 12:00 <span class="gski-
 evenement-inscriptions-impossibles">(Inscriptions impossibles).</span><div 
 class="gski-evenement-inscriptions-types-titres">Inscriptions ouvertes aux 
 detenteurs des titres Fédéraux valides suivants : Licenciés Compétiteurs</d
 iv></div></div><div class="gski-evenement-epreuves"><div class="gski-evenem
 ent-epreuves-titres">Epreuves :</div><ul class="gski-evenement-epreuves-lis
 t"><li><div class="gski-epreuve-date">Le samedi 02 février 2019 à 10:00</di
 v><ul class="gski-epreuve-liste-infos"><li>Codex épreuve NMVF0031</li><li>S
 lope Style</li><li>Catégorie(s) : Minime a Veteran (Filles)</li></ul></li><
 li><div class="gski-epreuve-date">Le samedi 02 février 2019 à 10:00</div><u
 l class="gski-epreuve-liste-infos"><li>Codex épreuve NMVM0031</li><li>Slope
  Style</li><li>Catégorie(s) : Minime a Veteran (Garçons)</li></ul></li></ul
 ></div><div class="gskiepreuves-links"><ul><li><a href="https://skivosges.n
 et/index.php?option=com_jevents&task=icalevent.detail&evid=1151&Itemid=6289
 ">Voir les informations dans l'agenda...</a></li></ul></div></div"><!-- #/g
 skiepreuve fin du dode généré par le plugin jevents pour GskiEpreuves. . Ne
  pas modifier cette ligne, ni tout le contenu précedant.  #/gskiepreuve -->
  <a href="https://skivosges.net/agenda/a-venir/detailevenement/1156/-/slope
 -style?tmpl=component">Cet évènement a été importé depuis :https://skivosge
 s.net/agenda/a-venir/detailevenement/1156/-/slope-style?tmpl=component</a>DTSTAMP:20260423T175127
DTSTART;TZID=Europe/Paris;VALUE=DATE:20190202
DTEND;TZID=Europe/Paris;VALUE=DATE:20190203
SEQUENCE:0
TRANSP:OPAQUE
END:VEVENT
END:VCALENDAR