BEGIN:VCALENDAR
VERSION:2.0
PRODID:-//jEvents 2.0 for Joomla//EN
CALSCALE:GREGORIAN
METHOD:PUBLISH
BEGIN:VTIMEZONE
TZID:Europe/Paris
BEGIN:STANDARD
DTSTART:20180202T000000
RDATE:20180325T030000
TZOFFSETFROM:+0200
TZOFFSETTO:+0100
TZNAME:Europe/Paris CET
END:STANDARD
BEGIN:STANDARD
DTSTART:20181028T020000
RDATE:20190331T030000
TZOFFSETFROM:+0200
TZOFFSETTO:+0100
TZNAME:Europe/Paris CET
END:STANDARD
BEGIN:STANDARD
DTSTART:20191027T020000
RDATE:20200329T030000
TZOFFSETFROM:+0200
TZOFFSETTO:+0100
TZNAME:Europe/Paris CET
END:STANDARD
BEGIN:STANDARD
DTSTART:20201025T020000
RDATE:20210328T030000
TZOFFSETFROM:+0200
TZOFFSETTO:+0100
TZNAME:Europe/Paris CET
END:STANDARD
BEGIN:STANDARD
DTSTART:20211031T020000
RDATE:20220327T030000
TZOFFSETFROM:+0200
TZOFFSETTO:+0100
TZNAME:Europe/Paris CET
END:STANDARD
BEGIN:STANDARD
DTSTART:20221030T020000
RDATE:20230326T030000
TZOFFSETFROM:+0200
TZOFFSETTO:+0100
TZNAME:Europe/Paris CET
END:STANDARD
BEGIN:STANDARD
DTSTART:20231029T020000
RDATE:20240331T030000
TZOFFSETFROM:+0200
TZOFFSETTO:+0100
TZNAME:Europe/Paris CET
END:STANDARD
BEGIN:STANDARD
DTSTART:20241027T020000
RDATE:20250330T030000
TZOFFSETFROM:+0200
TZOFFSETTO:+0100
TZNAME:Europe/Paris CET
END:STANDARD
BEGIN:STANDARD
DTSTART:20251026T020000
RDATE:20260329T030000
TZOFFSETFROM:+0200
TZOFFSETTO:+0100
TZNAME:Europe/Paris CET
END:STANDARD
BEGIN:STANDARD
DTSTART:20261025T020000
RDATE:20270328T030000
TZOFFSETFROM:+0200
TZOFFSETTO:+0100
TZNAME:Europe/Paris CET
END:STANDARD
BEGIN:DAYLIGHT
DTSTART:20180325T030000
RDATE:20181028T020000
TZOFFSETFROM:+0100
TZOFFSETTO:+0200
TZNAME:Europe/Paris CEST
END:DAYLIGHT
BEGIN:DAYLIGHT
DTSTART:20190331T030000
RDATE:20191027T020000
TZOFFSETFROM:+0100
TZOFFSETTO:+0200
TZNAME:Europe/Paris CEST
END:DAYLIGHT
BEGIN:DAYLIGHT
DTSTART:20200329T030000
RDATE:20201025T020000
TZOFFSETFROM:+0100
TZOFFSETTO:+0200
TZNAME:Europe/Paris CEST
END:DAYLIGHT
BEGIN:DAYLIGHT
DTSTART:20210328T030000
RDATE:20211031T020000
TZOFFSETFROM:+0100
TZOFFSETTO:+0200
TZNAME:Europe/Paris CEST
END:DAYLIGHT
BEGIN:DAYLIGHT
DTSTART:20220327T030000
RDATE:20221030T020000
TZOFFSETFROM:+0100
TZOFFSETTO:+0200
TZNAME:Europe/Paris CEST
END:DAYLIGHT
BEGIN:DAYLIGHT
DTSTART:20230326T030000
RDATE:20231029T020000
TZOFFSETFROM:+0100
TZOFFSETTO:+0200
TZNAME:Europe/Paris CEST
END:DAYLIGHT
BEGIN:DAYLIGHT
DTSTART:20240331T030000
RDATE:20241027T020000
TZOFFSETFROM:+0100
TZOFFSETTO:+0200
TZNAME:Europe/Paris CEST
END:DAYLIGHT
BEGIN:DAYLIGHT
DTSTART:20250330T030000
RDATE:20251026T020000
TZOFFSETFROM:+0100
TZOFFSETTO:+0200
TZNAME:Europe/Paris CEST
END:DAYLIGHT
BEGIN:DAYLIGHT
DTSTART:20260329T030000
RDATE:20261025T020000
TZOFFSETFROM:+0100
TZOFFSETTO:+0200
TZNAME:Europe/Paris CEST
END:DAYLIGHT
END:VTIMEZONE
BEGIN:VEVENT
UID:471eade79d9cebdd2c1eb89e37810ee6
CATEGORIES:Circuit Massif Jeunes (alpin)
CREATED:20181114T121858
SUMMARY:CJM Coupe d'Argent U12 coupe Vola Cup
URL;VALUE=URI:https://skivosges.net/agenda/a-venir/detailevenement/1161/-/cjm-coupe-darge
 nt-u12-coupe-vola-cup?tmpl=component
DESCRIPTION:CJM Coupe d'Argent U12 coupe Vola Cup\n - Codex évenement AMVT0370\n - Lieu
  : MARKSTEIN\n - Station : MARKSTEIN\n - Piste : Stade de Slalom\n - Organi
 sateur : 14356 S.C.O.S.E.G. GUEBWILLER\n - Courriel : RegularLabs.EmailProt
 ector.unCloak("ep_e07e6284");\n - Téléphone : 0689961224\n - Délégué Techni
 que : KOHLER JEAN PIERREPériode d'inscription à l'evènement du dimanche 27 
 janvier 2019 à 00:00 au vendredi 01 février 2019 à 12:00 (Inscriptions impo
 ssibles).Inscriptions ouvertes aux detenteurs des titres Fédéraux valides s
 uivants : Licenciés CompétiteursL'épreuve sera chronometrée avec les résult
 ats publiés en direct (live)Epreuves :\n - Le dimanche 03 février 2019 à 10
 :00\n - Codex épreuve AMVM0371\n - Slalom Geant\n - Catégorie(s) : U12 (Gar
 çons)\n - Le dimanche 03 février 2019 à 10:00\n - Codex épreuve AMVF0371\n 
 - Slalom Geant\n - Catégorie(s) : U12 (Filles)\n - Voir les informations da
 ns l'agenda... (/index.php?option=com_jevents&amp;task=icalevent.detail&amp
 ;evid=1156&amp;Itemid=6289)\n - Vers les résultats... (/index.php?option=co
 m_gskiepreuves&amp;view=afficheresultats&amp;format_option=tous&amp;filter[
 search]=AMVT0370&amp;filter[date_debut]=03-02-2019&amp;filter[date_fin]=03-
 02-2019&amp;code_activite=ALP&amp;Itemid=6289)\n - Publications concernant 
 cet évènement :\n - Samedi 2 Février 2019 à 13:42 : Le 03/02/2019 MARKSTEIN
  Liste de départs\n - Samedi 2 Février 2019 à 13:42 : Le 03/02/2019 MARKSTE
 IN Liste de départs Cet évènement a été importé depuis :https://skivosges.n
 et/agenda/a-venir/detailevenement/1161/-/cjm-coupe-dargent-u12-coupe-vola-c
 up?tmpl=component
X-ALT-DESC;FMTTYPE=text/html:<!-- #gskiepreuve code généré par le plugin jevents pour GskiEpreuves. Ne p
 as modifier cette ligne, ni tout le contenu suivant  #gskiepreuve --><div c
 lass="gski-evenement_infos"><div class="gski-evenement-nom">CJM Coupe d'Arg
 ent U12 coupe Vola Cup</div><div class="gski-evenement-report"></div><ul cl
 ass="gski-evenement-liste-infos"><li>Codex évenement AMVT0370</li><li>Lieu 
 : MARKSTEIN</li><li>Station : MARKSTEIN</li><li>Piste : Stade de Slalom</li
 ><li>Organisateur : 14356 S.C.O.S.E.G. GUEBWILLER</li><li>Courriel : <!-- C
 ette adresse électronique est protégée contre les robots spammeurs. --><spa
 n class="cloaked_email ep_e07e6284"><span data-ep-a="dfe&#114;" data-ep-b="
 r"><span data-ep-a="&#110;a&#110;&#100;" data-ep-b="&#97;&#108;&#46;&#102;"
 ><span data-ep-a="&#64;pub" data-ep-b="&#108;&#121;&#113;&#117;"></span></s
 pan></span></span><script>RegularLabs.EmailProtector.unCloak("ep_e07e6284")
 ;</script></li><li>Téléphone : 0689961224</li><li><span class="gski-eveneme
 nt-obs">Délégué Technique : KOHLER JEAN PIERRE</span></li></ul><div class="
 gski-evenement-infos-2"><div class="gski-evenement-info-inscriptions"><div 
 class="gski-evenement-inscriptions-periodes">Période d'inscription à l'evèn
 ement du dimanche 27 janvier 2019 à 00:00 au vendredi 01 février 2019 à 12:
 00 <span class="gski-evenement-inscriptions-impossibles">(Inscriptions impo
 ssibles).</span><div class="gski-evenement-inscriptions-types-titres">Inscr
 iptions ouvertes aux detenteurs des titres Fédéraux valides suivants : Lice
 nciés Compétiteurs</div></div></div><div class="gski-evenement-info-live">L
 'épreuve sera chronometrée avec les résultats publiés en direct (live)</div
 ><div class="gski-evenement-epreuves"><div class="gski-evenement-epreuves-t
 itres">Epreuves :</div><ul class="gski-evenement-epreuves-list"><li><div cl
 ass="gski-epreuve-date">Le dimanche 03 février 2019 à 10:00</div><ul class=
 "gski-epreuve-liste-infos"><li>Codex épreuve AMVM0371</li><li>Slalom Geant<
 /li><li>Catégorie(s) : U12 (Garçons)</li></ul></li><li><div class="gski-epr
 euve-date">Le dimanche 03 février 2019 à 10:00</div><ul class="gski-epreuve
 -liste-infos"><li>Codex épreuve AMVF0371</li><li>Slalom Geant</li><li>Catég
 orie(s) : U12 (Filles)</li></ul></li></ul></div><div class="gskiepreuves-li
 nks"><ul><li><a href="https://skivosges.net/index.php?option=com_jevents&ta
 sk=icalevent.detail&evid=1156&Itemid=6289">Voir les informations dans l'age
 nda...</a></li><li><a href="https://skivosges.net/index.php?option=com_gski
 epreuves&view=afficheresultats&format_option=tous&filter[search]=AMVT0370&f
 ilter[date_debut]=03-02-2019&filter[date_fin]=03-02-2019&code_activite=ALP&
 Itemid=6289">Vers les résultats...</a></li><li>Publications concernant cet 
 évènement :<ul><li><a href="https://skivosges.net/index.php?option=com_cont
 ent&view=article&id=6625&Itemid=6289">Samedi 2 Février 2019 à 13:42 : Le 03
 /02/2019 MARKSTEIN Liste de départs</a></li><li><a href="https://skivosges.
 net/index.php?option=com_content&view=article&id=6624&Itemid=6289">Samedi 2
  Février 2019 à 13:42 : Le 03/02/2019 MARKSTEIN Liste de départs</a></li></
 ul></li></ul></div></div"><!-- #/gskiepreuve fin du dode généré par le plug
 in jevents pour GskiEpreuves. . Ne pas modifier cette ligne, ni tout le con
 tenu précedant.  #/gskiepreuve --> <a href="https://skivosges.net/agenda/a-
 venir/detailevenement/1161/-/cjm-coupe-dargent-u12-coupe-vola-cup?tmpl=comp
 onent">Cet évènement a été importé depuis :https://skivosges.net/agenda/a-v
 enir/detailevenement/1161/-/cjm-coupe-dargent-u12-coupe-vola-cup?tmpl=compo
 nent</a>DTSTAMP:20260423T174043
DTSTART;TZID=Europe/Paris;VALUE=DATE:20190203
DTEND;TZID=Europe/Paris;VALUE=DATE:20190204
SEQUENCE:0
TRANSP:OPAQUE
END:VEVENT
END:VCALENDAR