BEGIN:VCALENDAR
VERSION:2.0
PRODID:-//jEvents 2.0 for Joomla//EN
CALSCALE:GREGORIAN
METHOD:PUBLISH
BEGIN:VTIMEZONE
TZID:Europe/Paris
BEGIN:STANDARD
DTSTART:20180202T000000
RDATE:20180325T030000
TZOFFSETFROM:+0200
TZOFFSETTO:+0100
TZNAME:Europe/Paris CET
END:STANDARD
BEGIN:STANDARD
DTSTART:20181028T020000
RDATE:20190331T030000
TZOFFSETFROM:+0200
TZOFFSETTO:+0100
TZNAME:Europe/Paris CET
END:STANDARD
BEGIN:STANDARD
DTSTART:20191027T020000
RDATE:20200329T030000
TZOFFSETFROM:+0200
TZOFFSETTO:+0100
TZNAME:Europe/Paris CET
END:STANDARD
BEGIN:STANDARD
DTSTART:20201025T020000
RDATE:20210328T030000
TZOFFSETFROM:+0200
TZOFFSETTO:+0100
TZNAME:Europe/Paris CET
END:STANDARD
BEGIN:STANDARD
DTSTART:20211031T020000
RDATE:20220327T030000
TZOFFSETFROM:+0200
TZOFFSETTO:+0100
TZNAME:Europe/Paris CET
END:STANDARD
BEGIN:STANDARD
DTSTART:20221030T020000
RDATE:20230326T030000
TZOFFSETFROM:+0200
TZOFFSETTO:+0100
TZNAME:Europe/Paris CET
END:STANDARD
BEGIN:STANDARD
DTSTART:20231029T020000
RDATE:20240331T030000
TZOFFSETFROM:+0200
TZOFFSETTO:+0100
TZNAME:Europe/Paris CET
END:STANDARD
BEGIN:STANDARD
DTSTART:20241027T020000
RDATE:20250330T030000
TZOFFSETFROM:+0200
TZOFFSETTO:+0100
TZNAME:Europe/Paris CET
END:STANDARD
BEGIN:STANDARD
DTSTART:20251026T020000
RDATE:20260329T030000
TZOFFSETFROM:+0200
TZOFFSETTO:+0100
TZNAME:Europe/Paris CET
END:STANDARD
BEGIN:STANDARD
DTSTART:20261025T020000
RDATE:20270328T030000
TZOFFSETFROM:+0200
TZOFFSETTO:+0100
TZNAME:Europe/Paris CET
END:STANDARD
BEGIN:DAYLIGHT
DTSTART:20180325T030000
RDATE:20181028T020000
TZOFFSETFROM:+0100
TZOFFSETTO:+0200
TZNAME:Europe/Paris CEST
END:DAYLIGHT
BEGIN:DAYLIGHT
DTSTART:20190331T030000
RDATE:20191027T020000
TZOFFSETFROM:+0100
TZOFFSETTO:+0200
TZNAME:Europe/Paris CEST
END:DAYLIGHT
BEGIN:DAYLIGHT
DTSTART:20200329T030000
RDATE:20201025T020000
TZOFFSETFROM:+0100
TZOFFSETTO:+0200
TZNAME:Europe/Paris CEST
END:DAYLIGHT
BEGIN:DAYLIGHT
DTSTART:20210328T030000
RDATE:20211031T020000
TZOFFSETFROM:+0100
TZOFFSETTO:+0200
TZNAME:Europe/Paris CEST
END:DAYLIGHT
BEGIN:DAYLIGHT
DTSTART:20220327T030000
RDATE:20221030T020000
TZOFFSETFROM:+0100
TZOFFSETTO:+0200
TZNAME:Europe/Paris CEST
END:DAYLIGHT
BEGIN:DAYLIGHT
DTSTART:20230326T030000
RDATE:20231029T020000
TZOFFSETFROM:+0100
TZOFFSETTO:+0200
TZNAME:Europe/Paris CEST
END:DAYLIGHT
BEGIN:DAYLIGHT
DTSTART:20240331T030000
RDATE:20241027T020000
TZOFFSETFROM:+0100
TZOFFSETTO:+0200
TZNAME:Europe/Paris CEST
END:DAYLIGHT
BEGIN:DAYLIGHT
DTSTART:20250330T030000
RDATE:20251026T020000
TZOFFSETFROM:+0100
TZOFFSETTO:+0200
TZNAME:Europe/Paris CEST
END:DAYLIGHT
BEGIN:DAYLIGHT
DTSTART:20260329T030000
RDATE:20261025T020000
TZOFFSETFROM:+0100
TZOFFSETTO:+0200
TZNAME:Europe/Paris CEST
END:DAYLIGHT
END:VTIMEZONE
BEGIN:VEVENT
UID:bbc59d3afc06fd1a50b48d933ee80df1
CATEGORIES:Opens et Promos (alpin)
CREATED:20181114T121858
SUMMARY:PROMO Dimanche de la Glisse - Fête de la Neige
URL;VALUE=URI:https://skivosges.net/agenda/a-venir/detailevenement/1163/-/promo-dimanche-
 de-la-glisse-fete-de-la-neige?tmpl=component
DESCRIPTION:PROMO Dimanche de la Glisse - Fête de la Neige\n - Codex évenement AMVT0360
 \n - Station : CHAMP DU FEU\n - Organisateur : 14077 SKIEURS DE STRASBOURG\
 n - Courriel : RegularLabs.EmailProtector.unCloak("ep_99ef3fa2");\n - Délég
 ué Technique : SILBER JEAN GEORGESPériode d'inscription à l'evènement du di
 manche 27 janvier 2019 à 00:00 au samedi 02 février 2019 à 12:00 (Inscripti
 ons impossibles).Inscriptions ouvertes aux detenteurs des titres Fédéraux v
 alides suivants : Licenciés Compétiteurs et Titres Loisirs et DirigeantsEpr
 euves :\n - Le dimanche 03 février 2019\n - Codex épreuve AMVM0361\n - Slal
 om Geant\n - Catégorie(s) : U8/U10 (Garçons)\n - Le dimanche 03 février 201
 9\n - Codex épreuve AMVF0361\n - Slalom Geant\n - Catégorie(s) : U8/U10 (Fi
 lles)\n - Le dimanche 03 février 2019\n - Codex épreuve AMVM0362\n - Slalom
  Geant\n - Catégorie(s) : U12 a U16 (Garçons)\n - Le dimanche 03 février 20
 19\n - Codex épreuve AMVF0362\n - Slalom Geant\n - Catégorie(s) : U12 a U16
  (Filles)\n - Voir les informations dans l'agenda... (/index.php?option=com
 _jevents&amp;task=icalevent.detail&amp;evid=1158&amp;Itemid=6289)\n - Vers 
 les résultats... (/index.php?option=com_gskiepreuves&amp;view=afficheresult
 ats&amp;format_option=tous&amp;filter[search]=AMVT0360&amp;filter[date_debu
 t]=03-02-2019&amp;filter[date_fin]=03-02-2019&amp;code_activite=ALP&amp;Ite
 mid=6289) Cet évènement a été importé depuis :https://skivosges.net/agenda/
 a-venir/detailevenement/1163/-/promo-dimanche-de-la-glisse-fete-de-la-neige
 ?tmpl=component
X-ALT-DESC;FMTTYPE=text/html:<!-- #gskiepreuve code généré par le plugin jevents pour GskiEpreuves. Ne p
 as modifier cette ligne, ni tout le contenu suivant  #gskiepreuve --><div c
 lass="gski-evenement_infos"><div class="gski-evenement-nom">PROMO Dimanche 
 de la Glisse - Fête de la Neige</div><div class="gski-evenement-report"></d
 iv><ul class="gski-evenement-liste-infos"><li>Codex évenement AMVT0360</li>
 <li>Station : CHAMP DU FEU</li><li>Organisateur : 14077 SKIEURS DE STRASBOU
 RG</li><li>Courriel : <!-- Cette adresse électronique est protégée contre l
 es robots spammeurs. --><span class="cloaked_email ep_99ef3fa2"><span data-
 ep-a="j&#112;h." data-ep-b="f&#114;"><span data-ep-b="&#110;g&#101;&#46;" d
 ata-ep-a="&#104;&#111;l&#119;"><span data-ep-a="&#101;&#103;67" data-ep-b="
 &#64;&#111;ra"></span></span></span></span><script>RegularLabs.EmailProtect
 or.unCloak("ep_99ef3fa2");</script></li><li><span class="gski-evenement-obs
 ">Délégué Technique : SILBER JEAN GEORGES</span></li></ul><div class="gski-
 evenement-infos-2"><div class="gski-evenement-info-inscriptions"><div class
 ="gski-evenement-inscriptions-periodes">Période d'inscription à l'evènement
  du dimanche 27 janvier 2019 à 00:00 au samedi 02 février 2019 à 12:00 <spa
 n class="gski-evenement-inscriptions-impossibles">(Inscriptions impossibles
 ).</span><div class="gski-evenement-inscriptions-types-titres">Inscriptions
  ouvertes aux detenteurs des titres Fédéraux valides suivants : Licenciés C
 ompétiteurs et Titres Loisirs et Dirigeants</div></div></div><div class="gs
 ki-evenement-epreuves"><div class="gski-evenement-epreuves-titres">Epreuves
  :</div><ul class="gski-evenement-epreuves-list"><li><div class="gski-epreu
 ve-date">Le dimanche 03 février 2019</div><ul class="gski-epreuve-liste-inf
 os"><li>Codex épreuve AMVM0361</li><li>Slalom Geant</li><li>Catégorie(s) : 
 U8/U10 (Garçons)</li></ul></li><li><div class="gski-epreuve-date">Le dimanc
 he 03 février 2019</div><ul class="gski-epreuve-liste-infos"><li>Codex épre
 uve AMVF0361</li><li>Slalom Geant</li><li>Catégorie(s) : U8/U10 (Filles)</l
 i></ul></li><li><div class="gski-epreuve-date">Le dimanche 03 février 2019<
 /div><ul class="gski-epreuve-liste-infos"><li>Codex épreuve AMVM0362</li><l
 i>Slalom Geant</li><li>Catégorie(s) : U12 a U16 (Garçons)</li></ul></li><li
 ><div class="gski-epreuve-date">Le dimanche 03 février 2019</div><ul class=
 "gski-epreuve-liste-infos"><li>Codex épreuve AMVF0362</li><li>Slalom Geant<
 /li><li>Catégorie(s) : U12 a U16 (Filles)</li></ul></li></ul></div><div cla
 ss="gskiepreuves-links"><ul><li><a href="https://skivosges.net/index.php?op
 tion=com_jevents&task=icalevent.detail&evid=1158&Itemid=6289">Voir les info
 rmations dans l'agenda...</a></li><li><a href="https://skivosges.net/index.
 php?option=com_gskiepreuves&view=afficheresultats&format_option=tous&filter
 [search]=AMVT0360&filter[date_debut]=03-02-2019&filter[date_fin]=03-02-2019
 &code_activite=ALP&Itemid=6289">Vers les résultats...</a></li></ul></div></
 div"><!-- #/gskiepreuve fin du dode généré par le plugin jevents pour GskiE
 preuves. . Ne pas modifier cette ligne, ni tout le contenu précedant.  #/gs
 kiepreuve --> <a href="https://skivosges.net/agenda/a-venir/detailevenement
 /1163/-/promo-dimanche-de-la-glisse-fete-de-la-neige?tmpl=component">Cet év
 ènement a été importé depuis :https://skivosges.net/agenda/a-venir/detailev
 enement/1163/-/promo-dimanche-de-la-glisse-fete-de-la-neige?tmpl=component<
 /a>DTSTAMP:20260423T174039
DTSTART;TZID=Europe/Paris;VALUE=DATE:20190203
DTEND;TZID=Europe/Paris;VALUE=DATE:20190204
SEQUENCE:0
TRANSP:OPAQUE
END:VEVENT
END:VCALENDAR