BEGIN:VCALENDAR
VERSION:2.0
PRODID:-//jEvents 2.0 for Joomla//EN
CALSCALE:GREGORIAN
METHOD:PUBLISH
BEGIN:VTIMEZONE
TZID:Europe/Paris
BEGIN:STANDARD
DTSTART:20180202T000000
RDATE:20180325T030000
TZOFFSETFROM:+0200
TZOFFSETTO:+0100
TZNAME:Europe/Paris CET
END:STANDARD
BEGIN:STANDARD
DTSTART:20181028T020000
RDATE:20190331T030000
TZOFFSETFROM:+0200
TZOFFSETTO:+0100
TZNAME:Europe/Paris CET
END:STANDARD
BEGIN:STANDARD
DTSTART:20191027T020000
RDATE:20200329T030000
TZOFFSETFROM:+0200
TZOFFSETTO:+0100
TZNAME:Europe/Paris CET
END:STANDARD
BEGIN:STANDARD
DTSTART:20201025T020000
RDATE:20210328T030000
TZOFFSETFROM:+0200
TZOFFSETTO:+0100
TZNAME:Europe/Paris CET
END:STANDARD
BEGIN:STANDARD
DTSTART:20211031T020000
RDATE:20220327T030000
TZOFFSETFROM:+0200
TZOFFSETTO:+0100
TZNAME:Europe/Paris CET
END:STANDARD
BEGIN:STANDARD
DTSTART:20221030T020000
RDATE:20230326T030000
TZOFFSETFROM:+0200
TZOFFSETTO:+0100
TZNAME:Europe/Paris CET
END:STANDARD
BEGIN:STANDARD
DTSTART:20231029T020000
RDATE:20240331T030000
TZOFFSETFROM:+0200
TZOFFSETTO:+0100
TZNAME:Europe/Paris CET
END:STANDARD
BEGIN:STANDARD
DTSTART:20241027T020000
RDATE:20250330T030000
TZOFFSETFROM:+0200
TZOFFSETTO:+0100
TZNAME:Europe/Paris CET
END:STANDARD
BEGIN:STANDARD
DTSTART:20251026T020000
RDATE:20260329T030000
TZOFFSETFROM:+0200
TZOFFSETTO:+0100
TZNAME:Europe/Paris CET
END:STANDARD
BEGIN:STANDARD
DTSTART:20261025T020000
RDATE:20270328T030000
TZOFFSETFROM:+0200
TZOFFSETTO:+0100
TZNAME:Europe/Paris CET
END:STANDARD
BEGIN:DAYLIGHT
DTSTART:20180325T030000
RDATE:20181028T020000
TZOFFSETFROM:+0100
TZOFFSETTO:+0200
TZNAME:Europe/Paris CEST
END:DAYLIGHT
BEGIN:DAYLIGHT
DTSTART:20190331T030000
RDATE:20191027T020000
TZOFFSETFROM:+0100
TZOFFSETTO:+0200
TZNAME:Europe/Paris CEST
END:DAYLIGHT
BEGIN:DAYLIGHT
DTSTART:20200329T030000
RDATE:20201025T020000
TZOFFSETFROM:+0100
TZOFFSETTO:+0200
TZNAME:Europe/Paris CEST
END:DAYLIGHT
BEGIN:DAYLIGHT
DTSTART:20210328T030000
RDATE:20211031T020000
TZOFFSETFROM:+0100
TZOFFSETTO:+0200
TZNAME:Europe/Paris CEST
END:DAYLIGHT
BEGIN:DAYLIGHT
DTSTART:20220327T030000
RDATE:20221030T020000
TZOFFSETFROM:+0100
TZOFFSETTO:+0200
TZNAME:Europe/Paris CEST
END:DAYLIGHT
BEGIN:DAYLIGHT
DTSTART:20230326T030000
RDATE:20231029T020000
TZOFFSETFROM:+0100
TZOFFSETTO:+0200
TZNAME:Europe/Paris CEST
END:DAYLIGHT
BEGIN:DAYLIGHT
DTSTART:20240331T030000
RDATE:20241027T020000
TZOFFSETFROM:+0100
TZOFFSETTO:+0200
TZNAME:Europe/Paris CEST
END:DAYLIGHT
BEGIN:DAYLIGHT
DTSTART:20250330T030000
RDATE:20251026T020000
TZOFFSETFROM:+0100
TZOFFSETTO:+0200
TZNAME:Europe/Paris CEST
END:DAYLIGHT
BEGIN:DAYLIGHT
DTSTART:20260329T030000
RDATE:20261025T020000
TZOFFSETFROM:+0100
TZOFFSETTO:+0200
TZNAME:Europe/Paris CEST
END:DAYLIGHT
END:VTIMEZONE
BEGIN:VEVENT
UID:af8704b3aafeeaa07380958cac7f0578
CATEGORIES:Compétitions Snowboard
CREATED:20181114T121858
SUMMARY:Bank Slalom  Schlucht
URL;VALUE=URI:https://skivosges.net/agenda/a-venir/detailevenement/1164/-/bank-slalom-sch
 lucht?tmpl=component
DESCRIPTION:Bank Slalom  Schlucht\n - Codex évenement NMVT0040\n - Lieu : Schlucht\n - 
 Station : LA SCHLUCHT\n - Organisateur : 14024 LA BRESSAUDE SECTION SKI\n -
  Courriel : RegularLabs.EmailProtector.unCloak("ep_ccde6f5b");Période d'ins
 cription à l'evènement du dimanche 27 janvier 2019 à 00:00 au vendredi 01 f
 évrier 2019 à 20:00 (Inscriptions impossibles).Inscriptions ouvertes aux de
 tenteurs des titres Fédéraux valides suivants : Licenciés Compétiteurs et T
 itres Loisirs et DirigeantsEpreuves :\n - Le dimanche 03 février 2019 à 10:
 00\n - Codex épreuve NMVM0041\n - Slalom\n - Catégorie(s) : Minime a Vetera
 n (Garçons)\n - Le dimanche 03 février 2019 à 10:00\n - Codex épreuve NMVF0
 041\n - Slalom\n - Catégorie(s) : Minime a Veteran (Filles)\n - Voir les in
 formations dans l'agenda... (/index.php?option=com_jevents&amp;task=icaleve
 nt.detail&amp;evid=1159&amp;Itemid=6289) Cet évènement a été importé depuis
  :https://skivosges.net/agenda/a-venir/detailevenement/1164/-/bank-slalom-s
 chlucht?tmpl=component
X-ALT-DESC;FMTTYPE=text/html:<!-- #gskiepreuve code généré par le plugin jevents pour GskiEpreuves. Ne p
 as modifier cette ligne, ni tout le contenu suivant  #gskiepreuve --><div c
 lass="gski-evenement_infos"><div class="gski-evenement-nom">Bank Slalom  Sc
 hlucht</div><div class="gski-evenement-report"></div><ul class="gski-evenem
 ent-liste-infos"><li>Codex évenement NMVT0040</li><li>Lieu : Schlucht</li><
 li>Station : LA SCHLUCHT</li><li>Organisateur : 14024 LA BRESSAUDE SECTION 
 SKI</li><li>Courriel : <!-- Cette adresse électronique est protégée contre 
 les robots spammeurs. --><span class="cloaked_email ep_ccde6f5b"><span data
 -ep-a="&#111;d&#105;&#108;&#101;" data-ep-b="f&#114;"><span data-ep-b="&#97
 ;&#110;&#103;&#101;&#46;" data-ep-a=".&#109;&#117;&#110;&#115;"><span data-
 ep-b="l&#98;&#64;&#111;&#114;" data-ep-a="&#99;h&#46;&#115;&#99;"></span></
 span></span></span><script>RegularLabs.EmailProtector.unCloak("ep_ccde6f5b"
 );</script></li></ul><div class="gski-evenement-infos-2"><div class="gski-e
 venement-info-inscriptions"><div class="gski-evenement-inscriptions-periode
 s">Période d'inscription à l'evènement du dimanche 27 janvier 2019 à 00:00 
 au vendredi 01 février 2019 à 20:00 <span class="gski-evenement-inscription
 s-impossibles">(Inscriptions impossibles).</span><div class="gski-evenement
 -inscriptions-types-titres">Inscriptions ouvertes aux detenteurs des titres
  Fédéraux valides suivants : Licenciés Compétiteurs et Titres Loisirs et Di
 rigeants</div></div></div><div class="gski-evenement-epreuves"><div class="
 gski-evenement-epreuves-titres">Epreuves :</div><ul class="gski-evenement-e
 preuves-list"><li><div class="gski-epreuve-date">Le dimanche 03 février 201
 9 à 10:00</div><ul class="gski-epreuve-liste-infos"><li>Codex épreuve NMVM0
 041</li><li>Slalom</li><li>Catégorie(s) : Minime a Veteran (Garçons)</li></
 ul></li><li><div class="gski-epreuve-date">Le dimanche 03 février 2019 à 10
 :00</div><ul class="gski-epreuve-liste-infos"><li>Codex épreuve NMVF0041</l
 i><li>Slalom</li><li>Catégorie(s) : Minime a Veteran (Filles)</li></ul></li
 ></ul></div><div class="gskiepreuves-links"><ul><li><a href="https://skivos
 ges.net/index.php?option=com_jevents&task=icalevent.detail&evid=1159&Itemid
 =6289">Voir les informations dans l'agenda...</a></li></ul></div></div"><!-
 - #/gskiepreuve fin du dode généré par le plugin jevents pour GskiEpreuves.
  . Ne pas modifier cette ligne, ni tout le contenu précedant.  #/gskiepreuv
 e --> <a href="https://skivosges.net/agenda/a-venir/detailevenement/1164/-/
 bank-slalom-schlucht?tmpl=component">Cet évènement a été importé depuis :ht
 tps://skivosges.net/agenda/a-venir/detailevenement/1164/-/bank-slalom-schlu
 cht?tmpl=component</a>DTSTAMP:20260423T174045
DTSTART;TZID=Europe/Paris;VALUE=DATE:20190203
DTEND;TZID=Europe/Paris;VALUE=DATE:20190204
SEQUENCE:0
TRANSP:OPAQUE
END:VEVENT
END:VCALENDAR