BEGIN:VCALENDAR
VERSION:2.0
PRODID:-//jEvents 2.0 for Joomla//EN
CALSCALE:GREGORIAN
METHOD:PUBLISH
BEGIN:VTIMEZONE
TZID:Europe/Paris
BEGIN:STANDARD
DTSTART:20130201T080000
RDATE:20130331T030000
TZOFFSETFROM:+0200
TZOFFSETTO:+0100
TZNAME:Europe/Paris CET
END:STANDARD
BEGIN:STANDARD
DTSTART:20131027T020000
RDATE:20140330T030000
TZOFFSETFROM:+0200
TZOFFSETTO:+0100
TZNAME:Europe/Paris CET
END:STANDARD
BEGIN:STANDARD
DTSTART:20141026T020000
RDATE:20150329T030000
TZOFFSETFROM:+0200
TZOFFSETTO:+0100
TZNAME:Europe/Paris CET
END:STANDARD
BEGIN:STANDARD
DTSTART:20151025T020000
RDATE:20160327T030000
TZOFFSETFROM:+0200
TZOFFSETTO:+0100
TZNAME:Europe/Paris CET
END:STANDARD
BEGIN:STANDARD
DTSTART:20161030T020000
RDATE:20170326T030000
TZOFFSETFROM:+0200
TZOFFSETTO:+0100
TZNAME:Europe/Paris CET
END:STANDARD
BEGIN:STANDARD
DTSTART:20171029T020000
RDATE:20180325T030000
TZOFFSETFROM:+0200
TZOFFSETTO:+0100
TZNAME:Europe/Paris CET
END:STANDARD
BEGIN:STANDARD
DTSTART:20181028T020000
RDATE:20190331T030000
TZOFFSETFROM:+0200
TZOFFSETTO:+0100
TZNAME:Europe/Paris CET
END:STANDARD
BEGIN:STANDARD
DTSTART:20191027T020000
RDATE:20200329T030000
TZOFFSETFROM:+0200
TZOFFSETTO:+0100
TZNAME:Europe/Paris CET
END:STANDARD
BEGIN:STANDARD
DTSTART:20201025T020000
RDATE:20210328T030000
TZOFFSETFROM:+0200
TZOFFSETTO:+0100
TZNAME:Europe/Paris CET
END:STANDARD
BEGIN:STANDARD
DTSTART:20211031T020000
RDATE:20220327T030000
TZOFFSETFROM:+0200
TZOFFSETTO:+0100
TZNAME:Europe/Paris CET
END:STANDARD
BEGIN:STANDARD
DTSTART:20221030T020000
RDATE:20230326T030000
TZOFFSETFROM:+0200
TZOFFSETTO:+0100
TZNAME:Europe/Paris CET
END:STANDARD
BEGIN:STANDARD
DTSTART:20231029T020000
RDATE:20240331T030000
TZOFFSETFROM:+0200
TZOFFSETTO:+0100
TZNAME:Europe/Paris CET
END:STANDARD
BEGIN:STANDARD
DTSTART:20241027T020000
RDATE:20250330T030000
TZOFFSETFROM:+0200
TZOFFSETTO:+0100
TZNAME:Europe/Paris CET
END:STANDARD
BEGIN:STANDARD
DTSTART:20251026T020000
RDATE:20260329T030000
TZOFFSETFROM:+0200
TZOFFSETTO:+0100
TZNAME:Europe/Paris CET
END:STANDARD
BEGIN:STANDARD
DTSTART:20261025T020000
RDATE:20270328T030000
TZOFFSETFROM:+0200
TZOFFSETTO:+0100
TZNAME:Europe/Paris CET
END:STANDARD
BEGIN:DAYLIGHT
DTSTART:20130331T030000
RDATE:20131027T020000
TZOFFSETFROM:+0100
TZOFFSETTO:+0200
TZNAME:Europe/Paris CEST
END:DAYLIGHT
BEGIN:DAYLIGHT
DTSTART:20140330T030000
RDATE:20141026T020000
TZOFFSETFROM:+0100
TZOFFSETTO:+0200
TZNAME:Europe/Paris CEST
END:DAYLIGHT
BEGIN:DAYLIGHT
DTSTART:20150329T030000
RDATE:20151025T020000
TZOFFSETFROM:+0100
TZOFFSETTO:+0200
TZNAME:Europe/Paris CEST
END:DAYLIGHT
BEGIN:DAYLIGHT
DTSTART:20160327T030000
RDATE:20161030T020000
TZOFFSETFROM:+0100
TZOFFSETTO:+0200
TZNAME:Europe/Paris CEST
END:DAYLIGHT
BEGIN:DAYLIGHT
DTSTART:20170326T030000
RDATE:20171029T020000
TZOFFSETFROM:+0100
TZOFFSETTO:+0200
TZNAME:Europe/Paris CEST
END:DAYLIGHT
BEGIN:DAYLIGHT
DTSTART:20180325T030000
RDATE:20181028T020000
TZOFFSETFROM:+0100
TZOFFSETTO:+0200
TZNAME:Europe/Paris CEST
END:DAYLIGHT
BEGIN:DAYLIGHT
DTSTART:20190331T030000
RDATE:20191027T020000
TZOFFSETFROM:+0100
TZOFFSETTO:+0200
TZNAME:Europe/Paris CEST
END:DAYLIGHT
BEGIN:DAYLIGHT
DTSTART:20200329T030000
RDATE:20201025T020000
TZOFFSETFROM:+0100
TZOFFSETTO:+0200
TZNAME:Europe/Paris CEST
END:DAYLIGHT
BEGIN:DAYLIGHT
DTSTART:20210328T030000
RDATE:20211031T020000
TZOFFSETFROM:+0100
TZOFFSETTO:+0200
TZNAME:Europe/Paris CEST
END:DAYLIGHT
BEGIN:DAYLIGHT
DTSTART:20220327T030000
RDATE:20221030T020000
TZOFFSETFROM:+0100
TZOFFSETTO:+0200
TZNAME:Europe/Paris CEST
END:DAYLIGHT
BEGIN:DAYLIGHT
DTSTART:20230326T030000
RDATE:20231029T020000
TZOFFSETFROM:+0100
TZOFFSETTO:+0200
TZNAME:Europe/Paris CEST
END:DAYLIGHT
BEGIN:DAYLIGHT
DTSTART:20240331T030000
RDATE:20241027T020000
TZOFFSETFROM:+0100
TZOFFSETTO:+0200
TZNAME:Europe/Paris CEST
END:DAYLIGHT
BEGIN:DAYLIGHT
DTSTART:20250330T030000
RDATE:20251026T020000
TZOFFSETFROM:+0100
TZOFFSETTO:+0200
TZNAME:Europe/Paris CEST
END:DAYLIGHT
BEGIN:DAYLIGHT
DTSTART:20260329T030000
RDATE:20261025T020000
TZOFFSETFROM:+0100
TZOFFSETTO:+0200
TZNAME:Europe/Paris CEST
END:DAYLIGHT
END:VTIMEZONE
BEGIN:VEVENT
UID:657336a07e74e42a9d1ab1e193d900d1
CATEGORIES:Circuit Lorraine Jeunes (alpin)
CREATED:20131203T122100
SUMMARY:CLJ U10 à U14 Cp de la Ville de St Dié et du Crédit Mutuel / Cp de Bronze **REPORTE**
URL;VALUE=URI:https://skivosges.net/agenda/a-venir/detailevenement/117/-/clj-u10-a-u14-cp
 -de-la-ville-de-st-die-et-du-credit-mutuel-cp-de-bronze-reporte?tmpl=compon
 ent
DESCRIPTION:<strong>CLJ U10 à U14 Cp de la Ville de St Dié et du Crédit Mutuel / Cp de 
 Bronze</strong> <font class="attention4">(Epreuve reportée, date à determin
 er)</font> <br /><i>(Coupe de Lorraine Jeunes)</i><br /><br />Lieu : LA BRE
 SSE <br />Organisateur : SKI RACING DEODATIEN  <small>(14454 SKI RACING DEO
 DATIEN)</small><br />Email : <!-- Cette adresse électronique est protégée c
 ontre les robots spammeurs. --><span class="cloaked_email ep_6d2727e9"><spa
 n data-ep-a="ydo" data-ep-b="&#114;"><span data-ep-b="&#101;&#46;&#102;" da
 ta-ep-a="&#100;&#105;&#110;"><span data-ep-a="&#64;&#111;r" data-ep-b="&#97
 ;&#110;&#103;"></span></span></span></span><script>RegularLabs.EmailProtect
 or.unCloak("ep_6d2727e9");</script><ul type="disc"><li>AMVF0441  Slalom Gea
 nt <nobr><i>(Coupe de Bronze)</i></nobr> <nobr>U10</nobr> Filles<br />&nbsp
 ;&nbsp;CLJ U10 à U14 Cp de la Ville de St Dié et du Crédit Mutuel / Cp de B
 ronze</li><li>AMVM0441  Slalom Geant <nobr><i>(Coupe de Bronze)</i></nobr> 
 <nobr>U10</nobr> Garçons<br />&nbsp;&nbsp;CLJ U10 à U14 Cp de la Ville de S
 t Dié et du Crédit Mutuel / Cp de Bronze</li><li>AMVF0442  Slalom Geant <no
 br><i>(Coupe de Bronze)</i></nobr> <nobr>de 10 a 13ans au 31/12/2012 (Pou/B
 en)</nobr> Filles<br />&nbsp;&nbsp;CLJ U10 à U14 Cp de la Ville de St Dié e
 t du Crédit Mutuel / Cp de Bronze</li><li>AMVM0442  Slalom Geant <nobr><i>(
 Coupe de Bronze)</i></nobr> <nobr>de 10 a 13ans au 31/12/2012 (Pou/Ben)</no
 br> Garçons<br />&nbsp;&nbsp;CLJ U10 à U14 Cp de la Ville de St Dié et du C
 rédit Mutuel / Cp de Bronze</li></ul> <a href="https://skivosges.net/agenda
 /a-venir/detailevenement/117/-/clj-u10-a-u14-cp-de-la-ville-de-st-die-et-du
 -credit-mutuel-cp-de-bronze-reporte?tmpl=component">Cet évènement a été imp
 orté depuis :https://skivosges.net/agenda/a-venir/detailevenement/117/-/clj
 -u10-a-u14-cp-de-la-ville-de-st-die-et-du-credit-mutuel-cp-de-bronze-report
 e?tmpl=component</a>DTSTAMP:20260424T012600
DTSTART;TZID=Europe/Paris:20140202T080000
DTEND;TZID=Europe/Paris:20140202T170000
SEQUENCE:0
TRANSP:OPAQUE
END:VEVENT
END:VCALENDAR