BEGIN:VCALENDAR
VERSION:2.0
PRODID:-//jEvents 2.0 for Joomla//EN
CALSCALE:GREGORIAN
METHOD:PUBLISH
BEGIN:VTIMEZONE
TZID:Europe/Paris
BEGIN:STANDARD
DTSTART:20180214T000000
RDATE:20180325T030000
TZOFFSETFROM:+0200
TZOFFSETTO:+0100
TZNAME:Europe/Paris CET
END:STANDARD
BEGIN:STANDARD
DTSTART:20181028T020000
RDATE:20190331T030000
TZOFFSETFROM:+0200
TZOFFSETTO:+0100
TZNAME:Europe/Paris CET
END:STANDARD
BEGIN:STANDARD
DTSTART:20191027T020000
RDATE:20200329T030000
TZOFFSETFROM:+0200
TZOFFSETTO:+0100
TZNAME:Europe/Paris CET
END:STANDARD
BEGIN:STANDARD
DTSTART:20201025T020000
RDATE:20210328T030000
TZOFFSETFROM:+0200
TZOFFSETTO:+0100
TZNAME:Europe/Paris CET
END:STANDARD
BEGIN:STANDARD
DTSTART:20211031T020000
RDATE:20220327T030000
TZOFFSETFROM:+0200
TZOFFSETTO:+0100
TZNAME:Europe/Paris CET
END:STANDARD
BEGIN:STANDARD
DTSTART:20221030T020000
RDATE:20230326T030000
TZOFFSETFROM:+0200
TZOFFSETTO:+0100
TZNAME:Europe/Paris CET
END:STANDARD
BEGIN:STANDARD
DTSTART:20231029T020000
RDATE:20240331T030000
TZOFFSETFROM:+0200
TZOFFSETTO:+0100
TZNAME:Europe/Paris CET
END:STANDARD
BEGIN:STANDARD
DTSTART:20241027T020000
RDATE:20250330T030000
TZOFFSETFROM:+0200
TZOFFSETTO:+0100
TZNAME:Europe/Paris CET
END:STANDARD
BEGIN:STANDARD
DTSTART:20251026T020000
RDATE:20260329T030000
TZOFFSETFROM:+0200
TZOFFSETTO:+0100
TZNAME:Europe/Paris CET
END:STANDARD
BEGIN:STANDARD
DTSTART:20261025T020000
RDATE:20270328T030000
TZOFFSETFROM:+0200
TZOFFSETTO:+0100
TZNAME:Europe/Paris CET
END:STANDARD
BEGIN:DAYLIGHT
DTSTART:20180325T030000
RDATE:20181028T020000
TZOFFSETFROM:+0100
TZOFFSETTO:+0200
TZNAME:Europe/Paris CEST
END:DAYLIGHT
BEGIN:DAYLIGHT
DTSTART:20190331T030000
RDATE:20191027T020000
TZOFFSETFROM:+0100
TZOFFSETTO:+0200
TZNAME:Europe/Paris CEST
END:DAYLIGHT
BEGIN:DAYLIGHT
DTSTART:20200329T030000
RDATE:20201025T020000
TZOFFSETFROM:+0100
TZOFFSETTO:+0200
TZNAME:Europe/Paris CEST
END:DAYLIGHT
BEGIN:DAYLIGHT
DTSTART:20210328T030000
RDATE:20211031T020000
TZOFFSETFROM:+0100
TZOFFSETTO:+0200
TZNAME:Europe/Paris CEST
END:DAYLIGHT
BEGIN:DAYLIGHT
DTSTART:20220327T030000
RDATE:20221030T020000
TZOFFSETFROM:+0100
TZOFFSETTO:+0200
TZNAME:Europe/Paris CEST
END:DAYLIGHT
BEGIN:DAYLIGHT
DTSTART:20230326T030000
RDATE:20231029T020000
TZOFFSETFROM:+0100
TZOFFSETTO:+0200
TZNAME:Europe/Paris CEST
END:DAYLIGHT
BEGIN:DAYLIGHT
DTSTART:20240331T030000
RDATE:20241027T020000
TZOFFSETFROM:+0100
TZOFFSETTO:+0200
TZNAME:Europe/Paris CEST
END:DAYLIGHT
BEGIN:DAYLIGHT
DTSTART:20250330T030000
RDATE:20251026T020000
TZOFFSETFROM:+0100
TZOFFSETTO:+0200
TZNAME:Europe/Paris CEST
END:DAYLIGHT
BEGIN:DAYLIGHT
DTSTART:20260329T030000
RDATE:20261025T020000
TZOFFSETFROM:+0100
TZOFFSETTO:+0200
TZNAME:Europe/Paris CEST
END:DAYLIGHT
END:VTIMEZONE
BEGIN:VEVENT
UID:807c52e2f35426319b9d41087bf06fe8
CATEGORIES:Opens et Promos (alpin)
CREATED:20181114T121859
SUMMARY:PROMO Jeunes HARIBO SNOW KIDS
URL;VALUE=URI:https://skivosges.net/agenda/a-venir/detailevenement/1178/-/promo-jeunes-ha
 ribo-snow-kids?tmpl=component
DESCRIPTION:PROMO Jeunes HARIBO SNOW KIDS\n - Codex évenement AMVT0450\n - Lieu : STADE
  DE SLALOM\n - Station : MARKSTEIN\n - Piste : SERGE LANG\n - Organisateur 
 : 14186 S.C VALLEE DE WESSERLING\n - Courriel : RegularLabs.EmailProtector.
 unCloak("ep_8e751a34");\n - Téléphone : 03 89 82 78 08\n - Délégué Techniqu
 e : EISENBLAETTER MAURICEPériode d'inscription à l'evènement du vendredi 08
  février 2019 à 00:00 au jeudi 14 février 2019 à 19:00 (Inscriptions imposs
 ibles).Inscriptions ouvertes aux detenteurs des titres Fédéraux valides sui
 vants : Licenciés Compétiteurs et Titres Loisirs et DirigeantsEpreuves :\n 
 - Le vendredi 15 février 2019 à 14:00\n - Codex épreuve AMVM0451\n - Slalom
 \n - Catégorie(s) : U8/U10 (Garçons)\n - Le vendredi 15 février 2019 à 14:0
 0\n - Codex épreuve AMVF0451\n - Slalom\n - Catégorie(s) : U8/U10 (Filles)\
 n - Le vendredi 15 février 2019 à 14:00\n - Codex épreuve AMVM0452\n - Slal
 om\n - Catégorie(s) : U12/U14 (Garçons)\n - Le vendredi 15 février 2019 à 1
 4:00\n - Codex épreuve AMVF0452\n - Slalom\n - Catégorie(s) : U12/U14 (Fill
 es)\n - Voir les informations dans l'agenda... (/index.php?option=com_jeven
 ts&amp;task=icalevent.detail&amp;evid=1173&amp;Itemid=6289)\n - Vers les ré
 sultats... (/index.php?option=com_gskiepreuves&amp;view=afficheresultats&am
 p;format_option=tous&amp;filter[search]=AMVT0450&amp;filter[date_debut]=15-
 02-2019&amp;filter[date_fin]=15-02-2019&amp;code_activite=ALP&amp;Itemid=62
 89)\n - Publications concernant cet évènement :\n - Vendredi 15 Février 201
 9 à 08:20 : Le 15/02/2019 MARKSTEIN Liste de départs Cet évènement a été im
 porté depuis :https://skivosges.net/agenda/a-venir/detailevenement/1178/-/p
 romo-jeunes-haribo-snow-kids?tmpl=component
X-ALT-DESC;FMTTYPE=text/html:<!-- #gskiepreuve code généré par le plugin jevents pour GskiEpreuves. Ne p
 as modifier cette ligne, ni tout le contenu suivant  #gskiepreuve --><div c
 lass="gski-evenement_infos"><div class="gski-evenement-nom">PROMO Jeunes HA
 RIBO SNOW KIDS</div><div class="gski-evenement-report"></div><ul class="gsk
 i-evenement-liste-infos"><li>Codex évenement AMVT0450</li><li>Lieu : STADE 
 DE SLALOM</li><li>Station : MARKSTEIN</li><li>Piste : SERGE LANG</li><li>Or
 ganisateur : 14186 S.C VALLEE DE WESSERLING</li><li>Courriel : <!-- Cette a
 dresse électronique est protégée contre les robots spammeurs. --><span clas
 s="cloaked_email ep_8e751a34"><span data-ep-b="&#109;" data-ep-a="&#115;c&#
 118;&#119;"><span data-ep-b="l.co" data-ep-a="&#101;&#115;&#115;&#101;"><sp
 an data-ep-b="&#103;&#64;ao" data-ep-a="&#114;&#108;&#105;n"></span></span>
 </span></span><script>RegularLabs.EmailProtector.unCloak("ep_8e751a34");</s
 cript></li><li>Téléphone : 03 89 82 78 08</li><li><span class="gski-eveneme
 nt-obs">Délégué Technique : EISENBLAETTER MAURICE</span></li></ul><div clas
 s="gski-evenement-infos-2"><div class="gski-evenement-info-inscriptions"><d
 iv class="gski-evenement-inscriptions-periodes">Période d'inscription à l'e
 vènement du vendredi 08 février 2019 à 00:00 au jeudi 14 février 2019 à 19:
 00 <span class="gski-evenement-inscriptions-impossibles">(Inscriptions impo
 ssibles).</span><div class="gski-evenement-inscriptions-types-titres">Inscr
 iptions ouvertes aux detenteurs des titres Fédéraux valides suivants : Lice
 nciés Compétiteurs et Titres Loisirs et Dirigeants</div></div></div><div cl
 ass="gski-evenement-epreuves"><div class="gski-evenement-epreuves-titres">E
 preuves :</div><ul class="gski-evenement-epreuves-list"><li><div class="gsk
 i-epreuve-date">Le vendredi 15 février 2019 à 14:00</div><ul class="gski-ep
 reuve-liste-infos"><li>Codex épreuve AMVM0451</li><li>Slalom</li><li>Catégo
 rie(s) : U8/U10 (Garçons)</li></ul></li><li><div class="gski-epreuve-date">
 Le vendredi 15 février 2019 à 14:00</div><ul class="gski-epreuve-liste-info
 s"><li>Codex épreuve AMVF0451</li><li>Slalom</li><li>Catégorie(s) : U8/U10 
 (Filles)</li></ul></li><li><div class="gski-epreuve-date">Le vendredi 15 fé
 vrier 2019 à 14:00</div><ul class="gski-epreuve-liste-infos"><li>Codex épre
 uve AMVM0452</li><li>Slalom</li><li>Catégorie(s) : U12/U14 (Garçons)</li></
 ul></li><li><div class="gski-epreuve-date">Le vendredi 15 février 2019 à 14
 :00</div><ul class="gski-epreuve-liste-infos"><li>Codex épreuve AMVF0452</l
 i><li>Slalom</li><li>Catégorie(s) : U12/U14 (Filles)</li></ul></li></ul></d
 iv><div class="gskiepreuves-links"><ul><li><a href="https://skivosges.net/i
 ndex.php?option=com_jevents&task=icalevent.detail&evid=1173&Itemid=6289">Vo
 ir les informations dans l'agenda...</a></li><li><a href="https://skivosges
 .net/index.php?option=com_gskiepreuves&view=afficheresultats&format_option=
 tous&filter[search]=AMVT0450&filter[date_debut]=15-02-2019&filter[date_fin]
 =15-02-2019&code_activite=ALP&Itemid=6289">Vers les résultats...</a></li><l
 i>Publications concernant cet évènement :<ul><li><a href="https://skivosges
 .net/index.php?option=com_content&view=article&id=6682&Itemid=6289">Vendred
 i 15 Février 2019 à 08:20 : Le 15/02/2019 MARKSTEIN Liste de départs</a></l
 i></ul></li></ul></div></div"><!-- #/gskiepreuve fin du dode généré par le 
 plugin jevents pour GskiEpreuves. . Ne pas modifier cette ligne, ni tout le
  contenu précedant.  #/gskiepreuve --> <a href="https://skivosges.net/agend
 a/a-venir/detailevenement/1178/-/promo-jeunes-haribo-snow-kids?tmpl=compone
 nt">Cet évènement a été importé depuis :https://skivosges.net/agenda/a-veni
 r/detailevenement/1178/-/promo-jeunes-haribo-snow-kids?tmpl=component</a>DTSTAMP:20260423T174042
DTSTART;TZID=Europe/Paris;VALUE=DATE:20190215
DTEND;TZID=Europe/Paris;VALUE=DATE:20190216
SEQUENCE:0
TRANSP:OPAQUE
END:VEVENT
END:VCALENDAR