BEGIN:VCALENDAR
VERSION:2.0
PRODID:-//jEvents 2.0 for Joomla//EN
CALSCALE:GREGORIAN
METHOD:PUBLISH
BEGIN:VTIMEZONE
TZID:Europe/Paris
BEGIN:STANDARD
DTSTART:20180215T000000
RDATE:20180325T030000
TZOFFSETFROM:+0200
TZOFFSETTO:+0100
TZNAME:Europe/Paris CET
END:STANDARD
BEGIN:STANDARD
DTSTART:20181028T020000
RDATE:20190331T030000
TZOFFSETFROM:+0200
TZOFFSETTO:+0100
TZNAME:Europe/Paris CET
END:STANDARD
BEGIN:STANDARD
DTSTART:20191027T020000
RDATE:20200329T030000
TZOFFSETFROM:+0200
TZOFFSETTO:+0100
TZNAME:Europe/Paris CET
END:STANDARD
BEGIN:STANDARD
DTSTART:20201025T020000
RDATE:20210328T030000
TZOFFSETFROM:+0200
TZOFFSETTO:+0100
TZNAME:Europe/Paris CET
END:STANDARD
BEGIN:STANDARD
DTSTART:20211031T020000
RDATE:20220327T030000
TZOFFSETFROM:+0200
TZOFFSETTO:+0100
TZNAME:Europe/Paris CET
END:STANDARD
BEGIN:STANDARD
DTSTART:20221030T020000
RDATE:20230326T030000
TZOFFSETFROM:+0200
TZOFFSETTO:+0100
TZNAME:Europe/Paris CET
END:STANDARD
BEGIN:STANDARD
DTSTART:20231029T020000
RDATE:20240331T030000
TZOFFSETFROM:+0200
TZOFFSETTO:+0100
TZNAME:Europe/Paris CET
END:STANDARD
BEGIN:STANDARD
DTSTART:20241027T020000
RDATE:20250330T030000
TZOFFSETFROM:+0200
TZOFFSETTO:+0100
TZNAME:Europe/Paris CET
END:STANDARD
BEGIN:STANDARD
DTSTART:20251026T020000
RDATE:20260329T030000
TZOFFSETFROM:+0200
TZOFFSETTO:+0100
TZNAME:Europe/Paris CET
END:STANDARD
BEGIN:STANDARD
DTSTART:20261025T020000
RDATE:20270328T030000
TZOFFSETFROM:+0200
TZOFFSETTO:+0100
TZNAME:Europe/Paris CET
END:STANDARD
BEGIN:DAYLIGHT
DTSTART:20180325T030000
RDATE:20181028T020000
TZOFFSETFROM:+0100
TZOFFSETTO:+0200
TZNAME:Europe/Paris CEST
END:DAYLIGHT
BEGIN:DAYLIGHT
DTSTART:20190331T030000
RDATE:20191027T020000
TZOFFSETFROM:+0100
TZOFFSETTO:+0200
TZNAME:Europe/Paris CEST
END:DAYLIGHT
BEGIN:DAYLIGHT
DTSTART:20200329T030000
RDATE:20201025T020000
TZOFFSETFROM:+0100
TZOFFSETTO:+0200
TZNAME:Europe/Paris CEST
END:DAYLIGHT
BEGIN:DAYLIGHT
DTSTART:20210328T030000
RDATE:20211031T020000
TZOFFSETFROM:+0100
TZOFFSETTO:+0200
TZNAME:Europe/Paris CEST
END:DAYLIGHT
BEGIN:DAYLIGHT
DTSTART:20220327T030000
RDATE:20221030T020000
TZOFFSETFROM:+0100
TZOFFSETTO:+0200
TZNAME:Europe/Paris CEST
END:DAYLIGHT
BEGIN:DAYLIGHT
DTSTART:20230326T030000
RDATE:20231029T020000
TZOFFSETFROM:+0100
TZOFFSETTO:+0200
TZNAME:Europe/Paris CEST
END:DAYLIGHT
BEGIN:DAYLIGHT
DTSTART:20240331T030000
RDATE:20241027T020000
TZOFFSETFROM:+0100
TZOFFSETTO:+0200
TZNAME:Europe/Paris CEST
END:DAYLIGHT
BEGIN:DAYLIGHT
DTSTART:20250330T030000
RDATE:20251026T020000
TZOFFSETFROM:+0100
TZOFFSETTO:+0200
TZNAME:Europe/Paris CEST
END:DAYLIGHT
BEGIN:DAYLIGHT
DTSTART:20260329T030000
RDATE:20261025T020000
TZOFFSETFROM:+0100
TZOFFSETTO:+0200
TZNAME:Europe/Paris CEST
END:DAYLIGHT
END:VTIMEZONE
BEGIN:VEVENT
UID:36c35ee735b17d7bd5aa25bdcd7b73b9
CATEGORIES:Compétition Ski de Fond
CREATED:20181114T121859
SUMMARY:Combiné Nordique  Sport Passion
URL;VALUE=URI:https://skivosges.net/agenda/a-venir/detailevenement/1179/-/combine-nordiqu
 e-sport-passion?tmpl=component
DESCRIPTION:Combiné Nordique  Sport Passion\n - Codex évenement FMVT0200\n - Station : 
 XONRUPT\n - Organisateur : 14102 SKI CLUB XONRUPT\n - Courriel : RegularLab
 s.EmailProtector.unCloak("ep_a421b040");Période d'inscription à l'evènement
  du samedi 09 février 2019 à 00:00 au jeudi 14 février 2019 à 12:00 (Inscri
 ptions impossibles).Inscriptions ouvertes aux detenteurs des titres Fédérau
 x valides suivants : Licenciés Compétiteurs et Titres Loisirs et Dirigeants
 Epreuves :\n - Le samedi 16 février 2019\n - Codex épreuve FMVF0201\n - Dep
 art Individuel\n - Catégorie(s) : U9/U11 (Filles)\n - Le samedi 16 février 
 2019\n - Codex épreuve FMVM0201\n - Depart Individuel\n - Catégorie(s) : U9
 /U11 (Garçons)\n - Le samedi 16 février 2019\n - Codex épreuve FMVF0202\n -
  Depart Individuel\n - Catégorie(s) : U13 (Filles)\n - Le samedi 16 février
  2019\n - Codex épreuve FMVM0202\n - Depart Individuel\n - Catégorie(s) : U
 13 (Garçons)\n - Voir les informations dans l'agenda... (/index.php?option=
 com_jevents&amp;task=icalevent.detail&amp;evid=1174&amp;Itemid=6289) Cet év
 ènement a été importé depuis :https://skivosges.net/agenda/a-venir/detailev
 enement/1179/-/combine-nordique-sport-passion?tmpl=component
X-ALT-DESC;FMTTYPE=text/html:<!-- #gskiepreuve code généré par le plugin jevents pour GskiEpreuves. Ne p
 as modifier cette ligne, ni tout le contenu suivant  #gskiepreuve --><div c
 lass="gski-evenement_infos"><div class="gski-evenement-nom">Combiné Nordiqu
 e  Sport Passion</div><div class="gski-evenement-report"></div><ul class="g
 ski-evenement-liste-infos"><li>Codex évenement FMVT0200</li><li>Station : X
 ONRUPT</li><li>Organisateur : 14102 SKI CLUB XONRUPT</li><li>Courriel : <!-
 - Cette adresse électronique est protégée contre les robots spammeurs. --><
 span class="cloaked_email ep_a421b040"><span data-ep-b="&#109;" data-ep-a="
 re&#109;&#121;"><span data-ep-b="&#108;&#46;&#99;o" data-ep-a="al&#97;&#105
 ;"><span data-ep-b="&#103;&#109;a&#105;" data-ep-a="&#110;8&#56;&#64;"></sp
 an></span></span></span><script>RegularLabs.EmailProtector.unCloak("ep_a421
 b040");</script></li></ul><div class="gski-evenement-infos-2"><div class="g
 ski-evenement-info-inscriptions"><div class="gski-evenement-inscriptions-pe
 riodes">Période d'inscription à l'evènement du samedi 09 février 2019 à 00:
 00 au jeudi 14 février 2019 à 12:00 <span class="gski-evenement-inscription
 s-impossibles">(Inscriptions impossibles).</span><div class="gski-evenement
 -inscriptions-types-titres">Inscriptions ouvertes aux detenteurs des titres
  Fédéraux valides suivants : Licenciés Compétiteurs et Titres Loisirs et Di
 rigeants</div></div></div><div class="gski-evenement-epreuves"><div class="
 gski-evenement-epreuves-titres">Epreuves :</div><ul class="gski-evenement-e
 preuves-list"><li><div class="gski-epreuve-date">Le samedi 16 février 2019<
 /div><ul class="gski-epreuve-liste-infos"><li>Codex épreuve FMVF0201</li><l
 i>Depart Individuel</li><li>Catégorie(s) : U9/U11 (Filles)</li></ul></li><l
 i><div class="gski-epreuve-date">Le samedi 16 février 2019</div><ul class="
 gski-epreuve-liste-infos"><li>Codex épreuve FMVM0201</li><li>Depart Individ
 uel</li><li>Catégorie(s) : U9/U11 (Garçons)</li></ul></li><li><div class="g
 ski-epreuve-date">Le samedi 16 février 2019</div><ul class="gski-epreuve-li
 ste-infos"><li>Codex épreuve FMVF0202</li><li>Depart Individuel</li><li>Cat
 égorie(s) : U13 (Filles)</li></ul></li><li><div class="gski-epreuve-date">L
 e samedi 16 février 2019</div><ul class="gski-epreuve-liste-infos"><li>Code
 x épreuve FMVM0202</li><li>Depart Individuel</li><li>Catégorie(s) : U13 (Ga
 rçons)</li></ul></li></ul></div><div class="gskiepreuves-links"><ul><li><a 
 href="https://skivosges.net/index.php?option=com_jevents&task=icalevent.det
 ail&evid=1174&Itemid=6289">Voir les informations dans l'agenda...</a></li><
 /ul></div></div"><!-- #/gskiepreuve fin du dode généré par le plugin jevent
 s pour GskiEpreuves. . Ne pas modifier cette ligne, ni tout le contenu préc
 edant.  #/gskiepreuve --> <a href="https://skivosges.net/agenda/a-venir/det
 ailevenement/1179/-/combine-nordique-sport-passion?tmpl=component">Cet évèn
 ement a été importé depuis :https://skivosges.net/agenda/a-venir/detaileven
 ement/1179/-/combine-nordique-sport-passion?tmpl=component</a>DTSTAMP:20260423T174102
DTSTART;TZID=Europe/Paris;VALUE=DATE:20190216
DTEND;TZID=Europe/Paris;VALUE=DATE:20190217
SEQUENCE:0
TRANSP:OPAQUE
END:VEVENT
END:VCALENDAR