BEGIN:VCALENDAR
VERSION:2.0
PRODID:-//jEvents 2.0 for Joomla//EN
CALSCALE:GREGORIAN
METHOD:PUBLISH
BEGIN:VTIMEZONE
TZID:Europe/Paris
BEGIN:STANDARD
DTSTART:20180215T000000
RDATE:20180325T030000
TZOFFSETFROM:+0200
TZOFFSETTO:+0100
TZNAME:Europe/Paris CET
END:STANDARD
BEGIN:STANDARD
DTSTART:20181028T020000
RDATE:20190331T030000
TZOFFSETFROM:+0200
TZOFFSETTO:+0100
TZNAME:Europe/Paris CET
END:STANDARD
BEGIN:STANDARD
DTSTART:20191027T020000
RDATE:20200329T030000
TZOFFSETFROM:+0200
TZOFFSETTO:+0100
TZNAME:Europe/Paris CET
END:STANDARD
BEGIN:STANDARD
DTSTART:20201025T020000
RDATE:20210328T030000
TZOFFSETFROM:+0200
TZOFFSETTO:+0100
TZNAME:Europe/Paris CET
END:STANDARD
BEGIN:STANDARD
DTSTART:20211031T020000
RDATE:20220327T030000
TZOFFSETFROM:+0200
TZOFFSETTO:+0100
TZNAME:Europe/Paris CET
END:STANDARD
BEGIN:STANDARD
DTSTART:20221030T020000
RDATE:20230326T030000
TZOFFSETFROM:+0200
TZOFFSETTO:+0100
TZNAME:Europe/Paris CET
END:STANDARD
BEGIN:STANDARD
DTSTART:20231029T020000
RDATE:20240331T030000
TZOFFSETFROM:+0200
TZOFFSETTO:+0100
TZNAME:Europe/Paris CET
END:STANDARD
BEGIN:STANDARD
DTSTART:20241027T020000
RDATE:20250330T030000
TZOFFSETFROM:+0200
TZOFFSETTO:+0100
TZNAME:Europe/Paris CET
END:STANDARD
BEGIN:STANDARD
DTSTART:20251026T020000
RDATE:20260329T030000
TZOFFSETFROM:+0200
TZOFFSETTO:+0100
TZNAME:Europe/Paris CET
END:STANDARD
BEGIN:STANDARD
DTSTART:20261025T020000
RDATE:20270328T030000
TZOFFSETFROM:+0200
TZOFFSETTO:+0100
TZNAME:Europe/Paris CET
END:STANDARD
BEGIN:DAYLIGHT
DTSTART:20180325T030000
RDATE:20181028T020000
TZOFFSETFROM:+0100
TZOFFSETTO:+0200
TZNAME:Europe/Paris CEST
END:DAYLIGHT
BEGIN:DAYLIGHT
DTSTART:20190331T030000
RDATE:20191027T020000
TZOFFSETFROM:+0100
TZOFFSETTO:+0200
TZNAME:Europe/Paris CEST
END:DAYLIGHT
BEGIN:DAYLIGHT
DTSTART:20200329T030000
RDATE:20201025T020000
TZOFFSETFROM:+0100
TZOFFSETTO:+0200
TZNAME:Europe/Paris CEST
END:DAYLIGHT
BEGIN:DAYLIGHT
DTSTART:20210328T030000
RDATE:20211031T020000
TZOFFSETFROM:+0100
TZOFFSETTO:+0200
TZNAME:Europe/Paris CEST
END:DAYLIGHT
BEGIN:DAYLIGHT
DTSTART:20220327T030000
RDATE:20221030T020000
TZOFFSETFROM:+0100
TZOFFSETTO:+0200
TZNAME:Europe/Paris CEST
END:DAYLIGHT
BEGIN:DAYLIGHT
DTSTART:20230326T030000
RDATE:20231029T020000
TZOFFSETFROM:+0100
TZOFFSETTO:+0200
TZNAME:Europe/Paris CEST
END:DAYLIGHT
BEGIN:DAYLIGHT
DTSTART:20240331T030000
RDATE:20241027T020000
TZOFFSETFROM:+0100
TZOFFSETTO:+0200
TZNAME:Europe/Paris CEST
END:DAYLIGHT
BEGIN:DAYLIGHT
DTSTART:20250330T030000
RDATE:20251026T020000
TZOFFSETFROM:+0100
TZOFFSETTO:+0200
TZNAME:Europe/Paris CEST
END:DAYLIGHT
BEGIN:DAYLIGHT
DTSTART:20260329T030000
RDATE:20261025T020000
TZOFFSETFROM:+0100
TZOFFSETTO:+0200
TZNAME:Europe/Paris CEST
END:DAYLIGHT
END:VTIMEZONE
BEGIN:VEVENT
UID:24b7d3f2862c780057f787bf3aeab79d
CATEGORIES:Compétition Saut
CREATED:20181114T121859
SUMMARY:Combiné Nordique pré club Jeux du Saut n°2
URL;VALUE=URI:https://skivosges.net/agenda/a-venir/detailevenement/1180/-/combine-nordiqu
 e-pre-club-jeux-du-saut-n-2?tmpl=component
DESCRIPTION:Combiné Nordique pré club Jeux du Saut n°2\n - Codex évenement TMVT0050\n -
  Station : XONRUPT\n - Organisateur : 14102 SKI CLUB XONRUPT\n - Courriel :
  RegularLabs.EmailProtector.unCloak("ep_59eebf37");Période d'inscription à 
 l'evènement du samedi 09 février 2019 à 00:00 au vendredi 15 février 2019 à
  12:00 (Inscriptions impossibles).Inscriptions ouvertes aux detenteurs des 
 titres Fédéraux valides suivants : Licenciés CompétiteursEpreuves :\n - Le 
 samedi 16 février 2019\n - Codex épreuve TMVF0051\n - Saut Special\n - Caté
 gorie(s) : U7 a U20 (Filles)\n - Le samedi 16 février 2019\n - Codex épreuv
 e TMVM0051\n - Saut Special\n - Catégorie(s) : U7 a U20 (Garçons)\n - Le sa
 medi 16 février 2019\n - Codex épreuve TMVF0052\n - Saut Special\n - Catégo
 rie(s) : Senior (Dames)\n - Le samedi 16 février 2019\n - Codex épreuve TMV
 M0052\n - Saut Special\n - Catégorie(s) : Senior (Hommes)\n - Voir les info
 rmations dans l'agenda... (/index.php?option=com_jevents&amp;task=icalevent
 .detail&amp;evid=1175&amp;Itemid=6289)\n - Vers les résultats... (/index.ph
 p?option=com_gskiepreuves&amp;view=afficheresultats&amp;format_option=tous&
 amp;filter[search]=TMVT0050&amp;filter[date_debut]=16-02-2019&amp;filter[da
 te_fin]=16-02-2019&amp;code_activite=SAUT&amp;Itemid=6289) Cet évènement a 
 été importé depuis :https://skivosges.net/agenda/a-venir/detailevenement/11
 80/-/combine-nordique-pre-club-jeux-du-saut-n-2?tmpl=component
X-ALT-DESC;FMTTYPE=text/html:<!-- #gskiepreuve code généré par le plugin jevents pour GskiEpreuves. Ne p
 as modifier cette ligne, ni tout le contenu suivant  #gskiepreuve --><div c
 lass="gski-evenement_infos"><div class="gski-evenement-nom">Combiné Nordiqu
 e pré club Jeux du Saut n°2</div><div class="gski-evenement-report"></div><
 ul class="gski-evenement-liste-infos"><li>Codex évenement TMVT0050</li><li>
 Station : XONRUPT</li><li>Organisateur : 14102 SKI CLUB XONRUPT</li><li>Cou
 rriel : <!-- Cette adresse électronique est protégée contre les robots spam
 meurs. --><span class="cloaked_email ep_59eebf37"><span data-ep-b="&#109;" 
 data-ep-a="&#114;e&#109;&#121;"><span data-ep-a="&#97;&#108;a&#105;" data-e
 p-b="&#108;&#46;&#99;&#111;"><span data-ep-a="&#110;&#56;8&#64;" data-ep-b=
 "&#103;&#109;ai"></span></span></span></span><script>RegularLabs.EmailProte
 ctor.unCloak("ep_59eebf37");</script></li></ul><div class="gski-evenement-i
 nfos-2"><div class="gski-evenement-info-inscriptions"><div class="gski-even
 ement-inscriptions-periodes">Période d'inscription à l'evènement du samedi 
 09 février 2019 à 00:00 au vendredi 15 février 2019 à 12:00 <span class="gs
 ki-evenement-inscriptions-impossibles">(Inscriptions impossibles).</span><d
 iv class="gski-evenement-inscriptions-types-titres">Inscriptions ouvertes a
 ux detenteurs des titres Fédéraux valides suivants : Licenciés Compétiteurs
 </div></div></div><div class="gski-evenement-epreuves"><div class="gski-eve
 nement-epreuves-titres">Epreuves :</div><ul class="gski-evenement-epreuves-
 list"><li><div class="gski-epreuve-date">Le samedi 16 février 2019</div><ul
  class="gski-epreuve-liste-infos"><li>Codex épreuve TMVF0051</li><li>Saut S
 pecial</li><li>Catégorie(s) : U7 a U20 (Filles)</li></ul></li><li><div clas
 s="gski-epreuve-date">Le samedi 16 février 2019</div><ul class="gski-epreuv
 e-liste-infos"><li>Codex épreuve TMVM0051</li><li>Saut Special</li><li>Caté
 gorie(s) : U7 a U20 (Garçons)</li></ul></li><li><div class="gski-epreuve-da
 te">Le samedi 16 février 2019</div><ul class="gski-epreuve-liste-infos"><li
 >Codex épreuve TMVF0052</li><li>Saut Special</li><li>Catégorie(s) : Senior 
 (Dames)</li></ul></li><li><div class="gski-epreuve-date">Le samedi 16 févri
 er 2019</div><ul class="gski-epreuve-liste-infos"><li>Codex épreuve TMVM005
 2</li><li>Saut Special</li><li>Catégorie(s) : Senior (Hommes)</li></ul></li
 ></ul></div><div class="gskiepreuves-links"><ul><li><a href="https://skivos
 ges.net/index.php?option=com_jevents&task=icalevent.detail&evid=1175&Itemid
 =6289">Voir les informations dans l'agenda...</a></li><li><a href="https://
 skivosges.net/index.php?option=com_gskiepreuves&view=afficheresultats&forma
 t_option=tous&filter[search]=TMVT0050&filter[date_debut]=16-02-2019&filter[
 date_fin]=16-02-2019&code_activite=SAUT&Itemid=6289">Vers les résultats...<
 /a></li></ul></div></div"><!-- #/gskiepreuve fin du dode généré par le plug
 in jevents pour GskiEpreuves. . Ne pas modifier cette ligne, ni tout le con
 tenu précedant.  #/gskiepreuve --> <a href="https://skivosges.net/agenda/a-
 venir/detailevenement/1180/-/combine-nordique-pre-club-jeux-du-saut-n-2?tmp
 l=component">Cet évènement a été importé depuis :https://skivosges.net/agen
 da/a-venir/detailevenement/1180/-/combine-nordique-pre-club-jeux-du-saut-n-
 2?tmpl=component</a>DTSTAMP:20260423T174103
DTSTART;TZID=Europe/Paris;VALUE=DATE:20190216
DTEND;TZID=Europe/Paris;VALUE=DATE:20190217
SEQUENCE:0
TRANSP:OPAQUE
END:VEVENT
END:VCALENDAR