BEGIN:VCALENDAR
VERSION:2.0
PRODID:-//jEvents 2.0 for Joomla//EN
CALSCALE:GREGORIAN
METHOD:PUBLISH
BEGIN:VTIMEZONE
TZID:Europe/Paris
BEGIN:STANDARD
DTSTART:20180302T000000
RDATE:20180325T030000
TZOFFSETFROM:+0200
TZOFFSETTO:+0100
TZNAME:Europe/Paris CET
END:STANDARD
BEGIN:STANDARD
DTSTART:20181028T020000
RDATE:20190331T030000
TZOFFSETFROM:+0200
TZOFFSETTO:+0100
TZNAME:Europe/Paris CET
END:STANDARD
BEGIN:STANDARD
DTSTART:20191027T020000
RDATE:20200329T030000
TZOFFSETFROM:+0200
TZOFFSETTO:+0100
TZNAME:Europe/Paris CET
END:STANDARD
BEGIN:STANDARD
DTSTART:20201025T020000
RDATE:20210328T030000
TZOFFSETFROM:+0200
TZOFFSETTO:+0100
TZNAME:Europe/Paris CET
END:STANDARD
BEGIN:STANDARD
DTSTART:20211031T020000
RDATE:20220327T030000
TZOFFSETFROM:+0200
TZOFFSETTO:+0100
TZNAME:Europe/Paris CET
END:STANDARD
BEGIN:STANDARD
DTSTART:20221030T020000
RDATE:20230326T030000
TZOFFSETFROM:+0200
TZOFFSETTO:+0100
TZNAME:Europe/Paris CET
END:STANDARD
BEGIN:STANDARD
DTSTART:20231029T020000
RDATE:20240331T030000
TZOFFSETFROM:+0200
TZOFFSETTO:+0100
TZNAME:Europe/Paris CET
END:STANDARD
BEGIN:STANDARD
DTSTART:20241027T020000
RDATE:20250330T030000
TZOFFSETFROM:+0200
TZOFFSETTO:+0100
TZNAME:Europe/Paris CET
END:STANDARD
BEGIN:STANDARD
DTSTART:20251026T020000
RDATE:20260329T030000
TZOFFSETFROM:+0200
TZOFFSETTO:+0100
TZNAME:Europe/Paris CET
END:STANDARD
BEGIN:STANDARD
DTSTART:20261025T020000
RDATE:20270328T030000
TZOFFSETFROM:+0200
TZOFFSETTO:+0100
TZNAME:Europe/Paris CET
END:STANDARD
BEGIN:DAYLIGHT
DTSTART:20180325T030000
RDATE:20181028T020000
TZOFFSETFROM:+0100
TZOFFSETTO:+0200
TZNAME:Europe/Paris CEST
END:DAYLIGHT
BEGIN:DAYLIGHT
DTSTART:20190331T030000
RDATE:20191027T020000
TZOFFSETFROM:+0100
TZOFFSETTO:+0200
TZNAME:Europe/Paris CEST
END:DAYLIGHT
BEGIN:DAYLIGHT
DTSTART:20200329T030000
RDATE:20201025T020000
TZOFFSETFROM:+0100
TZOFFSETTO:+0200
TZNAME:Europe/Paris CEST
END:DAYLIGHT
BEGIN:DAYLIGHT
DTSTART:20210328T030000
RDATE:20211031T020000
TZOFFSETFROM:+0100
TZOFFSETTO:+0200
TZNAME:Europe/Paris CEST
END:DAYLIGHT
BEGIN:DAYLIGHT
DTSTART:20220327T030000
RDATE:20221030T020000
TZOFFSETFROM:+0100
TZOFFSETTO:+0200
TZNAME:Europe/Paris CEST
END:DAYLIGHT
BEGIN:DAYLIGHT
DTSTART:20230326T030000
RDATE:20231029T020000
TZOFFSETFROM:+0100
TZOFFSETTO:+0200
TZNAME:Europe/Paris CEST
END:DAYLIGHT
BEGIN:DAYLIGHT
DTSTART:20240331T030000
RDATE:20241027T020000
TZOFFSETFROM:+0100
TZOFFSETTO:+0200
TZNAME:Europe/Paris CEST
END:DAYLIGHT
BEGIN:DAYLIGHT
DTSTART:20250330T030000
RDATE:20251026T020000
TZOFFSETFROM:+0100
TZOFFSETTO:+0200
TZNAME:Europe/Paris CEST
END:DAYLIGHT
BEGIN:DAYLIGHT
DTSTART:20260329T030000
RDATE:20261025T020000
TZOFFSETFROM:+0100
TZOFFSETTO:+0200
TZNAME:Europe/Paris CEST
END:DAYLIGHT
END:VTIMEZONE
BEGIN:VEVENT
UID:136bcd659127efef3fe2196076bda48b
CATEGORIES:Circuit Massif D2 (alpin)
CREATED:20181114T121859
SUMMARY:CD2 Coupe Labellemontagne
URL;VALUE=URI:https://skivosges.net/agenda/a-venir/detailevenement/1197/-/cd2-coupe-label
 lemontagne?tmpl=component
DESCRIPTION:CD2 Coupe Labellemontagne\n - Codex évenement AMVT0520\n - Lieu : STATION L
 ABELLEMONTAGNE\n - Station : LA BRESSE\n - Piste : Gaby Curien\n - Organisa
 teur : 14024 LA BRESSAUDE SECTION SKI\n - Courriel : RegularLabs.EmailProte
 ctor.unCloak("ep_9fe7c5f7");\n - Téléphone : 0608855252\n - Délégué Techniq
 ue : NOEL JEAN CHRISTOPHEPériode d'inscription à l'evènement du dimanche 24
  février 2019 à 00:00 au vendredi 01 mars 2019 à 17:00 (Inscriptions imposs
 ibles).Inscriptions ouvertes aux detenteurs des titres Fédéraux valides sui
 vants : Licenciés CompétiteursEpreuves :\n - Le dimanche 03 mars 2019 à 08:
 30\n - Codex épreuve AMVM0521\n - Slalom Geant\n - Catégorie(s) : U18 a Mas
 ters (Hommes)\n - Le dimanche 03 mars 2019 à 08:30\n - Codex épreuve AMVF05
 21\n - Slalom Geant\n - Catégorie(s) : U18 a Masters (Dames)\n - Voir les i
 nformations dans l'agenda... (/index.php?option=com_jevents&amp;task=icalev
 ent.detail&amp;evid=1192&amp;Itemid=6289)\n - Vers les résultats... (/index
 .php?option=com_gskiepreuves&amp;view=afficheresultats&amp;format_option=to
 us&amp;filter[search]=AMVT0520&amp;filter[date_debut]=03-03-2019&amp;filter
 [date_fin]=03-03-2019&amp;code_activite=ALP&amp;Itemid=6289) Cet évènement 
 a été importé depuis :https://skivosges.net/agenda/a-venir/detailevenement/
 1197/-/cd2-coupe-labellemontagne?tmpl=component
X-ALT-DESC;FMTTYPE=text/html:<!-- #gskiepreuve code généré par le plugin jevents pour GskiEpreuves. Ne p
 as modifier cette ligne, ni tout le contenu suivant  #gskiepreuve --><div c
 lass="gski-evenement_infos"><div class="gski-evenement-nom">CD2 Coupe Label
 lemontagne</div><div class="gski-evenement-report"></div><ul class="gski-ev
 enement-liste-infos"><li>Codex évenement AMVT0520</li><li>Lieu : STATION LA
 BELLEMONTAGNE</li><li>Station : LA BRESSE</li><li>Piste : Gaby Curien</li><
 li>Organisateur : 14024 LA BRESSAUDE SECTION SKI</li><li>Courriel : <!-- Ce
 tte adresse électronique est protégée contre les robots spammeurs. --><span
  class="cloaked_email ep_9fe7c5f7"><span data-ep-a="&#111;&#100;&#105;&#108
 ;&#101;" data-ep-b="fr"><span data-ep-b="&#97;&#110;g&#101;&#46;" data-ep-a
 ="&#46;&#109;&#117;&#110;&#115;"><span data-ep-a="ch&#46;&#115;c" data-ep-b
 ="&#108;b&#64;o&#114;"></span></span></span></span><script>RegularLabs.Emai
 lProtector.unCloak("ep_9fe7c5f7");</script></li><li>Téléphone : 0608855252<
 /li><li><span class="gski-evenement-obs">Délégué Technique : NOEL JEAN CHRI
 STOPHE</span></li></ul><div class="gski-evenement-infos-2"><div class="gski
 -evenement-info-inscriptions"><div class="gski-evenement-inscriptions-perio
 des">Période d'inscription à l'evènement du dimanche 24 février 2019 à 00:0
 0 au vendredi 01 mars 2019 à 17:00 <span class="gski-evenement-inscriptions
 -impossibles">(Inscriptions impossibles).</span><div class="gski-evenement-
 inscriptions-types-titres">Inscriptions ouvertes aux detenteurs des titres 
 Fédéraux valides suivants : Licenciés Compétiteurs</div></div></div><div cl
 ass="gski-evenement-epreuves"><div class="gski-evenement-epreuves-titres">E
 preuves :</div><ul class="gski-evenement-epreuves-list"><li><div class="gsk
 i-epreuve-date">Le dimanche 03 mars 2019 à 08:30</div><ul class="gski-epreu
 ve-liste-infos"><li>Codex épreuve AMVM0521</li><li>Slalom Geant</li><li>Cat
 égorie(s) : U18 a Masters (Hommes)</li></ul></li><li><div class="gski-epreu
 ve-date">Le dimanche 03 mars 2019 à 08:30</div><ul class="gski-epreuve-list
 e-infos"><li>Codex épreuve AMVF0521</li><li>Slalom Geant</li><li>Catégorie(
 s) : U18 a Masters (Dames)</li></ul></li></ul></div><div class="gskiepreuve
 s-links"><ul><li><a href="https://skivosges.net/index.php?option=com_jevent
 s&task=icalevent.detail&evid=1192&Itemid=6289">Voir les informations dans l
 'agenda...</a></li><li><a href="https://skivosges.net/index.php?option=com_
 gskiepreuves&view=afficheresultats&format_option=tous&filter[search]=AMVT05
 20&filter[date_debut]=03-03-2019&filter[date_fin]=03-03-2019&code_activite=
 ALP&Itemid=6289">Vers les résultats...</a></li></ul></div></div"><!-- #/gsk
 iepreuve fin du dode généré par le plugin jevents pour GskiEpreuves. . Ne p
 as modifier cette ligne, ni tout le contenu précedant.  #/gskiepreuve --> <
 a href="https://skivosges.net/agenda/a-venir/detailevenement/1197/-/cd2-cou
 pe-labellemontagne?tmpl=component">Cet évènement a été importé depuis :http
 s://skivosges.net/agenda/a-venir/detailevenement/1197/-/cd2-coupe-labellemo
 ntagne?tmpl=component</a>DTSTAMP:20260423T174040
DTSTART;TZID=Europe/Paris;VALUE=DATE:20190303
DTEND;TZID=Europe/Paris;VALUE=DATE:20190304
SEQUENCE:0
TRANSP:OPAQUE
END:VEVENT
END:VCALENDAR