BEGIN:VCALENDAR
VERSION:2.0
PRODID:-//jEvents 2.0 for Joomla//EN
CALSCALE:GREGORIAN
METHOD:PUBLISH
BEGIN:VTIMEZONE
TZID:Europe/Paris
BEGIN:STANDARD
DTSTART:20180302T000000
RDATE:20180325T030000
TZOFFSETFROM:+0200
TZOFFSETTO:+0100
TZNAME:Europe/Paris CET
END:STANDARD
BEGIN:STANDARD
DTSTART:20181028T020000
RDATE:20190331T030000
TZOFFSETFROM:+0200
TZOFFSETTO:+0100
TZNAME:Europe/Paris CET
END:STANDARD
BEGIN:STANDARD
DTSTART:20191027T020000
RDATE:20200329T030000
TZOFFSETFROM:+0200
TZOFFSETTO:+0100
TZNAME:Europe/Paris CET
END:STANDARD
BEGIN:STANDARD
DTSTART:20201025T020000
RDATE:20210328T030000
TZOFFSETFROM:+0200
TZOFFSETTO:+0100
TZNAME:Europe/Paris CET
END:STANDARD
BEGIN:STANDARD
DTSTART:20211031T020000
RDATE:20220327T030000
TZOFFSETFROM:+0200
TZOFFSETTO:+0100
TZNAME:Europe/Paris CET
END:STANDARD
BEGIN:STANDARD
DTSTART:20221030T020000
RDATE:20230326T030000
TZOFFSETFROM:+0200
TZOFFSETTO:+0100
TZNAME:Europe/Paris CET
END:STANDARD
BEGIN:STANDARD
DTSTART:20231029T020000
RDATE:20240331T030000
TZOFFSETFROM:+0200
TZOFFSETTO:+0100
TZNAME:Europe/Paris CET
END:STANDARD
BEGIN:STANDARD
DTSTART:20241027T020000
RDATE:20250330T030000
TZOFFSETFROM:+0200
TZOFFSETTO:+0100
TZNAME:Europe/Paris CET
END:STANDARD
BEGIN:STANDARD
DTSTART:20251026T020000
RDATE:20260329T030000
TZOFFSETFROM:+0200
TZOFFSETTO:+0100
TZNAME:Europe/Paris CET
END:STANDARD
BEGIN:STANDARD
DTSTART:20261025T020000
RDATE:20270328T030000
TZOFFSETFROM:+0200
TZOFFSETTO:+0100
TZNAME:Europe/Paris CET
END:STANDARD
BEGIN:DAYLIGHT
DTSTART:20180325T030000
RDATE:20181028T020000
TZOFFSETFROM:+0100
TZOFFSETTO:+0200
TZNAME:Europe/Paris CEST
END:DAYLIGHT
BEGIN:DAYLIGHT
DTSTART:20190331T030000
RDATE:20191027T020000
TZOFFSETFROM:+0100
TZOFFSETTO:+0200
TZNAME:Europe/Paris CEST
END:DAYLIGHT
BEGIN:DAYLIGHT
DTSTART:20200329T030000
RDATE:20201025T020000
TZOFFSETFROM:+0100
TZOFFSETTO:+0200
TZNAME:Europe/Paris CEST
END:DAYLIGHT
BEGIN:DAYLIGHT
DTSTART:20210328T030000
RDATE:20211031T020000
TZOFFSETFROM:+0100
TZOFFSETTO:+0200
TZNAME:Europe/Paris CEST
END:DAYLIGHT
BEGIN:DAYLIGHT
DTSTART:20220327T030000
RDATE:20221030T020000
TZOFFSETFROM:+0100
TZOFFSETTO:+0200
TZNAME:Europe/Paris CEST
END:DAYLIGHT
BEGIN:DAYLIGHT
DTSTART:20230326T030000
RDATE:20231029T020000
TZOFFSETFROM:+0100
TZOFFSETTO:+0200
TZNAME:Europe/Paris CEST
END:DAYLIGHT
BEGIN:DAYLIGHT
DTSTART:20240331T030000
RDATE:20241027T020000
TZOFFSETFROM:+0100
TZOFFSETTO:+0200
TZNAME:Europe/Paris CEST
END:DAYLIGHT
BEGIN:DAYLIGHT
DTSTART:20250330T030000
RDATE:20251026T020000
TZOFFSETFROM:+0100
TZOFFSETTO:+0200
TZNAME:Europe/Paris CEST
END:DAYLIGHT
BEGIN:DAYLIGHT
DTSTART:20260329T030000
RDATE:20261025T020000
TZOFFSETFROM:+0100
TZOFFSETTO:+0200
TZNAME:Europe/Paris CEST
END:DAYLIGHT
END:VTIMEZONE
BEGIN:VEVENT
UID:549da05bf15fc583e44f2f43c310f9a5
CATEGORIES:Opens et Promos (alpin)
CREATED:20181114T121859
SUMMARY:PROMO Dimanche de la Glisse - Prix du SC Breitenbach
URL;VALUE=URI:https://skivosges.net/agenda/a-venir/detailevenement/1201/-/promo-dimanche-
 de-la-glisse-prix-du-sc-breitenbach?tmpl=component
DESCRIPTION:PROMO Dimanche de la Glisse - Prix du SC Breitenbach\n - Codex évenement AM
 VT0550\n - Station : CHAMP DU FEU\n - Piste : Chapelle\n - Organisateur : 1
 4227 SKI CLUB BREITENBACH\n - Courriel : RegularLabs.EmailProtector.unCloak
 ("ep_5991ab39");Période d'inscription à l'evènement du dimanche 24 février 
 2019 à 00:00 au samedi 02 mars 2019 à 17:30 (Inscriptions impossibles).Insc
 riptions ouvertes aux detenteurs des titres Fédéraux valides suivants : Lic
 enciés Compétiteurs et Titres Loisirs et DirigeantsEpreuves :\n - Le dimanc
 he 03 mars 2019\n - Codex épreuve AMVM0551\n - Slalom Geant\n - Catégorie(s
 ) : U8/U10 (Garçons)\n - Le dimanche 03 mars 2019\n - Codex épreuve AMVF055
 1\n - Slalom Geant\n - Catégorie(s) : U8/U10 (Filles)\n - Le dimanche 03 ma
 rs 2019\n - Codex épreuve AMVM0552\n - Slalom Geant\n - Catégorie(s) : U12 
 a U16 (Garçons)\n - Le dimanche 03 mars 2019\n - Codex épreuve AMVF0552\n -
  Slalom Geant\n - Catégorie(s) : U12 a U16 (Filles)\n - Voir les informatio
 ns dans l'agenda... (/index.php?option=com_jevents&amp;task=icalevent.detai
 l&amp;evid=1196&amp;Itemid=6289)\n - Vers les résultats... (/index.php?opti
 on=com_gskiepreuves&amp;view=afficheresultats&amp;format_option=tous&amp;fi
 lter[search]=AMVT0550&amp;filter[date_debut]=03-03-2019&amp;filter[date_fin
 ]=03-03-2019&amp;code_activite=ALP&amp;Itemid=6289)\n - Publications concer
 nant cet évènement :\n - Samedi 2 Mars 2019 à 11:48 : Le 03/03/2019 CHAMP D
 U FEU Informations Cet évènement a été importé depuis :https://skivosges.ne
 t/agenda/a-venir/detailevenement/1201/-/promo-dimanche-de-la-glisse-prix-du
 -sc-breitenbach?tmpl=component
X-ALT-DESC;FMTTYPE=text/html:<!-- #gskiepreuve code généré par le plugin jevents pour GskiEpreuves. Ne p
 as modifier cette ligne, ni tout le contenu suivant  #gskiepreuve --><div c
 lass="gski-evenement_infos"><div class="gski-evenement-nom">PROMO Dimanche 
 de la Glisse - Prix du SC Breitenbach</div><div class="gski-evenement-repor
 t"></div><ul class="gski-evenement-liste-infos"><li>Codex évenement AMVT055
 0</li><li>Station : CHAMP DU FEU</li><li>Piste : Chapelle</li><li>Organisat
 eur : 14227 SKI CLUB BREITENBACH</li><li>Courriel : <!-- Cette adresse élec
 tronique est protégée contre les robots spammeurs. --><span class="cloaked_
 email ep_5991ab39"><span data-ep-a="&#106;&#112;&#104;&#46;" data-ep-b="&#1
 02;&#114;"><span data-ep-b="n&#103;&#101;." data-ep-a="&#104;&#111;l&#119;"
 ><span data-ep-b="&#64;&#111;&#114;&#97;" data-ep-a="e&#103;&#54;&#55;"></s
 pan></span></span></span><script>RegularLabs.EmailProtector.unCloak("ep_599
 1ab39");</script></li></ul><div class="gski-evenement-infos-2"><div class="
 gski-evenement-info-inscriptions"><div class="gski-evenement-inscriptions-p
 eriodes">Période d'inscription à l'evènement du dimanche 24 février 2019 à 
 00:00 au samedi 02 mars 2019 à 17:30 <span class="gski-evenement-inscriptio
 ns-impossibles">(Inscriptions impossibles).</span><div class="gski-evenemen
 t-inscriptions-types-titres">Inscriptions ouvertes aux detenteurs des titre
 s Fédéraux valides suivants : Licenciés Compétiteurs et Titres Loisirs et D
 irigeants</div></div></div><div class="gski-evenement-epreuves"><div class=
 "gski-evenement-epreuves-titres">Epreuves :</div><ul class="gski-evenement-
 epreuves-list"><li><div class="gski-epreuve-date">Le dimanche 03 mars 2019<
 /div><ul class="gski-epreuve-liste-infos"><li>Codex épreuve AMVM0551</li><l
 i>Slalom Geant</li><li>Catégorie(s) : U8/U10 (Garçons)</li></ul></li><li><d
 iv class="gski-epreuve-date">Le dimanche 03 mars 2019</div><ul class="gski-
 epreuve-liste-infos"><li>Codex épreuve AMVF0551</li><li>Slalom Geant</li><l
 i>Catégorie(s) : U8/U10 (Filles)</li></ul></li><li><div class="gski-epreuve
 -date">Le dimanche 03 mars 2019</div><ul class="gski-epreuve-liste-infos"><
 li>Codex épreuve AMVM0552</li><li>Slalom Geant</li><li>Catégorie(s) : U12 a
  U16 (Garçons)</li></ul></li><li><div class="gski-epreuve-date">Le dimanche
  03 mars 2019</div><ul class="gski-epreuve-liste-infos"><li>Codex épreuve A
 MVF0552</li><li>Slalom Geant</li><li>Catégorie(s) : U12 a U16 (Filles)</li>
 </ul></li></ul></div><div class="gskiepreuves-links"><ul><li><a href="https
 ://skivosges.net/index.php?option=com_jevents&task=icalevent.detail&evid=11
 96&Itemid=6289">Voir les informations dans l'agenda...</a></li><li><a href=
 "https://skivosges.net/index.php?option=com_gskiepreuves&view=afficheresult
 ats&format_option=tous&filter[search]=AMVT0550&filter[date_debut]=03-03-201
 9&filter[date_fin]=03-03-2019&code_activite=ALP&Itemid=6289">Vers les résul
 tats...</a></li><li>Publications concernant cet évènement :<ul><li><a href=
 "https://skivosges.net/index.php?option=com_content&view=article&id=6756&It
 emid=6289">Samedi 2 Mars 2019 à 11:48 : Le 03/03/2019 CHAMP DU FEU Informat
 ions</a></li></ul></li></ul></div></div"><!-- #/gskiepreuve fin du dode gén
 éré par le plugin jevents pour GskiEpreuves. . Ne pas modifier cette ligne,
  ni tout le contenu précedant.  #/gskiepreuve --> <a href="https://skivosge
 s.net/agenda/a-venir/detailevenement/1201/-/promo-dimanche-de-la-glisse-pri
 x-du-sc-breitenbach?tmpl=component">Cet évènement a été importé depuis :htt
 ps://skivosges.net/agenda/a-venir/detailevenement/1201/-/promo-dimanche-de-
 la-glisse-prix-du-sc-breitenbach?tmpl=component</a>DTSTAMP:20260423T174115
DTSTART;TZID=Europe/Paris;VALUE=DATE:20190303
DTEND;TZID=Europe/Paris;VALUE=DATE:20190304
SEQUENCE:0
TRANSP:OPAQUE
END:VEVENT
END:VCALENDAR