BEGIN:VCALENDAR
VERSION:2.0
PRODID:-//jEvents 2.0 for Joomla//EN
CALSCALE:GREGORIAN
METHOD:PUBLISH
BEGIN:VTIMEZONE
TZID:Europe/Paris
BEGIN:STANDARD
DTSTART:20180309T000000
RDATE:20180325T030000
TZOFFSETFROM:+0200
TZOFFSETTO:+0100
TZNAME:Europe/Paris CET
END:STANDARD
BEGIN:STANDARD
DTSTART:20181028T020000
RDATE:20190331T030000
TZOFFSETFROM:+0200
TZOFFSETTO:+0100
TZNAME:Europe/Paris CET
END:STANDARD
BEGIN:STANDARD
DTSTART:20191027T020000
RDATE:20200329T030000
TZOFFSETFROM:+0200
TZOFFSETTO:+0100
TZNAME:Europe/Paris CET
END:STANDARD
BEGIN:STANDARD
DTSTART:20201025T020000
RDATE:20210328T030000
TZOFFSETFROM:+0200
TZOFFSETTO:+0100
TZNAME:Europe/Paris CET
END:STANDARD
BEGIN:STANDARD
DTSTART:20211031T020000
RDATE:20220327T030000
TZOFFSETFROM:+0200
TZOFFSETTO:+0100
TZNAME:Europe/Paris CET
END:STANDARD
BEGIN:STANDARD
DTSTART:20221030T020000
RDATE:20230326T030000
TZOFFSETFROM:+0200
TZOFFSETTO:+0100
TZNAME:Europe/Paris CET
END:STANDARD
BEGIN:STANDARD
DTSTART:20231029T020000
RDATE:20240331T030000
TZOFFSETFROM:+0200
TZOFFSETTO:+0100
TZNAME:Europe/Paris CET
END:STANDARD
BEGIN:STANDARD
DTSTART:20241027T020000
RDATE:20250330T030000
TZOFFSETFROM:+0200
TZOFFSETTO:+0100
TZNAME:Europe/Paris CET
END:STANDARD
BEGIN:STANDARD
DTSTART:20251026T020000
RDATE:20260329T030000
TZOFFSETFROM:+0200
TZOFFSETTO:+0100
TZNAME:Europe/Paris CET
END:STANDARD
BEGIN:STANDARD
DTSTART:20261025T020000
RDATE:20270328T030000
TZOFFSETFROM:+0200
TZOFFSETTO:+0100
TZNAME:Europe/Paris CET
END:STANDARD
BEGIN:DAYLIGHT
DTSTART:20180325T030000
RDATE:20181028T020000
TZOFFSETFROM:+0100
TZOFFSETTO:+0200
TZNAME:Europe/Paris CEST
END:DAYLIGHT
BEGIN:DAYLIGHT
DTSTART:20190331T030000
RDATE:20191027T020000
TZOFFSETFROM:+0100
TZOFFSETTO:+0200
TZNAME:Europe/Paris CEST
END:DAYLIGHT
BEGIN:DAYLIGHT
DTSTART:20200329T030000
RDATE:20201025T020000
TZOFFSETFROM:+0100
TZOFFSETTO:+0200
TZNAME:Europe/Paris CEST
END:DAYLIGHT
BEGIN:DAYLIGHT
DTSTART:20210328T030000
RDATE:20211031T020000
TZOFFSETFROM:+0100
TZOFFSETTO:+0200
TZNAME:Europe/Paris CEST
END:DAYLIGHT
BEGIN:DAYLIGHT
DTSTART:20220327T030000
RDATE:20221030T020000
TZOFFSETFROM:+0100
TZOFFSETTO:+0200
TZNAME:Europe/Paris CEST
END:DAYLIGHT
BEGIN:DAYLIGHT
DTSTART:20230326T030000
RDATE:20231029T020000
TZOFFSETFROM:+0100
TZOFFSETTO:+0200
TZNAME:Europe/Paris CEST
END:DAYLIGHT
BEGIN:DAYLIGHT
DTSTART:20240331T030000
RDATE:20241027T020000
TZOFFSETFROM:+0100
TZOFFSETTO:+0200
TZNAME:Europe/Paris CEST
END:DAYLIGHT
BEGIN:DAYLIGHT
DTSTART:20250330T030000
RDATE:20251026T020000
TZOFFSETFROM:+0100
TZOFFSETTO:+0200
TZNAME:Europe/Paris CEST
END:DAYLIGHT
BEGIN:DAYLIGHT
DTSTART:20260329T030000
RDATE:20261025T020000
TZOFFSETFROM:+0100
TZOFFSETTO:+0200
TZNAME:Europe/Paris CEST
END:DAYLIGHT
END:VTIMEZONE
BEGIN:VEVENT
UID:5c14ca671d35871839801555f773a37c
CATEGORIES:Circuit Massif Adultes (alpin)
CREATED:20181114T121859
SUMMARY:CAM Adultes Grand Prix Gaby Curien **REPORTE(E) au 24/03/2019**
URL;VALUE=URI:https://skivosges.net/agenda/a-venir/detailevenement/1208/-/cam-adultes-gra
 nd-prix-gaby-curien-reporte-e-au-24-03-2019?tmpl=component
DESCRIPTION:<!-- #gskiepreuve code généré par le plugin jevents pour GskiEpreuves. Ne p
 as modifier cette ligne, ni tout le contenu suivant  #gskiepreuve --><div c
 lass="gski-evenement_infos"><div class="gski-evenement-nom">CAM Adultes Gra
 nd Prix Gaby Curien</div><div class="gski-evenement-report"> <font class="g
 skiattention">(Epreuve reportée au 24/03/2019)</font></div><ul class="gski-
 evenement-liste-infos"><li>Codex évenement AMVT0590</li><li>Lieu : STATION 
 LABELLEMONTAGNE</li><li>Station : LA BRESSE</li><li>Piste : GABY CURIEN</li
 ><li>Organisateur : 14024 LA BRESSAUDE SECTION SKI</li><li>Courriel : <!-- 
 Cette adresse électronique est protégée contre les robots spammeurs. --><sp
 an class="cloaked_email ep_022a562e"><span data-ep-a="&#111;d&#105;l&#101;"
  data-ep-b="&#102;r"><span data-ep-b="a&#110;&#103;&#101;." data-ep-a="&#46
 ;&#109;&#117;&#110;&#115;"><span data-ep-a="ch.s&#99;" data-ep-b="&#108;b&#
 64;or"></span></span></span></span><script>RegularLabs.EmailProtector.unClo
 ak("ep_022a562e");</script></li><li>Téléphone : 0608855252</li><li><span cl
 ass="gski-evenement-obs">Délégué Technique : LEDUC THIBAUT</span></li></ul>
 <div class="gski-evenement-infos-2"><div class="gski-evenement-info-inscrip
 tions"><div class="gski-evenement-inscriptions-periodes">Période d'inscript
 ion à l'evènement du dimanche 03 mars 2019 à 00:00 au vendredi 08 mars 2019
  à 17:00 <span class="gski-evenement-inscriptions-impossibles">(Inscription
 s impossibles).</span><div class="gski-evenement-inscriptions-types-titres"
 >Inscriptions ouvertes aux detenteurs des titres Fédéraux valides suivants 
 : Licenciés Compétiteurs</div></div></div><div class="gski-evenement-epreuv
 es"><div class="gski-evenement-epreuves-titres">Epreuves :</div><ul class="
 gski-evenement-epreuves-list"><li><div class="gski-epreuve-date">Le dimanch
 e 10 mars 2019 à 10:00</div><ul class="gski-epreuve-liste-infos"><li>Codex 
 épreuve AMVM0591</li><li>Slalom Geant</li><li>Catégorie(s) : U16 (Garçons)<
 /li></ul></li><li><div class="gski-epreuve-date">Le dimanche 10 mars 2019 à
  10:00</div><ul class="gski-epreuve-liste-infos"><li>Codex épreuve AMVF0591
 </li><li>Slalom Geant</li><li>Catégorie(s) : U16 (Filles)</li></ul></li><li
 ><div class="gski-epreuve-date">Le dimanche 10 mars 2019 à 10:00</div><ul c
 lass="gski-epreuve-liste-infos"><li>Codex épreuve AMVM0592</li><li>Slalom G
 eant</li><li>Catégorie(s) : U18 a Masters (Hommes)</li></ul></li><li><div c
 lass="gski-epreuve-date">Le dimanche 10 mars 2019 à 10:00</div><ul class="g
 ski-epreuve-liste-infos"><li>Codex épreuve AMVF0592</li><li>Slalom Geant</l
 i><li>Catégorie(s) : U18 a Masters (Dames)</li></ul></li></ul></div><div cl
 ass="gskiepreuves-links"><ul><li><a href="/index.php?option=com_jevents&tas
 k=icalevent.detail&evid=1203&Itemid=6289">Voir les informations dans l'agen
 da...</a></li><li><a href="/index.php?option=com_gskiepreuves&view=afficher
 esultats&format_option=tous&filter[search]=AMVT0590&filter[date_debut]=24-0
 3-2019&filter[date_fin]=24-03-2019&code_activite=ALP&Itemid=6289">Vers les 
 résultats...</a></li><li>Publications concernant cet évènement :<ul><li><a 
 href="/index.php?option=com_content&view=article&id=6865&Itemid=6289">Diman
 che 24 Mars 2019 à 16:56 : Le 24/03/2019 LA BRESSE Résultats</a></li><li><a
  href="/index.php?option=com_content&view=article&id=6862&Itemid=6289">Vend
 redi 22 Mars 2019 à 19:55 : Le 24/03/2019 LA BRESSE Liste de départs</a></l
 i><li><a href="/index.php?option=com_content&view=article&id=6852&Itemid=62
 89">Mercredi 20 Mars 2019 à 20:37 : Le 24/03/2019 LA BRESSE Informations</a
 ></li></ul></li></ul></div></div"><!-- #/gskiepreuve fin du dode généré par
  le plugin jevents pour GskiEpreuves. . Ne pas modifier cette ligne, ni tou
 t le contenu précedant.  #/gskiepreuve --> <a href="https://skivosges.net/a
 genda/a-venir/detailevenement/1208/-/cam-adultes-grand-prix-gaby-curien-rep
 orte-e-au-24-03-2019?tmpl=component">Cet évènement a été importé depuis :ht
 tps://skivosges.net/agenda/a-venir/detailevenement/1208/-/cam-adultes-grand
 -prix-gaby-curien-reporte-e-au-24-03-2019?tmpl=component</a>
X-ALT-DESC;FMTTYPE=text/html:<!-- #gskiepreuve code généré par le plugin jevents pour GskiEpreuves. Ne p
 as modifier cette ligne, ni tout le contenu suivant  #gskiepreuve --><div c
 lass="gski-evenement_infos"><div class="gski-evenement-nom">CAM Adultes Gra
 nd Prix Gaby Curien</div><div class="gski-evenement-report"> <font class="g
 skiattention">(Epreuve reportée au 24/03/2019)</font></div><ul class="gski-
 evenement-liste-infos"><li>Codex évenement AMVT0590</li><li>Lieu : STATION 
 LABELLEMONTAGNE</li><li>Station : LA BRESSE</li><li>Piste : GABY CURIEN</li
 ><li>Organisateur : 14024 LA BRESSAUDE SECTION SKI</li><li>Courriel : <!-- 
 Cette adresse électronique est protégée contre les robots spammeurs. --><sp
 an class="cloaked_email ep_022a562e"><span data-ep-a="&#111;d&#105;l&#101;"
  data-ep-b="&#102;r"><span data-ep-b="a&#110;&#103;&#101;." data-ep-a="&#46
 ;&#109;&#117;&#110;&#115;"><span data-ep-a="ch.s&#99;" data-ep-b="&#108;b&#
 64;or"></span></span></span></span><script>RegularLabs.EmailProtector.unClo
 ak("ep_022a562e");</script></li><li>Téléphone : 0608855252</li><li><span cl
 ass="gski-evenement-obs">Délégué Technique : LEDUC THIBAUT</span></li></ul>
 <div class="gski-evenement-infos-2"><div class="gski-evenement-info-inscrip
 tions"><div class="gski-evenement-inscriptions-periodes">Période d'inscript
 ion à l'evènement du dimanche 03 mars 2019 à 00:00 au vendredi 08 mars 2019
  à 17:00 <span class="gski-evenement-inscriptions-impossibles">(Inscription
 s impossibles).</span><div class="gski-evenement-inscriptions-types-titres"
 >Inscriptions ouvertes aux detenteurs des titres Fédéraux valides suivants 
 : Licenciés Compétiteurs</div></div></div><div class="gski-evenement-epreuv
 es"><div class="gski-evenement-epreuves-titres">Epreuves :</div><ul class="
 gski-evenement-epreuves-list"><li><div class="gski-epreuve-date">Le dimanch
 e 10 mars 2019 à 10:00</div><ul class="gski-epreuve-liste-infos"><li>Codex 
 épreuve AMVM0591</li><li>Slalom Geant</li><li>Catégorie(s) : U16 (Garçons)<
 /li></ul></li><li><div class="gski-epreuve-date">Le dimanche 10 mars 2019 à
  10:00</div><ul class="gski-epreuve-liste-infos"><li>Codex épreuve AMVF0591
 </li><li>Slalom Geant</li><li>Catégorie(s) : U16 (Filles)</li></ul></li><li
 ><div class="gski-epreuve-date">Le dimanche 10 mars 2019 à 10:00</div><ul c
 lass="gski-epreuve-liste-infos"><li>Codex épreuve AMVM0592</li><li>Slalom G
 eant</li><li>Catégorie(s) : U18 a Masters (Hommes)</li></ul></li><li><div c
 lass="gski-epreuve-date">Le dimanche 10 mars 2019 à 10:00</div><ul class="g
 ski-epreuve-liste-infos"><li>Codex épreuve AMVF0592</li><li>Slalom Geant</l
 i><li>Catégorie(s) : U18 a Masters (Dames)</li></ul></li></ul></div><div cl
 ass="gskiepreuves-links"><ul><li><a href="https://skivosges.net/index.php?o
 ption=com_jevents&task=icalevent.detail&evid=1203&Itemid=6289">Voir les inf
 ormations dans l'agenda...</a></li><li><a href="https://skivosges.net/index
 .php?option=com_gskiepreuves&view=afficheresultats&format_option=tous&filte
 r[search]=AMVT0590&filter[date_debut]=24-03-2019&filter[date_fin]=24-03-201
 9&code_activite=ALP&Itemid=6289">Vers les résultats...</a></li><li>Publicat
 ions concernant cet évènement :<ul><li><a href="https://skivosges.net/index
 .php?option=com_content&view=article&id=6865&Itemid=6289">Dimanche 24 Mars 
 2019 à 16:56 : Le 24/03/2019 LA BRESSE Résultats</a></li><li><a href="https
 ://skivosges.net/index.php?option=com_content&view=article&id=6862&Itemid=6
 289">Vendredi 22 Mars 2019 à 19:55 : Le 24/03/2019 LA BRESSE Liste de dépar
 ts</a></li><li><a href="https://skivosges.net/index.php?option=com_content&
 view=article&id=6852&Itemid=6289">Mercredi 20 Mars 2019 à 20:37 : Le 24/03/
 2019 LA BRESSE Informations</a></li></ul></li></ul></div></div"><!-- #/gski
 epreuve fin du dode généré par le plugin jevents pour GskiEpreuves. . Ne pa
 s modifier cette ligne, ni tout le contenu précedant.  #/gskiepreuve --> <a
  href="https://skivosges.net/agenda/a-venir/detailevenement/1208/-/cam-adul
 tes-grand-prix-gaby-curien-reporte-e-au-24-03-2019?tmpl=component">Cet évèn
 ement a été importé depuis :https://skivosges.net/agenda/a-venir/detaileven
 ement/1208/-/cam-adultes-grand-prix-gaby-curien-reporte-e-au-24-03-2019?tmp
 l=component</a>DTSTAMP:20260424T012655
DTSTART;TZID=Europe/Paris;VALUE=DATE:20190310
DTEND;TZID=Europe/Paris;VALUE=DATE:20190311
SEQUENCE:0
TRANSP:OPAQUE
END:VEVENT
END:VCALENDAR