BEGIN:VCALENDAR
VERSION:2.0
PRODID:-//jEvents 2.0 for Joomla//EN
CALSCALE:GREGORIAN
METHOD:PUBLISH
BEGIN:VTIMEZONE
TZID:Europe/Paris
BEGIN:STANDARD
DTSTART:20180315T000000
RDATE:20180325T030000
TZOFFSETFROM:+0200
TZOFFSETTO:+0100
TZNAME:Europe/Paris CET
END:STANDARD
BEGIN:STANDARD
DTSTART:20181028T020000
RDATE:20190331T030000
TZOFFSETFROM:+0200
TZOFFSETTO:+0100
TZNAME:Europe/Paris CET
END:STANDARD
BEGIN:STANDARD
DTSTART:20191027T020000
RDATE:20200329T030000
TZOFFSETFROM:+0200
TZOFFSETTO:+0100
TZNAME:Europe/Paris CET
END:STANDARD
BEGIN:STANDARD
DTSTART:20201025T020000
RDATE:20210328T030000
TZOFFSETFROM:+0200
TZOFFSETTO:+0100
TZNAME:Europe/Paris CET
END:STANDARD
BEGIN:STANDARD
DTSTART:20211031T020000
RDATE:20220327T030000
TZOFFSETFROM:+0200
TZOFFSETTO:+0100
TZNAME:Europe/Paris CET
END:STANDARD
BEGIN:STANDARD
DTSTART:20221030T020000
RDATE:20230326T030000
TZOFFSETFROM:+0200
TZOFFSETTO:+0100
TZNAME:Europe/Paris CET
END:STANDARD
BEGIN:STANDARD
DTSTART:20231029T020000
RDATE:20240331T030000
TZOFFSETFROM:+0200
TZOFFSETTO:+0100
TZNAME:Europe/Paris CET
END:STANDARD
BEGIN:STANDARD
DTSTART:20241027T020000
RDATE:20250330T030000
TZOFFSETFROM:+0200
TZOFFSETTO:+0100
TZNAME:Europe/Paris CET
END:STANDARD
BEGIN:STANDARD
DTSTART:20251026T020000
RDATE:20260329T030000
TZOFFSETFROM:+0200
TZOFFSETTO:+0100
TZNAME:Europe/Paris CET
END:STANDARD
BEGIN:STANDARD
DTSTART:20261025T020000
RDATE:20270328T030000
TZOFFSETFROM:+0200
TZOFFSETTO:+0100
TZNAME:Europe/Paris CET
END:STANDARD
BEGIN:DAYLIGHT
DTSTART:20180325T030000
RDATE:20181028T020000
TZOFFSETFROM:+0100
TZOFFSETTO:+0200
TZNAME:Europe/Paris CEST
END:DAYLIGHT
BEGIN:DAYLIGHT
DTSTART:20190331T030000
RDATE:20191027T020000
TZOFFSETFROM:+0100
TZOFFSETTO:+0200
TZNAME:Europe/Paris CEST
END:DAYLIGHT
BEGIN:DAYLIGHT
DTSTART:20200329T030000
RDATE:20201025T020000
TZOFFSETFROM:+0100
TZOFFSETTO:+0200
TZNAME:Europe/Paris CEST
END:DAYLIGHT
BEGIN:DAYLIGHT
DTSTART:20210328T030000
RDATE:20211031T020000
TZOFFSETFROM:+0100
TZOFFSETTO:+0200
TZNAME:Europe/Paris CEST
END:DAYLIGHT
BEGIN:DAYLIGHT
DTSTART:20220327T030000
RDATE:20221030T020000
TZOFFSETFROM:+0100
TZOFFSETTO:+0200
TZNAME:Europe/Paris CEST
END:DAYLIGHT
BEGIN:DAYLIGHT
DTSTART:20230326T030000
RDATE:20231029T020000
TZOFFSETFROM:+0100
TZOFFSETTO:+0200
TZNAME:Europe/Paris CEST
END:DAYLIGHT
BEGIN:DAYLIGHT
DTSTART:20240331T030000
RDATE:20241027T020000
TZOFFSETFROM:+0100
TZOFFSETTO:+0200
TZNAME:Europe/Paris CEST
END:DAYLIGHT
BEGIN:DAYLIGHT
DTSTART:20250330T030000
RDATE:20251026T020000
TZOFFSETFROM:+0100
TZOFFSETTO:+0200
TZNAME:Europe/Paris CEST
END:DAYLIGHT
BEGIN:DAYLIGHT
DTSTART:20260329T030000
RDATE:20261025T020000
TZOFFSETFROM:+0100
TZOFFSETTO:+0200
TZNAME:Europe/Paris CEST
END:DAYLIGHT
END:VTIMEZONE
BEGIN:VEVENT
UID:9177dcf380242c61c8d82b7c1bf776ac
CATEGORIES:Circuit Massif Masters (alpin)
CREATED:20181114T121859
SUMMARY:CMM  Esprit Racing GP "le Caveau du père Jules"
URL;VALUE=URI:https://skivosges.net/agenda/a-venir/detailevenement/1217/-/cmm-esprit-raci
 ng-gp-le-caveau-du-pere-jules?tmpl=component
DESCRIPTION:<!-- #gskiepreuve code généré par le plugin jevents pour GskiEpreuves. Ne p
 as modifier cette ligne, ni tout le contenu suivant  #gskiepreuve --><div c
 lass="gski-evenement_infos"><div class="gski-evenement-nom">CMM  Esprit Rac
 ing GP "le Caveau du père Jules"</div><div class="gski-evenement-report"></
 div><ul class="gski-evenement-liste-infos"><li>Codex évenement AMVT0660</li
 ><li>Lieu : Stade</li><li>Station : GERARDMER</li><li>Piste : Le Stade</li>
 <li>Organisateur : 14089 GERARDMER SKI ALPIN</li><li>Courriel : <!-- Cette 
 adresse électronique est protégée contre les robots spammeurs. --><span cla
 ss="cloaked_email ep_c6d4c9f1"><span data-ep-b="&#101;&#46;fr" data-ep-a="g
 e&#114;&#97;r"><span data-ep-a="&#100;me&#114;-" data-ep-b="ora&#110;g"><sp
 an data-ep-b="&#108;&#112;i&#110;&#64;" data-ep-a="s&#107;&#105;-&#97;"></s
 pan></span></span></span><script>RegularLabs.EmailProtector.unCloak("ep_c6d
 4c9f1");</script></li><li>Téléphone : 03 29 60 98 04</li><li><span class="g
 ski-evenement-obs">Délégué Technique : BANZET RICHARD</span></li></ul><div 
 class="gski-evenement-infos-2"><div class="gski-evenement-info-inscriptions
 "><div class="gski-evenement-inscriptions-periodes">Période d'inscription à
  l'evènement du samedi 09 mars 2019 à 00:00 au vendredi 15 mars 2019 à 15:0
 0 <span class="gski-evenement-inscriptions-impossibles">(Inscriptions impos
 sibles).</span><div class="gski-evenement-inscriptions-types-titres">Inscri
 ptions ouvertes aux detenteurs des titres Fédéraux valides suivants : Licen
 ciés Compétiteurs</div></div></div><div class="gski-evenement-info-live">L'
 épreuve sera chronometrée avec les résultats publiés en direct (live)</div>
 <div class="gski-evenement-epreuves"><div class="gski-evenement-epreuves-ti
 tres">Epreuves :</div><ul class="gski-evenement-epreuves-list"><li><div cla
 ss="gski-epreuve-date">Le samedi 16 mars 2019 à 10:00</div><ul class="gski-
 epreuve-liste-infos"><li>Codex épreuve AMVM0661</li><li>Slalom Geant</li><l
 i>Catégorie(s) : Tous les Masters+U30 Hommes (Hommes)</li></ul></li><li><di
 v class="gski-epreuve-date">Le samedi 16 mars 2019 à 10:00</div><ul class="
 gski-epreuve-liste-infos"><li>Codex épreuve AMVF0661</li><li>Slalom Geant</
 li><li>Catégorie(s) : Tous les Masters+U30 Dames (Dames)</li></ul></li></ul
 ></div><div class="gskiepreuves-links"><ul><li><a href="/index.php?option=c
 om_jevents&task=icalevent.detail&evid=1212&Itemid=6289">Voir les informatio
 ns dans l'agenda...</a></li><li><a href="/index.php?option=com_gskiepreuves
 &view=afficheresultats&format_option=tous&filter[search]=AMVT0660&filter[da
 te_debut]=16-03-2019&filter[date_fin]=16-03-2019&code_activite=ALP&Itemid=6
 289">Vers les résultats...</a></li></ul></div></div"><!-- #/gskiepreuve fin
  du dode généré par le plugin jevents pour GskiEpreuves. . Ne pas modifier 
 cette ligne, ni tout le contenu précedant.  #/gskiepreuve --> <a href="http
 s://skivosges.net/agenda/a-venir/detailevenement/1217/-/cmm-esprit-racing-g
 p-le-caveau-du-pere-jules?tmpl=component">Cet évènement a été importé depui
 s :https://skivosges.net/agenda/a-venir/detailevenement/1217/-/cmm-esprit-r
 acing-gp-le-caveau-du-pere-jules?tmpl=component</a>
X-ALT-DESC;FMTTYPE=text/html:<!-- #gskiepreuve code généré par le plugin jevents pour GskiEpreuves. Ne p
 as modifier cette ligne, ni tout le contenu suivant  #gskiepreuve --><div c
 lass="gski-evenement_infos"><div class="gski-evenement-nom">CMM  Esprit Rac
 ing GP "le Caveau du père Jules"</div><div class="gski-evenement-report"></
 div><ul class="gski-evenement-liste-infos"><li>Codex évenement AMVT0660</li
 ><li>Lieu : Stade</li><li>Station : GERARDMER</li><li>Piste : Le Stade</li>
 <li>Organisateur : 14089 GERARDMER SKI ALPIN</li><li>Courriel : <!-- Cette 
 adresse électronique est protégée contre les robots spammeurs. --><span cla
 ss="cloaked_email ep_c6d4c9f1"><span data-ep-b="&#101;&#46;fr" data-ep-a="g
 e&#114;&#97;r"><span data-ep-a="&#100;me&#114;-" data-ep-b="ora&#110;g"><sp
 an data-ep-b="&#108;&#112;i&#110;&#64;" data-ep-a="s&#107;&#105;-&#97;"></s
 pan></span></span></span><script>RegularLabs.EmailProtector.unCloak("ep_c6d
 4c9f1");</script></li><li>Téléphone : 03 29 60 98 04</li><li><span class="g
 ski-evenement-obs">Délégué Technique : BANZET RICHARD</span></li></ul><div 
 class="gski-evenement-infos-2"><div class="gski-evenement-info-inscriptions
 "><div class="gski-evenement-inscriptions-periodes">Période d'inscription à
  l'evènement du samedi 09 mars 2019 à 00:00 au vendredi 15 mars 2019 à 15:0
 0 <span class="gski-evenement-inscriptions-impossibles">(Inscriptions impos
 sibles).</span><div class="gski-evenement-inscriptions-types-titres">Inscri
 ptions ouvertes aux detenteurs des titres Fédéraux valides suivants : Licen
 ciés Compétiteurs</div></div></div><div class="gski-evenement-info-live">L'
 épreuve sera chronometrée avec les résultats publiés en direct (live)</div>
 <div class="gski-evenement-epreuves"><div class="gski-evenement-epreuves-ti
 tres">Epreuves :</div><ul class="gski-evenement-epreuves-list"><li><div cla
 ss="gski-epreuve-date">Le samedi 16 mars 2019 à 10:00</div><ul class="gski-
 epreuve-liste-infos"><li>Codex épreuve AMVM0661</li><li>Slalom Geant</li><l
 i>Catégorie(s) : Tous les Masters+U30 Hommes (Hommes)</li></ul></li><li><di
 v class="gski-epreuve-date">Le samedi 16 mars 2019 à 10:00</div><ul class="
 gski-epreuve-liste-infos"><li>Codex épreuve AMVF0661</li><li>Slalom Geant</
 li><li>Catégorie(s) : Tous les Masters+U30 Dames (Dames)</li></ul></li></ul
 ></div><div class="gskiepreuves-links"><ul><li><a href="https://skivosges.n
 et/index.php?option=com_jevents&task=icalevent.detail&evid=1212&Itemid=6289
 ">Voir les informations dans l'agenda...</a></li><li><a href="https://skivo
 sges.net/index.php?option=com_gskiepreuves&view=afficheresultats&format_opt
 ion=tous&filter[search]=AMVT0660&filter[date_debut]=16-03-2019&filter[date_
 fin]=16-03-2019&code_activite=ALP&Itemid=6289">Vers les résultats...</a></l
 i></ul></div></div"><!-- #/gskiepreuve fin du dode généré par le plugin jev
 ents pour GskiEpreuves. . Ne pas modifier cette ligne, ni tout le contenu p
 récedant.  #/gskiepreuve --> <a href="https://skivosges.net/agenda/a-venir/
 detailevenement/1217/-/cmm-esprit-racing-gp-le-caveau-du-pere-jules?tmpl=co
 mponent">Cet évènement a été importé depuis :https://skivosges.net/agenda/a
 -venir/detailevenement/1217/-/cmm-esprit-racing-gp-le-caveau-du-pere-jules?
 tmpl=component</a>DTSTAMP:20260424T012652
DTSTART;TZID=Europe/Paris;VALUE=DATE:20190316
DTEND;TZID=Europe/Paris;VALUE=DATE:20190317
SEQUENCE:0
TRANSP:OPAQUE
END:VEVENT
END:VCALENDAR