BEGIN:VCALENDAR
VERSION:2.0
PRODID:-//jEvents 2.0 for Joomla//EN
CALSCALE:GREGORIAN
METHOD:PUBLISH
BEGIN:VTIMEZONE
TZID:Europe/Paris
BEGIN:STANDARD
DTSTART:20180315T000000
RDATE:20180325T030000
TZOFFSETFROM:+0200
TZOFFSETTO:+0100
TZNAME:Europe/Paris CET
END:STANDARD
BEGIN:STANDARD
DTSTART:20181028T020000
RDATE:20190331T030000
TZOFFSETFROM:+0200
TZOFFSETTO:+0100
TZNAME:Europe/Paris CET
END:STANDARD
BEGIN:STANDARD
DTSTART:20191027T020000
RDATE:20200329T030000
TZOFFSETFROM:+0200
TZOFFSETTO:+0100
TZNAME:Europe/Paris CET
END:STANDARD
BEGIN:STANDARD
DTSTART:20201025T020000
RDATE:20210328T030000
TZOFFSETFROM:+0200
TZOFFSETTO:+0100
TZNAME:Europe/Paris CET
END:STANDARD
BEGIN:STANDARD
DTSTART:20211031T020000
RDATE:20220327T030000
TZOFFSETFROM:+0200
TZOFFSETTO:+0100
TZNAME:Europe/Paris CET
END:STANDARD
BEGIN:STANDARD
DTSTART:20221030T020000
RDATE:20230326T030000
TZOFFSETFROM:+0200
TZOFFSETTO:+0100
TZNAME:Europe/Paris CET
END:STANDARD
BEGIN:STANDARD
DTSTART:20231029T020000
RDATE:20240331T030000
TZOFFSETFROM:+0200
TZOFFSETTO:+0100
TZNAME:Europe/Paris CET
END:STANDARD
BEGIN:STANDARD
DTSTART:20241027T020000
RDATE:20250330T030000
TZOFFSETFROM:+0200
TZOFFSETTO:+0100
TZNAME:Europe/Paris CET
END:STANDARD
BEGIN:STANDARD
DTSTART:20251026T020000
RDATE:20260329T030000
TZOFFSETFROM:+0200
TZOFFSETTO:+0100
TZNAME:Europe/Paris CET
END:STANDARD
BEGIN:STANDARD
DTSTART:20261025T020000
RDATE:20270328T030000
TZOFFSETFROM:+0200
TZOFFSETTO:+0100
TZNAME:Europe/Paris CET
END:STANDARD
BEGIN:DAYLIGHT
DTSTART:20180325T030000
RDATE:20181028T020000
TZOFFSETFROM:+0100
TZOFFSETTO:+0200
TZNAME:Europe/Paris CEST
END:DAYLIGHT
BEGIN:DAYLIGHT
DTSTART:20190331T030000
RDATE:20191027T020000
TZOFFSETFROM:+0100
TZOFFSETTO:+0200
TZNAME:Europe/Paris CEST
END:DAYLIGHT
BEGIN:DAYLIGHT
DTSTART:20200329T030000
RDATE:20201025T020000
TZOFFSETFROM:+0100
TZOFFSETTO:+0200
TZNAME:Europe/Paris CEST
END:DAYLIGHT
BEGIN:DAYLIGHT
DTSTART:20210328T030000
RDATE:20211031T020000
TZOFFSETFROM:+0100
TZOFFSETTO:+0200
TZNAME:Europe/Paris CEST
END:DAYLIGHT
BEGIN:DAYLIGHT
DTSTART:20220327T030000
RDATE:20221030T020000
TZOFFSETFROM:+0100
TZOFFSETTO:+0200
TZNAME:Europe/Paris CEST
END:DAYLIGHT
BEGIN:DAYLIGHT
DTSTART:20230326T030000
RDATE:20231029T020000
TZOFFSETFROM:+0100
TZOFFSETTO:+0200
TZNAME:Europe/Paris CEST
END:DAYLIGHT
BEGIN:DAYLIGHT
DTSTART:20240331T030000
RDATE:20241027T020000
TZOFFSETFROM:+0100
TZOFFSETTO:+0200
TZNAME:Europe/Paris CEST
END:DAYLIGHT
BEGIN:DAYLIGHT
DTSTART:20250330T030000
RDATE:20251026T020000
TZOFFSETFROM:+0100
TZOFFSETTO:+0200
TZNAME:Europe/Paris CEST
END:DAYLIGHT
BEGIN:DAYLIGHT
DTSTART:20260329T030000
RDATE:20261025T020000
TZOFFSETFROM:+0100
TZOFFSETTO:+0200
TZNAME:Europe/Paris CEST
END:DAYLIGHT
END:VTIMEZONE
BEGIN:VEVENT
UID:3c29b82419113ccca22002415c244ef7
CATEGORIES:Circuit Massif Masters (alpin)
CREATED:20181114T121859
SUMMARY:CMM  Esprit Racing GP "Ville de Gérardmer"
URL;VALUE=URI:https://skivosges.net/agenda/a-venir/detailevenement/1218/-/cmm-esprit-raci
 ng-gp-ville-de-gerardmer?tmpl=component
DESCRIPTION:<!-- #gskiepreuve code généré par le plugin jevents pour GskiEpreuves. Ne p
 as modifier cette ligne, ni tout le contenu suivant  #gskiepreuve --><div c
 lass="gski-evenement_infos"><div class="gski-evenement-nom">CMM  Esprit Rac
 ing GP "Ville de Gérardmer"</div><div class="gski-evenement-report"></div><
 ul class="gski-evenement-liste-infos"><li>Codex évenement AMVT0680</li><li>
 Lieu : Stade</li><li>Station : GERARDMER</li><li>Piste : Le Stade</li><li>O
 rganisateur : 14089 GERARDMER SKI ALPIN</li><li>Courriel : <!-- Cette adres
 se électronique est protégée contre les robots spammeurs. --><span class="c
 loaked_email ep_53fed38e"><span data-ep-b="&#101;&#46;f&#114;" data-ep-a="&
 #103;&#101;&#114;&#97;&#114;"><span data-ep-a="d&#109;e&#114;&#45;" data-ep
 -b="o&#114;&#97;&#110;&#103;"><span data-ep-a="&#115;k&#105;-a" data-ep-b="
 &#108;&#112;&#105;&#110;&#64;"></span></span></span></span><script>RegularL
 abs.EmailProtector.unCloak("ep_53fed38e");</script></li><li>Téléphone : 03 
 29 60 98 04</li><li><span class="gski-evenement-obs">Délégué Technique : BA
 NZET RICHARD</span></li></ul><div class="gski-evenement-infos-2"><div class
 ="gski-evenement-info-inscriptions"><div class="gski-evenement-inscriptions
 -periodes">Période d'inscription à l'evènement du samedi 09 mars 2019 à 00:
 00 au vendredi 15 mars 2019 à 15:00 <span class="gski-evenement-inscription
 s-impossibles">(Inscriptions impossibles).</span><div class="gski-evenement
 -inscriptions-types-titres">Inscriptions ouvertes aux detenteurs des titres
  Fédéraux valides suivants : Licenciés Compétiteurs</div></div></div><div c
 lass="gski-evenement-info-live">L'épreuve sera chronometrée avec les résult
 ats publiés en direct (live)</div><div class="gski-evenement-epreuves"><div
  class="gski-evenement-epreuves-titres">Epreuves :</div><ul class="gski-eve
 nement-epreuves-list"><li><div class="gski-epreuve-date">Le samedi 16 mars 
 2019 à 11:00</div><ul class="gski-epreuve-liste-infos"><li>Codex épreuve AM
 VM0681</li><li>Slalom</li><li>Catégorie(s) : Tous les Masters+U30 Hommes (H
 ommes)</li></ul></li><li><div class="gski-epreuve-date">Le samedi 16 mars 2
 019 à 11:00</div><ul class="gski-epreuve-liste-infos"><li>Codex épreuve AMV
 F0681</li><li>Slalom</li><li>Catégorie(s) : U30 a C5 Dames (Dames)</li></ul
 ></li></ul></div><div class="gskiepreuves-links"><ul><li><a href="/index.ph
 p?option=com_jevents&task=icalevent.detail&evid=1213&Itemid=6289">Voir les 
 informations dans l'agenda...</a></li><li><a href="/index.php?option=com_gs
 kiepreuves&view=afficheresultats&format_option=tous&filter[search]=AMVT0680
 &filter[date_debut]=16-03-2019&filter[date_fin]=16-03-2019&code_activite=AL
 P&Itemid=6289">Vers les résultats...</a></li></ul></div></div"><!-- #/gskie
 preuve fin du dode généré par le plugin jevents pour GskiEpreuves. . Ne pas
  modifier cette ligne, ni tout le contenu précedant.  #/gskiepreuve --> <a 
 href="https://skivosges.net/agenda/a-venir/detailevenement/1218/-/cmm-espri
 t-racing-gp-ville-de-gerardmer?tmpl=component">Cet évènement a été importé 
 depuis :https://skivosges.net/agenda/a-venir/detailevenement/1218/-/cmm-esp
 rit-racing-gp-ville-de-gerardmer?tmpl=component</a>
X-ALT-DESC;FMTTYPE=text/html:<!-- #gskiepreuve code généré par le plugin jevents pour GskiEpreuves. Ne p
 as modifier cette ligne, ni tout le contenu suivant  #gskiepreuve --><div c
 lass="gski-evenement_infos"><div class="gski-evenement-nom">CMM  Esprit Rac
 ing GP "Ville de Gérardmer"</div><div class="gski-evenement-report"></div><
 ul class="gski-evenement-liste-infos"><li>Codex évenement AMVT0680</li><li>
 Lieu : Stade</li><li>Station : GERARDMER</li><li>Piste : Le Stade</li><li>O
 rganisateur : 14089 GERARDMER SKI ALPIN</li><li>Courriel : <!-- Cette adres
 se électronique est protégée contre les robots spammeurs. --><span class="c
 loaked_email ep_53fed38e"><span data-ep-b="&#101;&#46;f&#114;" data-ep-a="&
 #103;&#101;&#114;&#97;&#114;"><span data-ep-a="d&#109;e&#114;&#45;" data-ep
 -b="o&#114;&#97;&#110;&#103;"><span data-ep-a="&#115;k&#105;-a" data-ep-b="
 &#108;&#112;&#105;&#110;&#64;"></span></span></span></span><script>RegularL
 abs.EmailProtector.unCloak("ep_53fed38e");</script></li><li>Téléphone : 03 
 29 60 98 04</li><li><span class="gski-evenement-obs">Délégué Technique : BA
 NZET RICHARD</span></li></ul><div class="gski-evenement-infos-2"><div class
 ="gski-evenement-info-inscriptions"><div class="gski-evenement-inscriptions
 -periodes">Période d'inscription à l'evènement du samedi 09 mars 2019 à 00:
 00 au vendredi 15 mars 2019 à 15:00 <span class="gski-evenement-inscription
 s-impossibles">(Inscriptions impossibles).</span><div class="gski-evenement
 -inscriptions-types-titres">Inscriptions ouvertes aux detenteurs des titres
  Fédéraux valides suivants : Licenciés Compétiteurs</div></div></div><div c
 lass="gski-evenement-info-live">L'épreuve sera chronometrée avec les résult
 ats publiés en direct (live)</div><div class="gski-evenement-epreuves"><div
  class="gski-evenement-epreuves-titres">Epreuves :</div><ul class="gski-eve
 nement-epreuves-list"><li><div class="gski-epreuve-date">Le samedi 16 mars 
 2019 à 11:00</div><ul class="gski-epreuve-liste-infos"><li>Codex épreuve AM
 VM0681</li><li>Slalom</li><li>Catégorie(s) : Tous les Masters+U30 Hommes (H
 ommes)</li></ul></li><li><div class="gski-epreuve-date">Le samedi 16 mars 2
 019 à 11:00</div><ul class="gski-epreuve-liste-infos"><li>Codex épreuve AMV
 F0681</li><li>Slalom</li><li>Catégorie(s) : U30 a C5 Dames (Dames)</li></ul
 ></li></ul></div><div class="gskiepreuves-links"><ul><li><a href="https://s
 kivosges.net/index.php?option=com_jevents&task=icalevent.detail&evid=1213&I
 temid=6289">Voir les informations dans l'agenda...</a></li><li><a href="htt
 ps://skivosges.net/index.php?option=com_gskiepreuves&view=afficheresultats&
 format_option=tous&filter[search]=AMVT0680&filter[date_debut]=16-03-2019&fi
 lter[date_fin]=16-03-2019&code_activite=ALP&Itemid=6289">Vers les résultats
 ...</a></li></ul></div></div"><!-- #/gskiepreuve fin du dode généré par le 
 plugin jevents pour GskiEpreuves. . Ne pas modifier cette ligne, ni tout le
  contenu précedant.  #/gskiepreuve --> <a href="https://skivosges.net/agend
 a/a-venir/detailevenement/1218/-/cmm-esprit-racing-gp-ville-de-gerardmer?tm
 pl=component">Cet évènement a été importé depuis :https://skivosges.net/age
 nda/a-venir/detailevenement/1218/-/cmm-esprit-racing-gp-ville-de-gerardmer?
 tmpl=component</a>DTSTAMP:20260424T012653
DTSTART;TZID=Europe/Paris;VALUE=DATE:20190316
DTEND;TZID=Europe/Paris;VALUE=DATE:20190317
SEQUENCE:0
TRANSP:OPAQUE
END:VEVENT
END:VCALENDAR