BEGIN:VCALENDAR
VERSION:2.0
PRODID:-//jEvents 2.0 for Joomla//EN
CALSCALE:GREGORIAN
METHOD:PUBLISH
BEGIN:VTIMEZONE
TZID:Europe/Paris
BEGIN:STANDARD
DTSTART:20180315T000000
RDATE:20180325T030000
TZOFFSETFROM:+0200
TZOFFSETTO:+0100
TZNAME:Europe/Paris CET
END:STANDARD
BEGIN:STANDARD
DTSTART:20181028T020000
RDATE:20190331T030000
TZOFFSETFROM:+0200
TZOFFSETTO:+0100
TZNAME:Europe/Paris CET
END:STANDARD
BEGIN:STANDARD
DTSTART:20191027T020000
RDATE:20200329T030000
TZOFFSETFROM:+0200
TZOFFSETTO:+0100
TZNAME:Europe/Paris CET
END:STANDARD
BEGIN:STANDARD
DTSTART:20201025T020000
RDATE:20210328T030000
TZOFFSETFROM:+0200
TZOFFSETTO:+0100
TZNAME:Europe/Paris CET
END:STANDARD
BEGIN:STANDARD
DTSTART:20211031T020000
RDATE:20220327T030000
TZOFFSETFROM:+0200
TZOFFSETTO:+0100
TZNAME:Europe/Paris CET
END:STANDARD
BEGIN:STANDARD
DTSTART:20221030T020000
RDATE:20230326T030000
TZOFFSETFROM:+0200
TZOFFSETTO:+0100
TZNAME:Europe/Paris CET
END:STANDARD
BEGIN:STANDARD
DTSTART:20231029T020000
RDATE:20240331T030000
TZOFFSETFROM:+0200
TZOFFSETTO:+0100
TZNAME:Europe/Paris CET
END:STANDARD
BEGIN:STANDARD
DTSTART:20241027T020000
RDATE:20250330T030000
TZOFFSETFROM:+0200
TZOFFSETTO:+0100
TZNAME:Europe/Paris CET
END:STANDARD
BEGIN:STANDARD
DTSTART:20251026T020000
RDATE:20260329T030000
TZOFFSETFROM:+0200
TZOFFSETTO:+0100
TZNAME:Europe/Paris CET
END:STANDARD
BEGIN:STANDARD
DTSTART:20261025T020000
RDATE:20270328T030000
TZOFFSETFROM:+0200
TZOFFSETTO:+0100
TZNAME:Europe/Paris CET
END:STANDARD
BEGIN:DAYLIGHT
DTSTART:20180325T030000
RDATE:20181028T020000
TZOFFSETFROM:+0100
TZOFFSETTO:+0200
TZNAME:Europe/Paris CEST
END:DAYLIGHT
BEGIN:DAYLIGHT
DTSTART:20190331T030000
RDATE:20191027T020000
TZOFFSETFROM:+0100
TZOFFSETTO:+0200
TZNAME:Europe/Paris CEST
END:DAYLIGHT
BEGIN:DAYLIGHT
DTSTART:20200329T030000
RDATE:20201025T020000
TZOFFSETFROM:+0100
TZOFFSETTO:+0200
TZNAME:Europe/Paris CEST
END:DAYLIGHT
BEGIN:DAYLIGHT
DTSTART:20210328T030000
RDATE:20211031T020000
TZOFFSETFROM:+0100
TZOFFSETTO:+0200
TZNAME:Europe/Paris CEST
END:DAYLIGHT
BEGIN:DAYLIGHT
DTSTART:20220327T030000
RDATE:20221030T020000
TZOFFSETFROM:+0100
TZOFFSETTO:+0200
TZNAME:Europe/Paris CEST
END:DAYLIGHT
BEGIN:DAYLIGHT
DTSTART:20230326T030000
RDATE:20231029T020000
TZOFFSETFROM:+0100
TZOFFSETTO:+0200
TZNAME:Europe/Paris CEST
END:DAYLIGHT
BEGIN:DAYLIGHT
DTSTART:20240331T030000
RDATE:20241027T020000
TZOFFSETFROM:+0100
TZOFFSETTO:+0200
TZNAME:Europe/Paris CEST
END:DAYLIGHT
BEGIN:DAYLIGHT
DTSTART:20250330T030000
RDATE:20251026T020000
TZOFFSETFROM:+0100
TZOFFSETTO:+0200
TZNAME:Europe/Paris CEST
END:DAYLIGHT
BEGIN:DAYLIGHT
DTSTART:20260329T030000
RDATE:20261025T020000
TZOFFSETFROM:+0100
TZOFFSETTO:+0200
TZNAME:Europe/Paris CEST
END:DAYLIGHT
END:VTIMEZONE
BEGIN:VEVENT
UID:ab277c239543f9e11994edb9294f27c3
CATEGORIES:Circuit Massif Adultes (alpin)
CREATED:20181114T121859
SUMMARY:CAM Grand Prix Adultes Electr. de Strasb. et Mém. Degermann
URL;VALUE=URI:https://skivosges.net/agenda/a-venir/detailevenement/1220/-/cam-grand-prix-
 adultes-electr-de-strasb-et-mem-degermann?tmpl=component
DESCRIPTION:<!-- #gskiepreuve code généré par le plugin jevents pour GskiEpreuves. Ne p
 as modifier cette ligne, ni tout le contenu suivant  #gskiepreuve --><div c
 lass="gski-evenement_infos"><div class="gski-evenement-nom">CAM Grand Prix 
 Adultes Electr. de Strasb. et Mém. Degermann</div><div class="gski-evenemen
 t-report"></div><ul class="gski-evenement-liste-infos"><li>Codex évenement 
 AMVT0690</li><li>Station : SCHNEPFENRIED</li><li>Organisateur : 14003 SKI C
 LUB BARR</li><li>Courriel : <!-- Cette adresse électronique est protégée co
 ntre les robots spammeurs. --><span class="cloaked_email ep_0b811add"><span
  data-ep-b="" data-ep-a="wies&#46;"><span data-ep-a="c&#104;&#114;&#105;s" 
 data-ep-b="&#108;.&#99;&#111;m"><span data-ep-a="&#116;o&#112;&#104;&#101;"
  data-ep-b="&#64;&#103;m&#97;&#105;"></span></span></span></span><script>Re
 gularLabs.EmailProtector.unCloak("ep_0b811add");</script></li><li><span cla
 ss="gski-evenement-obs">Délégué Technique : HABERER BERNARD</span></li></ul
 ><div class="gski-evenement-infos-2"><div class="gski-evenement-info-inscri
 ptions"><div class="gski-evenement-inscriptions-periodes">Période d'inscrip
 tion à l'evènement du samedi 09 mars 2019 à 00:00 au vendredi 15 mars 2019 
 à 12:00 <span class="gski-evenement-inscriptions-impossibles">(Inscriptions
  impossibles).</span><div class="gski-evenement-inscriptions-types-titres">
 Inscriptions ouvertes aux detenteurs des titres Fédéraux valides suivants :
  Licenciés Compétiteurs</div></div></div><div class="gski-evenement-epreuve
 s"><div class="gski-evenement-epreuves-titres">Epreuves :</div><ul class="g
 ski-evenement-epreuves-list"><li><div class="gski-epreuve-date">Le samedi 1
 6 mars 2019 à 10:00</div><ul class="gski-epreuve-liste-infos"><li>Codex épr
 euve AMVM0691</li><li>Slalom</li><li>Catégorie(s) : U18 a Masters (Hommes)<
 /li></ul></li><li><div class="gski-epreuve-date">Le samedi 16 mars 2019 à 1
 0:00</div><ul class="gski-epreuve-liste-infos"><li>Codex épreuve AMVF0691</
 li><li>Slalom</li><li>Catégorie(s) : U18 a Masters (Dames)</li></ul></li></
 ul></div><div class="gskiepreuves-links"><ul><li><a href="/index.php?option
 =com_jevents&task=icalevent.detail&evid=1215&Itemid=6289">Voir les informat
 ions dans l'agenda...</a></li><li><a href="/index.php?option=com_gskiepreuv
 es&view=afficheresultats&format_option=tous&filter[search]=AMVT0690&filter[
 date_debut]=16-03-2019&filter[date_fin]=16-03-2019&code_activite=ALP&Itemid
 =6289">Vers les résultats...</a></li><li>Publications concernant cet évènem
 ent :<ul><li><a href="/index.php?option=com_content&view=article&id=6822&It
 emid=6289">Samedi 16 Mars 2019 à 16:04 : Le 16/03/2019 SCHNEPFENRIED Résult
 ats</a></li><li><a href="/index.php?option=com_content&view=article&id=6813
 &Itemid=6289">Vendredi 15 Mars 2019 à 19:29 : Le 16/03/2019 SCHNEPFENRIED L
 iste de départs</a></li></ul></li></ul></div></div"><!-- #/gskiepreuve fin 
 du dode généré par le plugin jevents pour GskiEpreuves. . Ne pas modifier c
 ette ligne, ni tout le contenu précedant.  #/gskiepreuve --> <a href="https
 ://skivosges.net/agenda/a-venir/detailevenement/1220/-/cam-grand-prix-adult
 es-electr-de-strasb-et-mem-degermann?tmpl=component">Cet évènement a été im
 porté depuis :https://skivosges.net/agenda/a-venir/detailevenement/1220/-/c
 am-grand-prix-adultes-electr-de-strasb-et-mem-degermann?tmpl=component</a>
X-ALT-DESC;FMTTYPE=text/html:<!-- #gskiepreuve code généré par le plugin jevents pour GskiEpreuves. Ne p
 as modifier cette ligne, ni tout le contenu suivant  #gskiepreuve --><div c
 lass="gski-evenement_infos"><div class="gski-evenement-nom">CAM Grand Prix 
 Adultes Electr. de Strasb. et Mém. Degermann</div><div class="gski-evenemen
 t-report"></div><ul class="gski-evenement-liste-infos"><li>Codex évenement 
 AMVT0690</li><li>Station : SCHNEPFENRIED</li><li>Organisateur : 14003 SKI C
 LUB BARR</li><li>Courriel : <!-- Cette adresse électronique est protégée co
 ntre les robots spammeurs. --><span class="cloaked_email ep_0b811add"><span
  data-ep-b="" data-ep-a="wies&#46;"><span data-ep-a="c&#104;&#114;&#105;s" 
 data-ep-b="&#108;.&#99;&#111;m"><span data-ep-a="&#116;o&#112;&#104;&#101;"
  data-ep-b="&#64;&#103;m&#97;&#105;"></span></span></span></span><script>Re
 gularLabs.EmailProtector.unCloak("ep_0b811add");</script></li><li><span cla
 ss="gski-evenement-obs">Délégué Technique : HABERER BERNARD</span></li></ul
 ><div class="gski-evenement-infos-2"><div class="gski-evenement-info-inscri
 ptions"><div class="gski-evenement-inscriptions-periodes">Période d'inscrip
 tion à l'evènement du samedi 09 mars 2019 à 00:00 au vendredi 15 mars 2019 
 à 12:00 <span class="gski-evenement-inscriptions-impossibles">(Inscriptions
  impossibles).</span><div class="gski-evenement-inscriptions-types-titres">
 Inscriptions ouvertes aux detenteurs des titres Fédéraux valides suivants :
  Licenciés Compétiteurs</div></div></div><div class="gski-evenement-epreuve
 s"><div class="gski-evenement-epreuves-titres">Epreuves :</div><ul class="g
 ski-evenement-epreuves-list"><li><div class="gski-epreuve-date">Le samedi 1
 6 mars 2019 à 10:00</div><ul class="gski-epreuve-liste-infos"><li>Codex épr
 euve AMVM0691</li><li>Slalom</li><li>Catégorie(s) : U18 a Masters (Hommes)<
 /li></ul></li><li><div class="gski-epreuve-date">Le samedi 16 mars 2019 à 1
 0:00</div><ul class="gski-epreuve-liste-infos"><li>Codex épreuve AMVF0691</
 li><li>Slalom</li><li>Catégorie(s) : U18 a Masters (Dames)</li></ul></li></
 ul></div><div class="gskiepreuves-links"><ul><li><a href="https://skivosges
 .net/index.php?option=com_jevents&task=icalevent.detail&evid=1215&Itemid=62
 89">Voir les informations dans l'agenda...</a></li><li><a href="https://ski
 vosges.net/index.php?option=com_gskiepreuves&view=afficheresultats&format_o
 ption=tous&filter[search]=AMVT0690&filter[date_debut]=16-03-2019&filter[dat
 e_fin]=16-03-2019&code_activite=ALP&Itemid=6289">Vers les résultats...</a><
 /li><li>Publications concernant cet évènement :<ul><li><a href="https://ski
 vosges.net/index.php?option=com_content&view=article&id=6822&Itemid=6289">S
 amedi 16 Mars 2019 à 16:04 : Le 16/03/2019 SCHNEPFENRIED Résultats</a></li>
 <li><a href="https://skivosges.net/index.php?option=com_content&view=articl
 e&id=6813&Itemid=6289">Vendredi 15 Mars 2019 à 19:29 : Le 16/03/2019 SCHNEP
 FENRIED Liste de départs</a></li></ul></li></ul></div></div"><!-- #/gskiepr
 euve fin du dode généré par le plugin jevents pour GskiEpreuves. . Ne pas m
 odifier cette ligne, ni tout le contenu précedant.  #/gskiepreuve --> <a hr
 ef="https://skivosges.net/agenda/a-venir/detailevenement/1220/-/cam-grand-p
 rix-adultes-electr-de-strasb-et-mem-degermann?tmpl=component">Cet évènement
  a été importé depuis :https://skivosges.net/agenda/a-venir/detailevenement
 /1220/-/cam-grand-prix-adultes-electr-de-strasb-et-mem-degermann?tmpl=compo
 nent</a>DTSTAMP:20260424T012651
DTSTART;TZID=Europe/Paris;VALUE=DATE:20190316
DTEND;TZID=Europe/Paris;VALUE=DATE:20190317
SEQUENCE:0
TRANSP:OPAQUE
END:VEVENT
END:VCALENDAR