BEGIN:VCALENDAR
VERSION:2.0
PRODID:-//jEvents 2.0 for Joomla//EN
CALSCALE:GREGORIAN
METHOD:PUBLISH
BEGIN:VTIMEZONE
TZID:Europe/Paris
BEGIN:STANDARD
DTSTART:20130208T080000
RDATE:20130331T030000
TZOFFSETFROM:+0200
TZOFFSETTO:+0100
TZNAME:Europe/Paris CET
END:STANDARD
BEGIN:STANDARD
DTSTART:20131027T020000
RDATE:20140330T030000
TZOFFSETFROM:+0200
TZOFFSETTO:+0100
TZNAME:Europe/Paris CET
END:STANDARD
BEGIN:STANDARD
DTSTART:20141026T020000
RDATE:20150329T030000
TZOFFSETFROM:+0200
TZOFFSETTO:+0100
TZNAME:Europe/Paris CET
END:STANDARD
BEGIN:STANDARD
DTSTART:20151025T020000
RDATE:20160327T030000
TZOFFSETFROM:+0200
TZOFFSETTO:+0100
TZNAME:Europe/Paris CET
END:STANDARD
BEGIN:STANDARD
DTSTART:20161030T020000
RDATE:20170326T030000
TZOFFSETFROM:+0200
TZOFFSETTO:+0100
TZNAME:Europe/Paris CET
END:STANDARD
BEGIN:STANDARD
DTSTART:20171029T020000
RDATE:20180325T030000
TZOFFSETFROM:+0200
TZOFFSETTO:+0100
TZNAME:Europe/Paris CET
END:STANDARD
BEGIN:STANDARD
DTSTART:20181028T020000
RDATE:20190331T030000
TZOFFSETFROM:+0200
TZOFFSETTO:+0100
TZNAME:Europe/Paris CET
END:STANDARD
BEGIN:STANDARD
DTSTART:20191027T020000
RDATE:20200329T030000
TZOFFSETFROM:+0200
TZOFFSETTO:+0100
TZNAME:Europe/Paris CET
END:STANDARD
BEGIN:STANDARD
DTSTART:20201025T020000
RDATE:20210328T030000
TZOFFSETFROM:+0200
TZOFFSETTO:+0100
TZNAME:Europe/Paris CET
END:STANDARD
BEGIN:STANDARD
DTSTART:20211031T020000
RDATE:20220327T030000
TZOFFSETFROM:+0200
TZOFFSETTO:+0100
TZNAME:Europe/Paris CET
END:STANDARD
BEGIN:STANDARD
DTSTART:20221030T020000
RDATE:20230326T030000
TZOFFSETFROM:+0200
TZOFFSETTO:+0100
TZNAME:Europe/Paris CET
END:STANDARD
BEGIN:STANDARD
DTSTART:20231029T020000
RDATE:20240331T030000
TZOFFSETFROM:+0200
TZOFFSETTO:+0100
TZNAME:Europe/Paris CET
END:STANDARD
BEGIN:STANDARD
DTSTART:20241027T020000
RDATE:20250330T030000
TZOFFSETFROM:+0200
TZOFFSETTO:+0100
TZNAME:Europe/Paris CET
END:STANDARD
BEGIN:STANDARD
DTSTART:20251026T020000
RDATE:20260329T030000
TZOFFSETFROM:+0200
TZOFFSETTO:+0100
TZNAME:Europe/Paris CET
END:STANDARD
BEGIN:STANDARD
DTSTART:20261025T020000
RDATE:20270328T030000
TZOFFSETFROM:+0200
TZOFFSETTO:+0100
TZNAME:Europe/Paris CET
END:STANDARD
BEGIN:DAYLIGHT
DTSTART:20130331T030000
RDATE:20131027T020000
TZOFFSETFROM:+0100
TZOFFSETTO:+0200
TZNAME:Europe/Paris CEST
END:DAYLIGHT
BEGIN:DAYLIGHT
DTSTART:20140330T030000
RDATE:20141026T020000
TZOFFSETFROM:+0100
TZOFFSETTO:+0200
TZNAME:Europe/Paris CEST
END:DAYLIGHT
BEGIN:DAYLIGHT
DTSTART:20150329T030000
RDATE:20151025T020000
TZOFFSETFROM:+0100
TZOFFSETTO:+0200
TZNAME:Europe/Paris CEST
END:DAYLIGHT
BEGIN:DAYLIGHT
DTSTART:20160327T030000
RDATE:20161030T020000
TZOFFSETFROM:+0100
TZOFFSETTO:+0200
TZNAME:Europe/Paris CEST
END:DAYLIGHT
BEGIN:DAYLIGHT
DTSTART:20170326T030000
RDATE:20171029T020000
TZOFFSETFROM:+0100
TZOFFSETTO:+0200
TZNAME:Europe/Paris CEST
END:DAYLIGHT
BEGIN:DAYLIGHT
DTSTART:20180325T030000
RDATE:20181028T020000
TZOFFSETFROM:+0100
TZOFFSETTO:+0200
TZNAME:Europe/Paris CEST
END:DAYLIGHT
BEGIN:DAYLIGHT
DTSTART:20190331T030000
RDATE:20191027T020000
TZOFFSETFROM:+0100
TZOFFSETTO:+0200
TZNAME:Europe/Paris CEST
END:DAYLIGHT
BEGIN:DAYLIGHT
DTSTART:20200329T030000
RDATE:20201025T020000
TZOFFSETFROM:+0100
TZOFFSETTO:+0200
TZNAME:Europe/Paris CEST
END:DAYLIGHT
BEGIN:DAYLIGHT
DTSTART:20210328T030000
RDATE:20211031T020000
TZOFFSETFROM:+0100
TZOFFSETTO:+0200
TZNAME:Europe/Paris CEST
END:DAYLIGHT
BEGIN:DAYLIGHT
DTSTART:20220327T030000
RDATE:20221030T020000
TZOFFSETFROM:+0100
TZOFFSETTO:+0200
TZNAME:Europe/Paris CEST
END:DAYLIGHT
BEGIN:DAYLIGHT
DTSTART:20230326T030000
RDATE:20231029T020000
TZOFFSETFROM:+0100
TZOFFSETTO:+0200
TZNAME:Europe/Paris CEST
END:DAYLIGHT
BEGIN:DAYLIGHT
DTSTART:20240331T030000
RDATE:20241027T020000
TZOFFSETFROM:+0100
TZOFFSETTO:+0200
TZNAME:Europe/Paris CEST
END:DAYLIGHT
BEGIN:DAYLIGHT
DTSTART:20250330T030000
RDATE:20251026T020000
TZOFFSETFROM:+0100
TZOFFSETTO:+0200
TZNAME:Europe/Paris CEST
END:DAYLIGHT
BEGIN:DAYLIGHT
DTSTART:20260329T030000
RDATE:20261025T020000
TZOFFSETFROM:+0100
TZOFFSETTO:+0200
TZNAME:Europe/Paris CEST
END:DAYLIGHT
END:VTIMEZONE
BEGIN:VEVENT
UID:c2a0828a4db973185f9eebef86d9bbda
CATEGORIES:Circuit Massif Adultes (alpin)
CREATED:20131203T122100
SUMMARY:GPA        GP Challenge Gaby Curien / Qualif Cp de la Fédération **REPORTE**
URL;VALUE=URI:https://skivosges.net/agenda/a-venir/detailevenement/125/-/gpa-gp-challenge
 -gaby-curien-qualif-cp-de-la-federation-reporte?tmpl=component
DESCRIPTION:GPA        GP Challenge Gaby Curien / Qualif Cp de la Fédération (Epreuve r
 eportée, date à determiner) \n(Grand Prix Adultes)\n\nLieu : LA BRESSE \nOr
 ganisateur : LA BRESSAUDE SECTION SKI  (14024 LA BRESSAUDE SECTION SKI)\nEm
 ail : RegularLabs.EmailProtector.unCloak("ep_af416a90");\n - AMVF0501  Slal
 om Geant (Coupe de la Federation) U16-&gt;Mas (Min à Mast/Vet) Dames\n  GPA
         GP Challenge Gaby Curien / Qualif Cp de la Fédération\n - AMVM0501 
  Slalom Geant (Coupe de la Federation) U16-&gt;Mas (Min à Mast/Vet) Hommes\
 n  GPA        GP Challenge Gaby Curien / Qualif Cp de la Fédération Cet évè
 nement a été importé depuis :https://skivosges.net/agenda/a-venir/detaileve
 nement/125/-/gpa-gp-challenge-gaby-curien-qualif-cp-de-la-federation-report
 e?tmpl=component
X-ALT-DESC;FMTTYPE=text/html:<strong>GPA        GP Challenge Gaby Curien / Qualif Cp de la Fédération</s
 trong> <font class="attention4">(Epreuve reportée, date à determiner)</font
 > <br /><i>(Grand Prix Adultes)</i><br /><br />Lieu : LA BRESSE <br />Organ
 isateur : LA BRESSAUDE SECTION SKI  <small>(14024 LA BRESSAUDE SECTION SKI)
 </small><br />Email : <!-- Cette adresse électronique est protégée contre l
 es robots spammeurs. --><span class="cloaked_email ep_af416a90"><span data-
 ep-a="y&#100;&#111;" data-ep-b="&#114;"><span data-ep-a="&#100;in" data-ep-
 b="e.&#102;"><span data-ep-b="&#97;&#110;&#103;" data-ep-a="&#64;or"></span
 ></span></span></span><script>RegularLabs.EmailProtector.unCloak("ep_af416a
 90");</script><ul type="disc"><li>AMVF0501  Slalom Geant <nobr><i>(Coupe de
  la Federation)</i></nobr> <nobr>U16->Mas (Min à Mast/Vet)</nobr> Dames<br 
 />&nbsp;&nbsp;GPA        GP Challenge Gaby Curien / Qualif Cp de la Fédérat
 ion</li><li>AMVM0501  Slalom Geant <nobr><i>(Coupe de la Federation)</i></n
 obr> <nobr>U16->Mas (Min à Mast/Vet)</nobr> Hommes<br />&nbsp;&nbsp;GPA    
     GP Challenge Gaby Curien / Qualif Cp de la Fédération</li></ul> <a href
 ="https://skivosges.net/agenda/a-venir/detailevenement/125/-/gpa-gp-challen
 ge-gaby-curien-qualif-cp-de-la-federation-reporte?tmpl=component">Cet évène
 ment a été importé depuis :https://skivosges.net/agenda/a-venir/detailevene
 ment/125/-/gpa-gp-challenge-gaby-curien-qualif-cp-de-la-federation-reporte?
 tmpl=component</a>DTSTAMP:20260424T030349
DTSTART;TZID=Europe/Paris:20140209T080000
DTEND;TZID=Europe/Paris:20140209T170000
SEQUENCE:0
TRANSP:OPAQUE
END:VEVENT
END:VCALENDAR