BEGIN:VCALENDAR
VERSION:2.0
PRODID:-//jEvents 2.0 for Joomla//EN
CALSCALE:GREGORIAN
METHOD:PUBLISH
BEGIN:VTIMEZONE
TZID:Europe/Paris
BEGIN:STANDARD
DTSTART:20180202T000000
RDATE:20180325T030000
TZOFFSETFROM:+0200
TZOFFSETTO:+0100
TZNAME:Europe/Paris CET
END:STANDARD
BEGIN:STANDARD
DTSTART:20181028T020000
RDATE:20190331T030000
TZOFFSETFROM:+0200
TZOFFSETTO:+0100
TZNAME:Europe/Paris CET
END:STANDARD
BEGIN:STANDARD
DTSTART:20191027T020000
RDATE:20200329T030000
TZOFFSETFROM:+0200
TZOFFSETTO:+0100
TZNAME:Europe/Paris CET
END:STANDARD
BEGIN:STANDARD
DTSTART:20201025T020000
RDATE:20210328T030000
TZOFFSETFROM:+0200
TZOFFSETTO:+0100
TZNAME:Europe/Paris CET
END:STANDARD
BEGIN:STANDARD
DTSTART:20211031T020000
RDATE:20220327T030000
TZOFFSETFROM:+0200
TZOFFSETTO:+0100
TZNAME:Europe/Paris CET
END:STANDARD
BEGIN:STANDARD
DTSTART:20221030T020000
RDATE:20230326T030000
TZOFFSETFROM:+0200
TZOFFSETTO:+0100
TZNAME:Europe/Paris CET
END:STANDARD
BEGIN:STANDARD
DTSTART:20231029T020000
RDATE:20240331T030000
TZOFFSETFROM:+0200
TZOFFSETTO:+0100
TZNAME:Europe/Paris CET
END:STANDARD
BEGIN:STANDARD
DTSTART:20241027T020000
RDATE:20250330T030000
TZOFFSETFROM:+0200
TZOFFSETTO:+0100
TZNAME:Europe/Paris CET
END:STANDARD
BEGIN:STANDARD
DTSTART:20251026T020000
RDATE:20260329T030000
TZOFFSETFROM:+0200
TZOFFSETTO:+0100
TZNAME:Europe/Paris CET
END:STANDARD
BEGIN:STANDARD
DTSTART:20261025T020000
RDATE:20270328T030000
TZOFFSETFROM:+0200
TZOFFSETTO:+0100
TZNAME:Europe/Paris CET
END:STANDARD
BEGIN:DAYLIGHT
DTSTART:20180325T030000
RDATE:20181028T020000
TZOFFSETFROM:+0100
TZOFFSETTO:+0200
TZNAME:Europe/Paris CEST
END:DAYLIGHT
BEGIN:DAYLIGHT
DTSTART:20190331T030000
RDATE:20191027T020000
TZOFFSETFROM:+0100
TZOFFSETTO:+0200
TZNAME:Europe/Paris CEST
END:DAYLIGHT
BEGIN:DAYLIGHT
DTSTART:20200329T030000
RDATE:20201025T020000
TZOFFSETFROM:+0100
TZOFFSETTO:+0200
TZNAME:Europe/Paris CEST
END:DAYLIGHT
BEGIN:DAYLIGHT
DTSTART:20210328T030000
RDATE:20211031T020000
TZOFFSETFROM:+0100
TZOFFSETTO:+0200
TZNAME:Europe/Paris CEST
END:DAYLIGHT
BEGIN:DAYLIGHT
DTSTART:20220327T030000
RDATE:20221030T020000
TZOFFSETFROM:+0100
TZOFFSETTO:+0200
TZNAME:Europe/Paris CEST
END:DAYLIGHT
BEGIN:DAYLIGHT
DTSTART:20230326T030000
RDATE:20231029T020000
TZOFFSETFROM:+0100
TZOFFSETTO:+0200
TZNAME:Europe/Paris CEST
END:DAYLIGHT
BEGIN:DAYLIGHT
DTSTART:20240331T030000
RDATE:20241027T020000
TZOFFSETFROM:+0100
TZOFFSETTO:+0200
TZNAME:Europe/Paris CEST
END:DAYLIGHT
BEGIN:DAYLIGHT
DTSTART:20250330T030000
RDATE:20251026T020000
TZOFFSETFROM:+0100
TZOFFSETTO:+0200
TZNAME:Europe/Paris CEST
END:DAYLIGHT
BEGIN:DAYLIGHT
DTSTART:20260329T030000
RDATE:20261025T020000
TZOFFSETFROM:+0100
TZOFFSETTO:+0200
TZNAME:Europe/Paris CEST
END:DAYLIGHT
END:VTIMEZONE
BEGIN:VEVENT
UID:f727775cefc433cd07140f65a0045ae3
CATEGORIES:Compétition Ski de Fond
CREATED:20190101T131313
SUMMARY:LA 16ème NORDIQUE DES CRETES Libre MARATHON SKI TOUR 4
URL;VALUE=URI:https://skivosges.net/agenda/a-venir/detailevenement/1253/-/la-16eme-nordiq
 ue-des-cretes-libre-marathon-ski-tour-4?tmpl=component
DESCRIPTION:LA 16ème NORDIQUE DES CRETES Libre MARATHON SKI TOUR 4\n - Codex évenement 
 FNAT0430\n - Station : MARKSTEIN\n - Organisateur : 14044 TOURING CLUB MULH
 OUSE\n - Courriel : RegularLabs.EmailProtector.unCloak("ep_d93bf1bf");\n - 
 Téléphone : 03 89 59 55 56\n - Délégué Technique : POIROT ERICPériode d'ins
 cription à l'evènement du dimanche 27 janvier 2019 à 00:00 au vendredi 01 f
 évrier 2019 à 12:00 (Inscriptions impossibles).Inscriptions ouvertes aux de
 tenteurs des titres Fédéraux valides suivants : Licenciés CompétiteursEpreu
 ves :\n - Le dimanche 03 février 2019\n - Codex épreuve FNAF0431\n - Fond P
 opulaire (depart en ligne)\n - Catégorie(s) : U20 a M12 (Dames)\n - Le dima
 nche 03 février 2019\n - Codex épreuve FNAM0431\n - Fond Populaire (depart 
 en ligne)\n - Catégorie(s) : U20 a M12 (Hommes)\n - Le dimanche 03 février 
 2019\n - Codex épreuve FNAF0432\n - Fond Populaire (depart en ligne)\n - Ca
 tégorie(s) : Senior a Master12 (Dames)\n - Le dimanche 03 février 2019\n - 
 Codex épreuve FNAM0432\n - Fond Populaire (depart en ligne)\n - Catégorie(s
 ) : Senior a Master12 (Hommes)\n - Voir les informations dans l'agenda... (
 /index.php?option=com_jevents&amp;task=icalevent.detail&amp;evid=1248&amp;I
 temid=6289)\n - Vers les résultats... (/index.php?option=com_gskiepreuves&a
 mp;view=afficheresultats&amp;format_option=tous&amp;filter[search]=FNAT0430
 &amp;filter[date_debut]=03-02-2019&amp;filter[date_fin]=03-02-2019&amp;code
 _activite=FOND&amp;Itemid=6289)\n - Publications concernant cet évènement :
 \n - Lundi 4 Février 2019 à 16:58 : Le 03/02/2019 LE MARKSTEIN Résultats Ce
 t évènement a été importé depuis :https://skivosges.net/agenda/a-venir/deta
 ilevenement/1253/-/la-16eme-nordique-des-cretes-libre-marathon-ski-tour-4?t
 mpl=component
X-ALT-DESC;FMTTYPE=text/html:<!-- #gskiepreuve code généré par le plugin jevents pour GskiEpreuves. Ne p
 as modifier cette ligne, ni tout le contenu suivant  #gskiepreuve --><div c
 lass="gski-evenement_infos"><div class="gski-evenement-nom">LA 16ème NORDIQ
 UE DES CRETES Libre MARATHON SKI TOUR 4</div><div class="gski-evenement-rep
 ort"></div><ul class="gski-evenement-liste-infos"><li>Codex évenement FNAT0
 430</li><li>Station : MARKSTEIN</li><li>Organisateur : 14044 TOURING CLUB M
 ULHOUSE</li><li>Courriel : <!-- Cette adresse électronique est protégée con
 tre les robots spammeurs. --><span class="cloaked_email ep_d93bf1bf"><span 
 data-ep-a="&#121;v&#101;&#115;" data-ep-b="t"><span data-ep-a="&#46;b&#111;
 &#117;" data-ep-b="&#114;&#46;&#110;&#101;"><span data-ep-a="&#118;&#105;&#
 101;&#114;" data-ep-b="&#64;&#101;&#118;h"></span></span></span></span><scr
 ipt>RegularLabs.EmailProtector.unCloak("ep_d93bf1bf");</script></li><li>Tél
 éphone : 03 89 59 55 56</li><li><span class="gski-evenement-obs">Délégué Te
 chnique : POIROT ERIC</span></li></ul><div class="gski-evenement-infos-2"><
 div class="gski-evenement-info-inscriptions"><div class="gski-evenement-ins
 criptions-periodes">Période d'inscription à l'evènement du dimanche 27 janv
 ier 2019 à 00:00 au vendredi 01 février 2019 à 12:00 <span class="gski-even
 ement-inscriptions-impossibles">(Inscriptions impossibles).</span><div clas
 s="gski-evenement-inscriptions-types-titres">Inscriptions ouvertes aux dete
 nteurs des titres Fédéraux valides suivants : Licenciés Compétiteurs</div><
 /div></div><div class="gski-evenement-epreuves"><div class="gski-evenement-
 epreuves-titres">Epreuves :</div><ul class="gski-evenement-epreuves-list"><
 li><div class="gski-epreuve-date">Le dimanche 03 février 2019</div><ul clas
 s="gski-epreuve-liste-infos"><li>Codex épreuve FNAF0431</li><li>Fond Popula
 ire (depart en ligne)</li><li>Catégorie(s) : U20 a M12 (Dames)</li></ul></l
 i><li><div class="gski-epreuve-date">Le dimanche 03 février 2019</div><ul c
 lass="gski-epreuve-liste-infos"><li>Codex épreuve FNAM0431</li><li>Fond Pop
 ulaire (depart en ligne)</li><li>Catégorie(s) : U20 a M12 (Hommes)</li></ul
 ></li><li><div class="gski-epreuve-date">Le dimanche 03 février 2019</div><
 ul class="gski-epreuve-liste-infos"><li>Codex épreuve FNAF0432</li><li>Fond
  Populaire (depart en ligne)</li><li>Catégorie(s) : Senior a Master12 (Dame
 s)</li></ul></li><li><div class="gski-epreuve-date">Le dimanche 03 février 
 2019</div><ul class="gski-epreuve-liste-infos"><li>Codex épreuve FNAM0432</
 li><li>Fond Populaire (depart en ligne)</li><li>Catégorie(s) : Senior a Mas
 ter12 (Hommes)</li></ul></li></ul></div><div class="gskiepreuves-links"><ul
 ><li><a href="https://skivosges.net/index.php?option=com_jevents&task=icale
 vent.detail&evid=1248&Itemid=6289">Voir les informations dans l'agenda...</
 a></li><li><a href="https://skivosges.net/index.php?option=com_gskiepreuves
 &view=afficheresultats&format_option=tous&filter[search]=FNAT0430&filter[da
 te_debut]=03-02-2019&filter[date_fin]=03-02-2019&code_activite=FOND&Itemid=
 6289">Vers les résultats...</a></li><li>Publications concernant cet évèneme
 nt :<ul><li><a href="https://skivosges.net/index.php?option=com_content&vie
 w=article&id=6646&Itemid=6289">Lundi 4 Février 2019 à 16:58 : Le 03/02/2019
  LE MARKSTEIN Résultats</a></li></ul></li></ul></div></div"><!-- #/gskiepre
 uve fin du dode généré par le plugin jevents pour GskiEpreuves. . Ne pas mo
 difier cette ligne, ni tout le contenu précedant.  #/gskiepreuve --> <a hre
 f="https://skivosges.net/agenda/a-venir/detailevenement/1253/-/la-16eme-nor
 dique-des-cretes-libre-marathon-ski-tour-4?tmpl=component">Cet évènement a 
 été importé depuis :https://skivosges.net/agenda/a-venir/detailevenement/12
 53/-/la-16eme-nordique-des-cretes-libre-marathon-ski-tour-4?tmpl=component<
 /a>DTSTAMP:20260423T174055
DTSTART;TZID=Europe/Paris;VALUE=DATE:20190203
DTEND;TZID=Europe/Paris;VALUE=DATE:20190204
SEQUENCE:0
TRANSP:OPAQUE
END:VEVENT
END:VCALENDAR