BEGIN:VCALENDAR
VERSION:2.0
PRODID:-//jEvents 2.0 for Joomla//EN
CALSCALE:GREGORIAN
METHOD:PUBLISH
BEGIN:VTIMEZONE
TZID:Europe/Paris
BEGIN:STANDARD
DTSTART:20130208T080000
RDATE:20130331T030000
TZOFFSETFROM:+0200
TZOFFSETTO:+0100
TZNAME:Europe/Paris CET
END:STANDARD
BEGIN:STANDARD
DTSTART:20131027T020000
RDATE:20140330T030000
TZOFFSETFROM:+0200
TZOFFSETTO:+0100
TZNAME:Europe/Paris CET
END:STANDARD
BEGIN:STANDARD
DTSTART:20141026T020000
RDATE:20150329T030000
TZOFFSETFROM:+0200
TZOFFSETTO:+0100
TZNAME:Europe/Paris CET
END:STANDARD
BEGIN:STANDARD
DTSTART:20151025T020000
RDATE:20160327T030000
TZOFFSETFROM:+0200
TZOFFSETTO:+0100
TZNAME:Europe/Paris CET
END:STANDARD
BEGIN:STANDARD
DTSTART:20161030T020000
RDATE:20170326T030000
TZOFFSETFROM:+0200
TZOFFSETTO:+0100
TZNAME:Europe/Paris CET
END:STANDARD
BEGIN:STANDARD
DTSTART:20171029T020000
RDATE:20180325T030000
TZOFFSETFROM:+0200
TZOFFSETTO:+0100
TZNAME:Europe/Paris CET
END:STANDARD
BEGIN:STANDARD
DTSTART:20181028T020000
RDATE:20190331T030000
TZOFFSETFROM:+0200
TZOFFSETTO:+0100
TZNAME:Europe/Paris CET
END:STANDARD
BEGIN:STANDARD
DTSTART:20191027T020000
RDATE:20200329T030000
TZOFFSETFROM:+0200
TZOFFSETTO:+0100
TZNAME:Europe/Paris CET
END:STANDARD
BEGIN:STANDARD
DTSTART:20201025T020000
RDATE:20210328T030000
TZOFFSETFROM:+0200
TZOFFSETTO:+0100
TZNAME:Europe/Paris CET
END:STANDARD
BEGIN:STANDARD
DTSTART:20211031T020000
RDATE:20220327T030000
TZOFFSETFROM:+0200
TZOFFSETTO:+0100
TZNAME:Europe/Paris CET
END:STANDARD
BEGIN:STANDARD
DTSTART:20221030T020000
RDATE:20230326T030000
TZOFFSETFROM:+0200
TZOFFSETTO:+0100
TZNAME:Europe/Paris CET
END:STANDARD
BEGIN:STANDARD
DTSTART:20231029T020000
RDATE:20240331T030000
TZOFFSETFROM:+0200
TZOFFSETTO:+0100
TZNAME:Europe/Paris CET
END:STANDARD
BEGIN:STANDARD
DTSTART:20241027T020000
RDATE:20250330T030000
TZOFFSETFROM:+0200
TZOFFSETTO:+0100
TZNAME:Europe/Paris CET
END:STANDARD
BEGIN:STANDARD
DTSTART:20251026T020000
RDATE:20260329T030000
TZOFFSETFROM:+0200
TZOFFSETTO:+0100
TZNAME:Europe/Paris CET
END:STANDARD
BEGIN:STANDARD
DTSTART:20261025T020000
RDATE:20270328T030000
TZOFFSETFROM:+0200
TZOFFSETTO:+0100
TZNAME:Europe/Paris CET
END:STANDARD
BEGIN:DAYLIGHT
DTSTART:20130331T030000
RDATE:20131027T020000
TZOFFSETFROM:+0100
TZOFFSETTO:+0200
TZNAME:Europe/Paris CEST
END:DAYLIGHT
BEGIN:DAYLIGHT
DTSTART:20140330T030000
RDATE:20141026T020000
TZOFFSETFROM:+0100
TZOFFSETTO:+0200
TZNAME:Europe/Paris CEST
END:DAYLIGHT
BEGIN:DAYLIGHT
DTSTART:20150329T030000
RDATE:20151025T020000
TZOFFSETFROM:+0100
TZOFFSETTO:+0200
TZNAME:Europe/Paris CEST
END:DAYLIGHT
BEGIN:DAYLIGHT
DTSTART:20160327T030000
RDATE:20161030T020000
TZOFFSETFROM:+0100
TZOFFSETTO:+0200
TZNAME:Europe/Paris CEST
END:DAYLIGHT
BEGIN:DAYLIGHT
DTSTART:20170326T030000
RDATE:20171029T020000
TZOFFSETFROM:+0100
TZOFFSETTO:+0200
TZNAME:Europe/Paris CEST
END:DAYLIGHT
BEGIN:DAYLIGHT
DTSTART:20180325T030000
RDATE:20181028T020000
TZOFFSETFROM:+0100
TZOFFSETTO:+0200
TZNAME:Europe/Paris CEST
END:DAYLIGHT
BEGIN:DAYLIGHT
DTSTART:20190331T030000
RDATE:20191027T020000
TZOFFSETFROM:+0100
TZOFFSETTO:+0200
TZNAME:Europe/Paris CEST
END:DAYLIGHT
BEGIN:DAYLIGHT
DTSTART:20200329T030000
RDATE:20201025T020000
TZOFFSETFROM:+0100
TZOFFSETTO:+0200
TZNAME:Europe/Paris CEST
END:DAYLIGHT
BEGIN:DAYLIGHT
DTSTART:20210328T030000
RDATE:20211031T020000
TZOFFSETFROM:+0100
TZOFFSETTO:+0200
TZNAME:Europe/Paris CEST
END:DAYLIGHT
BEGIN:DAYLIGHT
DTSTART:20220327T030000
RDATE:20221030T020000
TZOFFSETFROM:+0100
TZOFFSETTO:+0200
TZNAME:Europe/Paris CEST
END:DAYLIGHT
BEGIN:DAYLIGHT
DTSTART:20230326T030000
RDATE:20231029T020000
TZOFFSETFROM:+0100
TZOFFSETTO:+0200
TZNAME:Europe/Paris CEST
END:DAYLIGHT
BEGIN:DAYLIGHT
DTSTART:20240331T030000
RDATE:20241027T020000
TZOFFSETFROM:+0100
TZOFFSETTO:+0200
TZNAME:Europe/Paris CEST
END:DAYLIGHT
BEGIN:DAYLIGHT
DTSTART:20250330T030000
RDATE:20251026T020000
TZOFFSETFROM:+0100
TZOFFSETTO:+0200
TZNAME:Europe/Paris CEST
END:DAYLIGHT
BEGIN:DAYLIGHT
DTSTART:20260329T030000
RDATE:20261025T020000
TZOFFSETFROM:+0100
TZOFFSETTO:+0200
TZNAME:Europe/Paris CEST
END:DAYLIGHT
END:VTIMEZONE
BEGIN:VEVENT
UID:0c12416749025dad39d0e5f39850c8c3
CATEGORIES:Circuit Lorraine Jeunes (alpin)
CREATED:20131203T122100
SUMMARY:CLJ U10 àU14 PRIX CONFISERIE BRESSAUDE/ Cpe de Bronze
URL;VALUE=URI:https://skivosges.net/agenda/a-venir/detailevenement/126/-/clj-u10-au14-pri
 x-confiserie-bressaude-cpe-de-bronze?tmpl=component
DESCRIPTION:CLJ U10 àU14 PRIX CONFISERIE BRESSAUDE/ Cpe de Bronze \n(Coupe de Lorraine 
 Jeunes)\n\nLieu : ROUGE GAZON\nOrganisateur : UNION SPORTIVE BUSSANG  (1400
 7 UNION SPORTIVE BUSSANG)\nEmail : RegularLabs.EmailProtector.unCloak("ep_7
 32cc791");\nTelecopie : CLUB ST MAURICE\n\nLA COURSE AURA LIEU AU ROUGE GAZ
 ON \net EST MAINTENUE\ndepart 10h00 SL\n\nInscriptions closes, les listes d
 e départ sont visualisables sur ce site\n  Lieu:BUSSANG LARCENAIRE \n - AMV
 F0491  Slalom (Coupe de Bronze) U10 Filles\n  CLJ U10 àU14 Mémorial Maurice
  Grosjean / Cpe de Bronze\n  Lieu:BUSSANG LARCENAIRE \n - AMVM0491  Slalom 
 (Coupe de Bronze) U10 Garçons\n  CLJ U10 àU14 Mémorial Maurice Grosjean / C
 pe de Bronze\n  Lieu:BUSSANG LARCENAIRE \n - AMVF0492  Slalom (Coupe de Bro
 nze) U12 Filles\n  CLJ U10 àU14 Mémorial Maurice Grosjean / Cpe de Bronze\n
   Lieu:BUSSANG LARCENAIRE \n - AMVM0492  Slalom (Coupe de Bronze) U12 Garço
 ns\n  CLJ U10 àU14 Mémorial Maurice Grosjean / Cpe de Bronze\n  Lieu:BUSSAN
 G LARCENAIRE \n - AMVF0493  Slalom (Coupe de Bronze) U14 Filles\n  CLJ U10 
 àU14 Mémorial Maurice Grosjean / Cpe de Bronze\n  Lieu:BUSSANG LARCENAIRE \
 n - AMVM0493  Slalom (Coupe de Bronze) U14 Garçons\n  CLJ U10 àU14 Mémorial
  Maurice Grosjean / Cpe de Bronze Cet évènement a été importé depuis :https
 ://skivosges.net/agenda/a-venir/detailevenement/126/-/clj-u10-au14-prix-con
 fiserie-bressaude-cpe-de-bronze?tmpl=component
X-ALT-DESC;FMTTYPE=text/html:<strong>CLJ U10 àU14 PRIX CONFISERIE BRESSAUDE/ Cpe de Bronze</strong> <br 
 /><i>(Coupe de Lorraine Jeunes)</i><br /><br />Lieu : ROUGE GAZON<br />Orga
 nisateur : UNION SPORTIVE BUSSANG  <small>(14007 UNION SPORTIVE BUSSANG)</s
 mall><br />Email : <!-- Cette adresse électronique est protégée contre les 
 robots spammeurs. --><span class="cloaked_email ep_732cc791"><span data-ep-
 a="danie" data-ep-b=""><span data-ep-b="o&#111;&#46;&#102;&#114;" data-ep-a
 ="l.&#109;&#111;&#114;"><span data-ep-b="wa&#110;a&#100;" data-ep-a="e&#108
 ;25&#64;"></span></span></span></span><script>RegularLabs.EmailProtector.un
 Cloak("ep_732cc791");</script><br />Telecopie : CLUB ST MAURICE<br /><br />
 LA COURSE AURA LIEU AU ROUGE GAZON <br>et EST MAINTENUE<br>depart 10h00 SL<
 br /><br />Inscriptions closes, les listes de départ sont visualisables sur
  ce site<ul type="disc"><br />&nbsp;&nbsp;Lieu:BUSSANG LARCENAIRE <li>AMVF0
 491  Slalom <nobr><i>(Coupe de Bronze)</i></nobr> <nobr>U10</nobr> Filles<b
 r />&nbsp;&nbsp;CLJ U10 àU14 Mémorial Maurice Grosjean / Cpe de Bronze</li>
 <br />&nbsp;&nbsp;Lieu:BUSSANG LARCENAIRE <li>AMVM0491  Slalom <nobr><i>(Co
 upe de Bronze)</i></nobr> <nobr>U10</nobr> Garçons<br />&nbsp;&nbsp;CLJ U10
  àU14 Mémorial Maurice Grosjean / Cpe de Bronze</li><br />&nbsp;&nbsp;Lieu:
 BUSSANG LARCENAIRE <li>AMVF0492  Slalom <nobr><i>(Coupe de Bronze)</i></nob
 r> <nobr>U12</nobr> Filles<br />&nbsp;&nbsp;CLJ U10 àU14 Mémorial Maurice G
 rosjean / Cpe de Bronze</li><br />&nbsp;&nbsp;Lieu:BUSSANG LARCENAIRE <li>A
 MVM0492  Slalom <nobr><i>(Coupe de Bronze)</i></nobr> <nobr>U12</nobr> Garç
 ons<br />&nbsp;&nbsp;CLJ U10 àU14 Mémorial Maurice Grosjean / Cpe de Bronze
 </li><br />&nbsp;&nbsp;Lieu:BUSSANG LARCENAIRE <li>AMVF0493  Slalom <nobr><
 i>(Coupe de Bronze)</i></nobr> <nobr>U14</nobr> Filles<br />&nbsp;&nbsp;CLJ
  U10 àU14 Mémorial Maurice Grosjean / Cpe de Bronze</li><br />&nbsp;&nbsp;L
 ieu:BUSSANG LARCENAIRE <li>AMVM0493  Slalom <nobr><i>(Coupe de Bronze)</i><
 /nobr> <nobr>U14</nobr> Garçons<br />&nbsp;&nbsp;CLJ U10 àU14 Mémorial Maur
 ice Grosjean / Cpe de Bronze</li></ul> <a href="https://skivosges.net/agend
 a/a-venir/detailevenement/126/-/clj-u10-au14-prix-confiserie-bressaude-cpe-
 de-bronze?tmpl=component">Cet évènement a été importé depuis :https://skivo
 sges.net/agenda/a-venir/detailevenement/126/-/clj-u10-au14-prix-confiserie-
 bressaude-cpe-de-bronze?tmpl=component</a>DTSTAMP:20260424T030416
DTSTART;TZID=Europe/Paris:20140209T080000
DTEND;TZID=Europe/Paris:20140209T170000
SEQUENCE:0
TRANSP:OPAQUE
END:VEVENT
END:VCALENDAR